BEGIN:VCALENDAR
VERSION:2.0
PRODID:EVENTFROG//EVENT//ICAL
BEGIN:VEVENT
UID:20260424T192437Z-7453447120420356800@eventfrog.de
DTSTAMP:20260424T192437Z
DTSTART:20260520T130000Z
DTEND:20260520T150000Z
SUMMARY:Offenes Atelier für Gross und Klein
DESCRIPTION:Das Offene Atelier schafft einen Rahmen für kreative Betätigung und Begegnung – ein Angebot für Gross und Klein, besonders auch für Familien.\n\nhttps://eventfrog.de/de/p/kunst-ausstellungen/weitere-kunstveranstaltungen/offenes-atelier-fuer-gross-und-klein-7453447120420356800.html
LOCATION:Kunstmuseum Olten
GEO:47.349985;7.901622
URL:https://eventfrog.de/de/p/kunst-ausstellungen/weitere-kunstveranstaltungen/offenes-atelier-fuer-gross-und-klein-7453447120420356800.html
END:VEVENT
END:VCALENDAR