BEGIN:VCALENDAR
VERSION:2.0
PRODID:EVENTFROG//EVENT//ICAL
BEGIN:VEVENT
UID:20260424T235618Z-7453506296374944783@eventfrog.de
DTSTAMP:20260424T235618Z
DTSTART:20260430T170000Z
DTEND:20260430T190000Z
SUMMARY:Kammerkonzert Vogler-Quartett
DESCRIPTION:Das Vogler-Quartett und In-Kun Park spielen am 30. April Haydns «Vogelquartett», Korngolds 2. Streichquartett und Brahms Klavierquintett f-Moll in der Dornse am Altstadtmarkt inBraunschweig.\n\nhttps://eventfrog.de/de/p/klassik-opern/klassik/kammerkonzert-vogler-quartett-7453506296374944783.html
LOCATION:Dornse im Altstadtrathaus
GEO:52.262952;10.517651
URL:https://eventfrog.de/de/p/klassik-opern/klassik/kammerkonzert-vogler-quartett-7453506296374944783.html
END:VEVENT
END:VCALENDAR