BEGIN:VCALENDAR
VERSION:2.0
PRODID:EVENTFROG//EVENT//ICAL
BEGIN:VEVENT
UID:20260425T160459Z-7453539279257494002@eventfrog.de
DTSTAMP:20260425T160459Z
DTSTART:20260430T120000Z
DTEND:20260430T140000Z
SUMMARY:Contemporary Dance class
DESCRIPTION:Will you have this dance with us? We're taking you to Drei Weihern for a contemporary dance class : open to all levels, with wine and snacks included.\n\nhttps://eventfrog.de/en/p/courses-seminars/art-culture/contemporary-dance-class-7453539279257494002.html
LOCATION:Drei Weieren
GEO:47.421457;9.386639
URL:https://eventfrog.de/en/p/courses-seminars/art-culture/contemporary-dance-class-7453539279257494002.html
END:VEVENT
END:VCALENDAR