BEGIN:VCALENDAR
VERSION:2.0
PRODID:EVENTFROG//EVENT//ICAL
BEGIN:VEVENT
UID:20260425T023534Z-7453542005781600236@eventfrog.de
DTSTAMP:20260425T023534Z
DTSTART:20260425T140000Z
DTEND:20260425T153000Z
SUMMARY:Podiumsdiskussion - Ausstellung "After Oil!"
DESCRIPTION:Podiumsdiskussion im Rahmen der Ausstellung "After Oil!" und Austausch bei Kaffee und Kuchen.\n\nhttps://eventfrog.de/de/p/kunst-ausstellungen/weitere-kunstveranstaltungen/podiumsdiskussion-ausstellung-after-oil-7453542005781600236.html
LOCATION:Rotes Haus
GEO:47.041400;8.310910
URL:https://eventfrog.de/de/p/kunst-ausstellungen/weitere-kunstveranstaltungen/podiumsdiskussion-ausstellung-after-oil-7453542005781600236.html
END:VEVENT
END:VCALENDAR