BEGIN:VCALENDAR
VERSION:2.0
PRODID:EVENTFROG//EVENT//ICAL
BEGIN:VEVENT
UID:20260425T155638Z-7453558564738625727@eventfrog.de
DTSTAMP:20260425T155638Z
DTSTART:20260604T080000Z
DTEND:20260604T170000Z
SUMMARY:Access Bars Therapy – Deep Mental Reset (Zurich)
DESCRIPTION: Access Bars® sessions in Zurich for deep mental reset, stress relief and better sleep.\n\nhttps://eventfrog.de/en/p/health-spirituality/health-wellbeing/access-bars-therapy-deep-mental-reset-zurich-7453558564738625727.html
LOCATION:Wird noch angekündigt
URL:https://eventfrog.de/en/p/health-spirituality/health-wellbeing/access-bars-therapy-deep-mental-reset-zurich-7453558564738625727.html
END:VEVENT
END:VCALENDAR