BEGIN:VCALENDAR
VERSION:2.0
PRODID:EVENTFROG//EVENT//ICAL
BEGIN:VEVENT
UID:20260425T203308Z-7453563486725006766@eventfrog.de
DTSTAMP:20260425T203308Z
DTSTART:20260603T220000Z
DTEND:20260630T215900Z
SUMMARY:Frauenfeld als Hauptstadt der Eidgenossenschaft
DESCRIPTION:Frauenfeld als Hauptstadt der Eidgenossenschaft\n\nhttps://eventfrog.de/de/p/wissenschaft-und-technik/frauenfeld-als-hauptstadt-der-eidgenossenschaft-7453563486725006766.html
LOCATION:Staatsarchiv Thurgau
GEO:47.559071;8.900483
URL:https://eventfrog.de/de/p/wissenschaft-und-technik/frauenfeld-als-hauptstadt-der-eidgenossenschaft-7453563486725006766.html
END:VEVENT
END:VCALENDAR