BEGIN:VCALENDAR
VERSION:2.0
PRODID:EVENTFROG//EVENT//ICAL
BEGIN:VEVENT
UID:20260425T203305Z-7453563487127659954@eventfrog.de
DTSTAMP:20260425T203305Z
DTSTART:20260611T103000Z
DTEND:20260611T110000Z
SUMMARY:Frauenfeld als Hauptstadt der Eidgenossenschaft
DESCRIPTION:Frauenfeld als Hauptstadt der Eidgenossenschaft\n\nhttps://eventfrog.de/de/p/wissenschaft-und-technik/frauenfeld-als-hauptstadt-der-eidgenossenschaft-7453563487127659954.html
LOCATION:Staatsarchiv Thurgau
GEO:47.559071;8.900483
URL:https://eventfrog.de/de/p/wissenschaft-und-technik/frauenfeld-als-hauptstadt-der-eidgenossenschaft-7453563487127659954.html
END:VEVENT
END:VCALENDAR