BEGIN:VCALENDAR
VERSION:2.0
PRODID:EVENTFROG//EVENTGROUP//ICAL
BEGIN:VEVENT
UID:20260420T053931Z-7417543828779885833@eventfrog.de
DTSTAMP:20260420T053931Z
DTSTART:20260425T080000Z
DTEND:20260425T160000Z
SUMMARY:Dino Expo & Show Bürgerhaus Backnang
DESCRIPTION: Dinosaurier-Ausstellung\nmit beweglichen Dinosauriern\n\n Bürgerhaus Backnang\n Samstag 25.04.2026\n Sonntag, 26.04.2026\n Öffnungszeiten: 10:00 – 18:00 Uhr\n\nhttps://eventfrog.de/de/p/kinderveranstaltungen/familienveranstaltungen/dino-expo-show-buergerhaus-backnang-7417543828779885833.html
LOCATION:Bürgerhaus Backnang
GEO:48.943883;9.429268
URL:https://eventfrog.de/de/p/kinderveranstaltungen/familienveranstaltungen/dino-expo-show-buergerhaus-backnang-7417543828779885833.html
END:VEVENT
BEGIN:VEVENT
UID:20260420T053931Z-7417543949957473476@eventfrog.de
DTSTAMP:20260420T053931Z
DTSTART:20260426T080000Z
DTEND:20260426T160000Z
SUMMARY:Dino Expo & Show Bürgerhaus Backnang
DESCRIPTION: Dinosaurier-Ausstellung\nmit beweglichen Dinosauriern\n\n Bürgerhaus Backnang\n Samstag 25.04.2026\n Sonntag, 26.04.2026\n Öffnungszeiten: 10:00 – 18:00 Uhr\n\nhttps://eventfrog.de/de/p/kinderveranstaltungen/familienveranstaltungen/dino-expo-show-buergerhaus-backnang-7417543949957473476.html
LOCATION:Bürgerhaus Backnang
GEO:48.943883;9.429268
URL:https://eventfrog.de/de/p/kinderveranstaltungen/familienveranstaltungen/dino-expo-show-buergerhaus-backnang-7417543949957473476.html
END:VEVENT
END:VCALENDAR