BEGIN:VCALENDAR
VERSION:2.0
PRODID:EVENTFROG//EVENTGROUP//ICAL
BEGIN:VEVENT
UID:20260419T162416Z-7420842221526585860@eventfrog.de
DTSTAMP:20260419T162416Z
DTSTART:20260425T050000Z
DTEND:20260425T140000Z
SUMMARY:Flohmarkt in Mengen am Festplatz
DESCRIPTION:Flohmarkt mit Schmuck, Kleidung und Haushaltswaren am Samstag 7-16 Uhr \n\nhttps://eventfrog.de/de/p/maerkte/flohmarkt/flohmarkt-in-mengen-am-festplatz-7420842221526585860.html
LOCATION:Mengen Festplatz
GEO:48.046865;9.323290
URL:https://eventfrog.de/de/p/maerkte/flohmarkt/flohmarkt-in-mengen-am-festplatz-7420842221526585860.html
END:VEVENT
BEGIN:VEVENT
UID:20260419T162416Z-7420842154757456057@eventfrog.de
DTSTAMP:20260419T162416Z
DTSTART:20260829T050000Z
DTEND:20260829T140000Z
SUMMARY:Flohmarkt in Mengen am Festplatz
DESCRIPTION:Flohmarkt mit Schmuck, Kleidung und Haushaltswaren am Samstag 7-16 Uhr \n\nhttps://eventfrog.de/de/p/maerkte/flohmarkt/flohmarkt-in-mengen-am-festplatz-7420842154757456057.html
LOCATION:Mengen Festplatz
GEO:48.046865;9.323290
URL:https://eventfrog.de/de/p/maerkte/flohmarkt/flohmarkt-in-mengen-am-festplatz-7420842154757456057.html
END:VEVENT
BEGIN:VEVENT
UID:20260419T162416Z-7429834275300611421@eventfrog.de
DTSTAMP:20260419T162416Z
DTSTART:20260927T080000Z
DTEND:20260927T150000Z
SUMMARY:Flohmarkt in Mengen am Festplatz
DESCRIPTION:Flohmarkt mit Schmuck, Kleidung und Haushaltswaren am Samstag 7-16 Uhr \n\nhttps://eventfrog.de/de/p/maerkte/flohmarkt/flohmarkt-in-mengen-am-festplatz-7429834275300611421.html
LOCATION:Mengen Festplatz
GEO:48.046865;9.323290
URL:https://eventfrog.de/de/p/maerkte/flohmarkt/flohmarkt-in-mengen-am-festplatz-7429834275300611421.html
END:VEVENT
BEGIN:VEVENT
UID:20260419T162416Z-7420842221652415622@eventfrog.de
DTSTAMP:20260419T162416Z
DTSTART:20261024T050000Z
DTEND:20261024T140000Z
SUMMARY:Flohmarkt in Mengen am Festplatz
DESCRIPTION:Flohmarkt mit Schmuck, Kleidung und Haushaltswaren am Samstag 7-16 Uhr \n\nhttps://eventfrog.de/de/p/maerkte/flohmarkt/flohmarkt-in-mengen-am-festplatz-7420842221652415622.html
LOCATION:Mengen Festplatz
GEO:48.046865;9.323290
URL:https://eventfrog.de/de/p/maerkte/flohmarkt/flohmarkt-in-mengen-am-festplatz-7420842221652415622.html
END:VEVENT
END:VCALENDAR