BEGIN:VCALENDAR
VERSION:2.0
PRODID:EVENTFROG//EVENTGROUP//ICAL
BEGIN:VEVENT
UID:20260423T235238Z-7431003073017817120@eventfrog.de
DTSTAMP:20260423T235238Z
DTSTART:20260424T173000Z
DTEND:20260424T183000Z
SUMMARY:"Der Mond"
DESCRIPTION:Die Theatergruppe TOBAK der inklusiven Kulturfabrik KUFA zeigt «Der Mond», eine freie Bearbeitung des Grimm-Märchens.\n\nhttps://eventfrog.de/de/p/theater-buehne/theater/der-mond-7431003073017817120.html
LOCATION:KUFA Kultur für Alle
GEO:49.899227;10.921699
URL:https://eventfrog.de/de/p/theater-buehne/theater/der-mond-7431003073017817120.html
END:VEVENT
BEGIN:VEVENT
UID:20260423T235238Z-7431003264592668734@eventfrog.de
DTSTAMP:20260423T235238Z
DTSTART:20260425T173000Z
DTEND:20260425T183000Z
SUMMARY:"Der Mond"
DESCRIPTION:Die Theatergruppe TOBAK der inklusiven Kulturfabrik KUFA zeigt «Der Mond», eine freie Bearbeitung des Grimm-Märchens.\n\nhttps://eventfrog.de/de/p/theater-buehne/theater/der-mond-7431003264592668734.html
LOCATION:KUFA Kultur für Alle
GEO:49.899227;10.921699
URL:https://eventfrog.de/de/p/theater-buehne/theater/der-mond-7431003264592668734.html
END:VEVENT
BEGIN:VEVENT
UID:20260423T235238Z-7431003264764635824@eventfrog.de
DTSTAMP:20260423T235238Z
DTSTART:20260426T173000Z
DTEND:20260426T183000Z
SUMMARY:"Der Mond"
DESCRIPTION:Die Theatergruppe TOBAK der inklusiven Kulturfabrik KUFA zeigt «Der Mond», eine freie Bearbeitung des Grimm-Märchens.\n\nhttps://eventfrog.de/de/p/theater-buehne/theater/der-mond-7431003264764635824.html
LOCATION:KUFA Kultur für Alle
GEO:49.899227;10.921699
URL:https://eventfrog.de/de/p/theater-buehne/theater/der-mond-7431003264764635824.html
END:VEVENT
END:VCALENDAR