BEGIN:VCALENDAR
VERSION:2.0
PRODID:EVENTFROG//EVENTGROUP//ICAL
BEGIN:VEVENT
UID:20260422T084152Z-7432797718358019308@eventfrog.de
DTSTAMP:20260422T084152Z
DTSTART:20260605T160000Z
DTEND:20260606T000000Z
SUMMARY:Ackerfestival Heescht 2026
DESCRIPTION:Das Ackerfestival Heescht bietet vom 4. bis 6. Juni Biergarten, EDM und Schlager am Rande Hainstadts unter freiem Himmel.\n\nhttps://eventfrog.de/de/p/festivals/weitere-festivals/ackerfestival-heescht-2026-7432797718358019308.html
LOCATION:AFH Gelände
GEO:49.565862;9.329209
URL:https://eventfrog.de/de/p/festivals/weitere-festivals/ackerfestival-heescht-2026-7432797718358019308.html
END:VEVENT
BEGIN:VEVENT
UID:20260422T084152Z-7432797782337935659@eventfrog.de
DTSTAMP:20260422T084152Z
DTSTART:20260606T160000Z
DTEND:20260607T000000Z
SUMMARY:Ackerfestival Heescht 2026
DESCRIPTION:Das Ackerfestival Heescht verwandelt eine Wiese bei Hainstadt von 4.-6.6. in ein Open-Air mit Biergarten, EDM-Beats und Schlagermusik.\n\nhttps://eventfrog.de/de/p/festivals/weitere-festivals/ackerfestival-heescht-2026-7432797782337935659.html
LOCATION:AFH Gelände
GEO:49.565862;9.329209
URL:https://eventfrog.de/de/p/festivals/weitere-festivals/ackerfestival-heescht-2026-7432797782337935659.html
END:VEVENT
END:VCALENDAR