BEGIN:VCALENDAR
VERSION:2.0
PRODID:EVENTFROG//EVENTGROUP//ICAL
BEGIN:VEVENT
UID:20260421T151753Z-7445038085358811521@eventfrog.de
DTSTAMP:20260421T151753Z
DTSTART:20260605T060000Z
DTEND:20260605T150000Z
SUMMARY:Deutsche Meisterschaften Schwimmerischer Mehrkampf 2026 Tag1
DESCRIPTION:Deutsche Meisterschaften Schwimmerischer Mehrkampf\n\nhttps://eventfrog.de/de/p/sport-fitness/schwimmen/deutsche-meisterschaften-schwimmerischer-mehrkampf-2026-tag1-7445038085358811521.html
LOCATION:Rheinbad Hallen + Freibad
GEO:51.265368;6.732713
URL:https://eventfrog.de/de/p/sport-fitness/schwimmen/deutsche-meisterschaften-schwimmerischer-mehrkampf-2026-tag1-7445038085358811521.html
END:VEVENT
BEGIN:VEVENT
UID:20260421T151753Z-7445038595558095255@eventfrog.de
DTSTAMP:20260421T151753Z
DTSTART:20260606T060000Z
DTEND:20260606T150000Z
SUMMARY:Deutsche Meisterschaften Schwimmerischer Mehrkampf 2026 Tag2
DESCRIPTION:Deutsche Meisterschaften Schwimmerischer Mehrkampf\n\nhttps://eventfrog.de/de/p/sport-fitness/schwimmen/deutsche-meisterschaften-schwimmerischer-mehrkampf-2026-tag2-7445038595558095255.html
LOCATION:Rheinbad Hallen + Freibad
GEO:51.265368;6.732713
URL:https://eventfrog.de/de/p/sport-fitness/schwimmen/deutsche-meisterschaften-schwimmerischer-mehrkampf-2026-tag2-7445038595558095255.html
END:VEVENT
BEGIN:VEVENT
UID:20260421T151753Z-7445038595621009816@eventfrog.de
DTSTAMP:20260421T151753Z
DTSTART:20260607T060000Z
DTEND:20260607T150000Z
SUMMARY:Deutsche Meisterschaften Schwimmerischer Mehrkampf 2026 Tag3
DESCRIPTION:Deutsche Meisterschaften Schwimmerischer Mehrkampf\n\nhttps://eventfrog.de/de/p/sport-fitness/schwimmen/deutsche-meisterschaften-schwimmerischer-mehrkampf-2026-tag3-7445038595621009816.html
LOCATION:Rheinbad Hallen + Freibad
GEO:51.265368;6.732713
URL:https://eventfrog.de/de/p/sport-fitness/schwimmen/deutsche-meisterschaften-schwimmerischer-mehrkampf-2026-tag3-7445038595621009816.html
END:VEVENT
END:VCALENDAR