BEGIN:VCALENDAR
VERSION:2.0
PRODID:EVENTFROG//EVENTGROUP//ICAL
BEGIN:VEVENT
UID:20260424T232556Z-7447725021579973003@eventfrog.de
DTSTAMP:20260424T232556Z
DTSTART:20260425T173000Z
DTEND:20260425T200000Z
SUMMARY:Ein wenig Farbe - Das Kammermusical
DESCRIPTION:EIN WENIG FARBE – Ein Musical über Identität, Mut und die Suche nach dem eigenen Ich\n\nhttps://eventfrog.de/de/p/theater-buehne/theater/ein-wenig-farbe-das-kammermusical-7447725021579973003.html
LOCATION:KatiElli Theater
GEO:51.628273;7.324352
URL:https://eventfrog.de/de/p/theater-buehne/theater/ein-wenig-farbe-das-kammermusical-7447725021579973003.html
END:VEVENT
BEGIN:VEVENT
UID:20260424T232556Z-7447725209363164665@eventfrog.de
DTSTAMP:20260424T232556Z
DTSTART:20260620T173000Z
DTEND:20260620T200000Z
SUMMARY:Ein wenig Farbe - Das Kammermusical
DESCRIPTION:EIN WENIG FARBE – Ein Musical über Identität, Mut und die Suche nach dem eigenen Ich\n\nhttps://eventfrog.de/de/p/theater-buehne/theater/ein-wenig-farbe-das-kammermusical-7447725209363164665.html
LOCATION:KatiElli Theater
GEO:51.628273;7.324352
URL:https://eventfrog.de/de/p/theater-buehne/theater/ein-wenig-farbe-das-kammermusical-7447725209363164665.html
END:VEVENT
END:VCALENDAR