BEGIN:VCALENDAR
VERSION:2.0
PRODID:EVENTFROG//EVENTGROUP//ICAL
BEGIN:VEVENT
UID:20260422T193859Z-7448021346645229574@eventfrog.de
DTSTAMP:20260422T193859Z
DTSTART:20260522T173000Z
SUMMARY:Zirkus Chnopf - UFE
DESCRIPTION:UFE ist die neuste Produktion vom Zirkus Chnopf mit 5 Profis und 5 Jugendlichen und jungen Artist:innen zwischen 14 und 23 - unter freiem Himmel.\n\nhttps://eventfrog.de/de/p/musicals-shows/zirkus/zirkus-chnopf-ufe-7448021346645229574.html
LOCATION:Koch-Park
GEO:47.381515;8.493936
URL:https://eventfrog.de/de/p/musicals-shows/zirkus/zirkus-chnopf-ufe-7448021346645229574.html
END:VEVENT
BEGIN:VEVENT
UID:20260422T193859Z-7452655664025872419@eventfrog.de
DTSTAMP:20260422T193859Z
DTSTART:20260523T173000Z
SUMMARY:Zirkus Chnopf - UFE
DESCRIPTION:UFE ist die neuste Produktion vom Zirkus Chnopf mit 5 Profis und 5 Jugendlichen und jungen Artist:innen zwischen 14 und 23 - unter freiem Himmel.\n\nhttps://eventfrog.de/de/p/musicals-shows/zirkus/zirkus-chnopf-ufe-7452655664025872419.html
LOCATION:Koch-Park
GEO:47.381515;8.493936
URL:https://eventfrog.de/de/p/musicals-shows/zirkus/zirkus-chnopf-ufe-7452655664025872419.html
END:VEVENT
BEGIN:VEVENT
UID:20260422T193859Z-7452655969962621308@eventfrog.de
DTSTAMP:20260422T193859Z
DTSTART:20260524T143000Z
SUMMARY:Zirkus Chnopf - UFE
DESCRIPTION:UFE ist die neuste Produktion vom Zirkus Chnopf mit 5 Profis und 5 Jugendlichen und jungen Artist:innen zwischen 14 und 23 - unter freiem Himmel.\n\nhttps://eventfrog.de/de/p/musicals-shows/zirkus/zirkus-chnopf-ufe-7452655969962621308.html
LOCATION:Koch-Park
GEO:47.381515;8.493936
URL:https://eventfrog.de/de/p/musicals-shows/zirkus/zirkus-chnopf-ufe-7452655969962621308.html
END:VEVENT
END:VCALENDAR