BEGIN:VCALENDAR
VERSION:2.0
PRODID:EVENTFROG//EVENTGROUP//ICAL
BEGIN:VEVENT
UID:20260424T093327Z-7449434935335617377@eventfrog.de
DTSTAMP:20260424T093327Z
DTSTART:20260522T140000Z
DTEND:20260522T160000Z
SUMMARY:Circus Luna in der Schule Uttigen
DESCRIPTION:Aufführungen des Schul-Zirkus im Rahmen der Zirkus-Projektwoche für Familien und Freunde der Schulkinder von Uttigen.\n\nhttps://eventfrog.de/de/p/musicals-shows/zirkus/circus-luna-in-der-schule-uttigen-7449434935335617377.html
LOCATION:Schule Uttigen (keine Parkmöglichkeiten am Schulhaus)
GEO:46.795685;7.578624
URL:https://eventfrog.de/de/p/musicals-shows/zirkus/circus-luna-in-der-schule-uttigen-7449434935335617377.html
END:VEVENT
BEGIN:VEVENT
UID:20260424T093327Z-7449438777901102947@eventfrog.de
DTSTAMP:20260424T093327Z
DTSTART:20260522T170000Z
DTEND:20260522T190000Z
SUMMARY:Circus Luna in der Schule Uttigen
DESCRIPTION:Aufführungen des Schul-Zirkus im Rahmen der Zirkus-Projektwoche für Familien und Freunde der Schulkinder von Uttigen.\n\nBitte beachten: Es wird keine Parkmöglichkeiten am Schulhaus geben.\n\nhttps://eventfrog.de/de/p/musicals-shows/zirkus/circus-luna-in-der-schule-uttigen-7449438777901102947.html
LOCATION:Schule Uttigen (keine Parkmöglichkeiten am Schulhaus)
GEO:46.795685;7.578624
URL:https://eventfrog.de/de/p/musicals-shows/zirkus/circus-luna-in-der-schule-uttigen-7449438777901102947.html
END:VEVENT
BEGIN:VEVENT
UID:20260424T093327Z-7449438121718980027@eventfrog.de
DTSTAMP:20260424T093327Z
DTSTART:20260523T083000Z
DTEND:20260523T103000Z
SUMMARY:Circus Luna in der Schule Uttigen
DESCRIPTION:Aufführungen des Schul-Zirkus im Rahmen der Zirkus-Projektwoche für Familien und Freunde der Schulkinder von Uttigen.\n\nhttps://eventfrog.de/de/p/musicals-shows/zirkus/circus-luna-in-der-schule-uttigen-7449438121718980027.html
LOCATION:Schule Uttigen (keine Parkmöglichkeiten am Schulhaus)
GEO:46.795685;7.578624
URL:https://eventfrog.de/de/p/musicals-shows/zirkus/circus-luna-in-der-schule-uttigen-7449438121718980027.html
END:VEVENT
END:VCALENDAR