BEGIN:VCALENDAR
VERSION:2.0
PRODID:EVENTFROG//EVENTGROUP//ICAL
BEGIN:VEVENT
UID:20260419T143140Z-7449723747483826292@eventfrog.de
DTSTAMP:20260419T143140Z
DTSTART:20260425T080000Z
DTEND:20260425T160000Z
SUMMARY:28. Olivenöl-Abholtage in Wilstedt – Ausflug Bremen/Hamburg
DESCRIPTION:In Wilstedt treffen sich Olivier-Familien aus Südeuropa zu den Olivenöl-Abholtagen mit Ölverkostung und Markt in familiärer Atmosphäre. Größtes Olivenölfest Deutschlands. Über 70 weitere Marktstände.\n\nhttps://eventfrog.de/de/p/freizeit-ausfluege/sonstige-veranstaltungen/28-olivenoel-abholtage-in-wilstedt-ausflug-bremen-hamburg-7449723747483826292.html
LOCATION:Olivenöl-Abholtage der arteFakt Handelsagentur für Erzeuger-Verbraucher-Ideen eG
GEO:53.195771;9.097316
URL:https://eventfrog.de/de/p/freizeit-ausfluege/sonstige-veranstaltungen/28-olivenoel-abholtage-in-wilstedt-ausflug-bremen-hamburg-7449723747483826292.html
END:VEVENT
BEGIN:VEVENT
UID:20260419T143140Z-7449724359097191143@eventfrog.de
DTSTAMP:20260419T143140Z
DTSTART:20260426T080000Z
DTEND:20260426T160000Z
SUMMARY:28. Olivenölabholtage am 25. + 26. April 2026 in Wilstedt
DESCRIPTION:In Wilstedt treffen sich Olivier-Familien aus Südeuropa zu den Olivenöl-Abholtagen mit Ölverkostung und Markt in familiärer Atmosphäre. Größtes Olivenölfest Deutschlands. Über 70 weitere Marktstände.\n\nhttps://eventfrog.de/de/p/freizeit-ausfluege/sonstige-veranstaltungen/28-olivenoelabholtage-am-25-26-april-2026-in-wilstedt-7449724359097191143.html
LOCATION:Olivenöl-Abholtage der arteFakt Handelsagentur für Erzeuger-Verbraucher-Ideen eG
GEO:53.195771;9.097316
URL:https://eventfrog.de/de/p/freizeit-ausfluege/sonstige-veranstaltungen/28-olivenoelabholtage-am-25-26-april-2026-in-wilstedt-7449724359097191143.html
END:VEVENT
END:VCALENDAR