BEGIN:VCALENDAR
VERSION:2.0
PRODID:EVENTFROG//EVENTGROUP//ICAL
BEGIN:VEVENT
UID:20260419T180440Z-7449773380088159885@eventfrog.de
DTSTAMP:20260419T180440Z
DTSTART:20260421T133000Z
DTEND:20260421T150000Z
SUMMARY:Offene Theater- und Bewegungsgruppe in Osnabrück. Mitmachen
DESCRIPTION:Offene Theater- und Bewegungsgruppe in Osnabrück. Mitmachen, ausprobieren und kreativ sein – keine Erfahrung nötig.\n\nhttps://eventfrog.de/de/p/theater-buehne/theater/offene-theater-und-bewegungsgruppe-in-osnabrueck-mitmachen-7449773380088159885.html
LOCATION:Lagerhalle
GEO:52.276139;8.039438
URL:https://eventfrog.de/de/p/theater-buehne/theater/offene-theater-und-bewegungsgruppe-in-osnabrueck-mitmachen-7449773380088159885.html
END:VEVENT
BEGIN:VEVENT
UID:20260419T180440Z-7449774724907794488@eventfrog.de
DTSTAMP:20260419T180440Z
DTSTART:20260428T133000Z
DTEND:20260428T150000Z
SUMMARY:Offene Theater- und Bewegungsgruppe in Osnabrück. Mitmachen
DESCRIPTION:Offene Theater- und Bewegungsgruppe in Osnabrück. Mitmachen, ausprobieren und kreativ sein – keine Erfahrung nötig.\n\nhttps://eventfrog.de/de/p/theater-buehne/theater/offene-theater-und-bewegungsgruppe-in-osnabrueck-mitmachen-7449774724907794488.html
LOCATION:Lagerhalle
GEO:52.276139;8.039438
URL:https://eventfrog.de/de/p/theater-buehne/theater/offene-theater-und-bewegungsgruppe-in-osnabrueck-mitmachen-7449774724907794488.html
END:VEVENT
END:VCALENDAR