BEGIN:VCALENDAR
VERSION:2.0
PRODID:EVENTFROG//EVENTGROUP//ICAL
BEGIN:VEVENT
UID:20260419T154444Z-7450141248378156154@eventfrog.de
DTSTAMP:20260419T154444Z
DTSTART:20260421T170000Z
DTEND:20260421T180000Z
SUMMARY:Dauerstress? Mentale Klarheit trotz voller Verantwortung
DESCRIPTION:Onlinekurs über 6 Wochen vermittelt die Coué-Methode zur bewussten Gedankenführung für mehr Ruhe und Selbstbestimmung.\n\nhttps://eventfrog.de/de/p/gesundheit-spiritualitaet/gesundheit-wohlbefinden/dauerstress-mentale-klarheit-trotz-voller-verantwortung-7450141248378156154.html
LOCATION:Raus aus dem Dauerstress
URL:https://eventfrog.de/de/p/gesundheit-spiritualitaet/gesundheit-wohlbefinden/dauerstress-mentale-klarheit-trotz-voller-verantwortung-7450141248378156154.html
END:VEVENT
BEGIN:VEVENT
UID:20260419T154444Z-7450141587651190495@eventfrog.de
DTSTAMP:20260419T154444Z
DTSTART:20260428T170000Z
DTEND:20260428T180000Z
SUMMARY:Dauerstress? Mentale Klarheit trotz voller Verantwortung
DESCRIPTION:Onlinekurs über 6 Wochen vermittelt die Coué-Methode zur bewussten Gedankenführung für mehr Ruhe und Selbstbestimmung.\n\nhttps://eventfrog.de/de/p/gesundheit-spiritualitaet/gesundheit-wohlbefinden/dauerstress-mentale-klarheit-trotz-voller-verantwortung-7450141587651190495.html
LOCATION:Raus aus dem Dauerstress
URL:https://eventfrog.de/de/p/gesundheit-spiritualitaet/gesundheit-wohlbefinden/dauerstress-mentale-klarheit-trotz-voller-verantwortung-7450141587651190495.html
END:VEVENT
BEGIN:VEVENT
UID:20260419T154444Z-7450141587890266449@eventfrog.de
DTSTAMP:20260419T154444Z
DTSTART:20260505T170000Z
DTEND:20260505T180000Z
SUMMARY:Dauerstress? Mentale Klarheit trotz voller Verantwortung
DESCRIPTION:Onlinekurs über 6 Wochen vermittelt die Coué-Methode zur bewussten Gedankenführung für mehr Ruhe und Selbstbestimmung.\n\nhttps://eventfrog.de/de/p/gesundheit-spiritualitaet/gesundheit-wohlbefinden/dauerstress-mentale-klarheit-trotz-voller-verantwortung-7450141587890266449.html
LOCATION:Raus aus dem Dauerstress
URL:https://eventfrog.de/de/p/gesundheit-spiritualitaet/gesundheit-wohlbefinden/dauerstress-mentale-klarheit-trotz-voller-verantwortung-7450141587890266449.html
END:VEVENT
BEGIN:VEVENT
UID:20260419T154444Z-7450141588041261590@eventfrog.de
DTSTAMP:20260419T154444Z
DTSTART:20260512T170000Z
DTEND:20260512T180000Z
SUMMARY:Dauerstress? Mentale Klarheit trotz voller Verantwortung
DESCRIPTION:Onlinekurs über 6 Wochen vermittelt die Coué-Methode zur bewussten Gedankenführung für mehr Ruhe und Selbstbestimmung.\n\nhttps://eventfrog.de/de/p/gesundheit-spiritualitaet/gesundheit-wohlbefinden/dauerstress-mentale-klarheit-trotz-voller-verantwortung-7450141588041261590.html
LOCATION:Raus aus dem Dauerstress
URL:https://eventfrog.de/de/p/gesundheit-spiritualitaet/gesundheit-wohlbefinden/dauerstress-mentale-klarheit-trotz-voller-verantwortung-7450141588041261590.html
END:VEVENT
BEGIN:VEVENT
UID:20260419T154444Z-7450141588230005477@eventfrog.de
DTSTAMP:20260419T154444Z
DTSTART:20260519T170000Z
DTEND:20260519T180000Z
SUMMARY:Dauerstress? Mentale Klarheit trotz voller Verantwortung
DESCRIPTION:Onlinekurs über 6 Wochen vermittelt die Coué-Methode zur bewussten Gedankenführung für mehr Ruhe und Selbstbestimmung.\n\nhttps://eventfrog.de/de/p/gesundheit-spiritualitaet/gesundheit-wohlbefinden/dauerstress-mentale-klarheit-trotz-voller-verantwortung-7450141588230005477.html
LOCATION:Raus aus dem Dauerstress
URL:https://eventfrog.de/de/p/gesundheit-spiritualitaet/gesundheit-wohlbefinden/dauerstress-mentale-klarheit-trotz-voller-verantwortung-7450141588230005477.html
END:VEVENT
BEGIN:VEVENT
UID:20260419T154444Z-7450141588368417605@eventfrog.de
DTSTAMP:20260419T154444Z
DTSTART:20260526T170000Z
DTEND:20260526T180000Z
SUMMARY:Dauerstress? Mentale Klarheit trotz voller Verantwortung
DESCRIPTION:Onlinekurs über 6 Wochen vermittelt die Coué-Methode zur bewussten Gedankenführung für mehr Ruhe und Selbstbestimmung.\n\nhttps://eventfrog.de/de/p/gesundheit-spiritualitaet/gesundheit-wohlbefinden/dauerstress-mentale-klarheit-trotz-voller-verantwortung-7450141588368417605.html
LOCATION:Raus aus dem Dauerstress
URL:https://eventfrog.de/de/p/gesundheit-spiritualitaet/gesundheit-wohlbefinden/dauerstress-mentale-klarheit-trotz-voller-verantwortung-7450141588368417605.html
END:VEVENT
END:VCALENDAR