BEGIN:VCALENDAR
VERSION:2.0
PRODID:EVENTFROG//EVENTGROUP//ICAL
BEGIN:VEVENT
UID:20260419T135744Z-7450633335456404300@eventfrog.de
DTSTAMP:20260419T135744Z
DTSTART:20260423T173000Z
DTEND:20260423T184500Z
SUMMARY:Lu Jong - Meditation in Bewegung
DESCRIPTION:Lu Jong - Meditation in Bewegung \nverbindet Bewegung, Haltung und Atem. Tibetische Bewegungslehre jeden Donnerstag 19:30-20:45 im Körpersinn Bülach, auch für Einsteiger geeignet.\n\nhttps://eventfrog.de/de/p/gesundheit-spiritualitaet/gesundheit-wohlbefinden/lu-jong-meditation-in-bewegung-7450633335456404300.html
LOCATION:Körpersinn, www.koerper-sinn.ch, Bülach, CH
GEO:47.520420;8.539527
URL:https://eventfrog.de/de/p/gesundheit-spiritualitaet/gesundheit-wohlbefinden/lu-jong-meditation-in-bewegung-7450633335456404300.html
END:VEVENT
BEGIN:VEVENT
UID:20260419T135744Z-7450868850864730791@eventfrog.de
DTSTAMP:20260419T135744Z
DTSTART:20260427T164500Z
DTEND:20260427T180000Z
SUMMARY:Lu Jong - Meditation in Bewegung
DESCRIPTION:Lu Jong - Meditation in Bewegung \nverbindet Bewegung, Haltung und Atem. Tibetische Bewegungslehre jeden Donnerstag 19:30-20:45 im Körpersinn Bülach, auch für Einsteiger geeignet.\n\nhttps://eventfrog.de/de/p/gesundheit-spiritualitaet/gesundheit-wohlbefinden/lu-jong-meditation-in-bewegung-7450868850864730791.html
LOCATION:Körpersinn, www.koerper-sinn.ch, Bülach, CH
GEO:47.520420;8.539527
URL:https://eventfrog.de/de/p/gesundheit-spiritualitaet/gesundheit-wohlbefinden/lu-jong-meditation-in-bewegung-7450868850864730791.html
END:VEVENT
BEGIN:VEVENT
UID:20260419T135744Z-7450633335527707470@eventfrog.de
DTSTAMP:20260419T135744Z
DTSTART:20260430T173000Z
DTEND:20260430T184500Z
SUMMARY:Lu Jong - Meditation in Bewegung
DESCRIPTION:Lu Jong - Meditation in Bewegung \nverbindet Bewegung, Haltung und Atem. Tibetische Bewegungslehre jeden Donnerstag 19:30-20:45 im Körpersinn Bülach, auch für Einsteiger geeignet.\n\nhttps://eventfrog.de/de/p/gesundheit-spiritualitaet/gesundheit-wohlbefinden/lu-jong-meditation-in-bewegung-7450633335527707470.html
LOCATION:Körpersinn, www.koerper-sinn.ch, Bülach, CH
GEO:47.520420;8.539527
URL:https://eventfrog.de/de/p/gesundheit-spiritualitaet/gesundheit-wohlbefinden/lu-jong-meditation-in-bewegung-7450633335527707470.html
END:VEVENT
BEGIN:VEVENT
UID:20260419T135744Z-7450868850927645355@eventfrog.de
DTSTAMP:20260419T135744Z
DTSTART:20260504T164500Z
DTEND:20260504T180000Z
SUMMARY:Lu Jong - Meditation in Bewegung
DESCRIPTION:Lu Jong - Meditation in Bewegung \nverbindet Bewegung, Haltung und Atem. Tibetische Bewegungslehre jeden Donnerstag 19:30-20:45 im Körpersinn Bülach, auch für Einsteiger geeignet.\n\nhttps://eventfrog.de/de/p/gesundheit-spiritualitaet/gesundheit-wohlbefinden/lu-jong-meditation-in-bewegung-7450868850927645355.html
LOCATION:Körpersinn, www.koerper-sinn.ch, Bülach, CH
GEO:47.520420;8.539527
URL:https://eventfrog.de/de/p/gesundheit-spiritualitaet/gesundheit-wohlbefinden/lu-jong-meditation-in-bewegung-7450868850927645355.html
END:VEVENT
BEGIN:VEVENT
UID:20260419T135744Z-7450633335590622032@eventfrog.de
DTSTAMP:20260419T135744Z
DTSTART:20260507T173000Z
DTEND:20260507T184500Z
SUMMARY:Lu Jong - Meditation in Bewegung
DESCRIPTION:Lu Jong - Meditation in Bewegung \nverbindet Bewegung, Haltung und Atem. Tibetische Bewegungslehre jeden Donnerstag 19:30-20:45 im Körpersinn Bülach, auch für Einsteiger geeignet.\n\nhttps://eventfrog.de/de/p/gesundheit-spiritualitaet/gesundheit-wohlbefinden/lu-jong-meditation-in-bewegung-7450633335590622032.html
LOCATION:Körpersinn, www.koerper-sinn.ch, Bülach, CH
GEO:47.520420;8.539527
URL:https://eventfrog.de/de/p/gesundheit-spiritualitaet/gesundheit-wohlbefinden/lu-jong-meditation-in-bewegung-7450633335590622032.html
END:VEVENT
BEGIN:VEVENT
UID:20260419T135744Z-7450868850986365613@eventfrog.de
DTSTAMP:20260419T135744Z
DTSTART:20260511T164500Z
DTEND:20260511T180000Z
SUMMARY:Lu Jong - Meditation in Bewegung
DESCRIPTION:Lu Jong - Meditation in Bewegung \nverbindet Bewegung, Haltung und Atem. Tibetische Bewegungslehre jeden Donnerstag 19:30-20:45 im Körpersinn Bülach, auch für Einsteiger geeignet.\n\nhttps://eventfrog.de/de/p/gesundheit-spiritualitaet/gesundheit-wohlbefinden/lu-jong-meditation-in-bewegung-7450868850986365613.html
LOCATION:Körpersinn, www.koerper-sinn.ch, Bülach, CH
GEO:47.520420;8.539527
URL:https://eventfrog.de/de/p/gesundheit-spiritualitaet/gesundheit-wohlbefinden/lu-jong-meditation-in-bewegung-7450868850986365613.html
END:VEVENT
BEGIN:VEVENT
UID:20260419T135744Z-7450633335653536594@eventfrog.de
DTSTAMP:20260419T135744Z
DTSTART:20260521T173000Z
DTEND:20260521T184500Z
SUMMARY:Lu Jong - Meditation in Bewegung
DESCRIPTION:Lu Jong - Meditation in Bewegung \nverbindet Bewegung, Haltung und Atem. Tibetische Bewegungslehre jeden Donnerstag 19:30-20:45 im Körpersinn Bülach, auch für Einsteiger geeignet.\n\nhttps://eventfrog.de/de/p/gesundheit-spiritualitaet/gesundheit-wohlbefinden/lu-jong-meditation-in-bewegung-7450633335653536594.html
LOCATION:Körpersinn, www.koerper-sinn.ch, Bülach, CH
GEO:47.520420;8.539527
URL:https://eventfrog.de/de/p/gesundheit-spiritualitaet/gesundheit-wohlbefinden/lu-jong-meditation-in-bewegung-7450633335653536594.html
END:VEVENT
BEGIN:VEVENT
UID:20260419T135744Z-7450633335720645461@eventfrog.de
DTSTAMP:20260419T135744Z
DTSTART:20260528T173000Z
DTEND:20260528T184500Z
SUMMARY:Lu Jong - Meditation in Bewegung
DESCRIPTION:Lu Jong - Meditation in Bewegung \nverbindet Bewegung, Haltung und Atem. Tibetische Bewegungslehre jeden Donnerstag 19:30-20:45 im Körpersinn Bülach, auch für Einsteiger geeignet.\n\nhttps://eventfrog.de/de/p/gesundheit-spiritualitaet/gesundheit-wohlbefinden/lu-jong-meditation-in-bewegung-7450633335720645461.html
LOCATION:Körpersinn, www.koerper-sinn.ch, Bülach, CH
GEO:47.520420;8.539527
URL:https://eventfrog.de/de/p/gesundheit-spiritualitaet/gesundheit-wohlbefinden/lu-jong-meditation-in-bewegung-7450633335720645461.html
END:VEVENT
BEGIN:VEVENT
UID:20260419T135744Z-7450633335791948631@eventfrog.de
DTSTAMP:20260419T135744Z
DTSTART:20260604T173000Z
DTEND:20260604T184500Z
SUMMARY:Lu Jong - Meditation in Bewegung
DESCRIPTION:Lu Jong - Meditation in Bewegung \nverbindet Bewegung, Haltung und Atem. Tibetische Bewegungslehre jeden Donnerstag 19:30-20:45 im Körpersinn Bülach, auch für Einsteiger geeignet.\n\nhttps://eventfrog.de/de/p/gesundheit-spiritualitaet/gesundheit-wohlbefinden/lu-jong-meditation-in-bewegung-7450633335791948631.html
LOCATION:Körpersinn, www.koerper-sinn.ch, Bülach, CH
GEO:47.520420;8.539527
URL:https://eventfrog.de/de/p/gesundheit-spiritualitaet/gesundheit-wohlbefinden/lu-jong-meditation-in-bewegung-7450633335791948631.html
END:VEVENT
BEGIN:VEVENT
UID:20260419T135744Z-7450868851233829560@eventfrog.de
DTSTAMP:20260419T135744Z
DTSTART:20260608T164500Z
DTEND:20260608T180000Z
SUMMARY:Lu Jong - Meditation in Bewegung
DESCRIPTION:Lu Jong - Meditation in Bewegung \nverbindet Bewegung, Haltung und Atem. Tibetische Bewegungslehre jeden Donnerstag 19:30-20:45 im Körpersinn Bülach, auch für Einsteiger geeignet.\n\nhttps://eventfrog.de/de/p/gesundheit-spiritualitaet/gesundheit-wohlbefinden/lu-jong-meditation-in-bewegung-7450868851233829560.html
LOCATION:Körpersinn, www.koerper-sinn.ch, Bülach, CH
GEO:47.520420;8.539527
URL:https://eventfrog.de/de/p/gesundheit-spiritualitaet/gesundheit-wohlbefinden/lu-jong-meditation-in-bewegung-7450868851233829560.html
END:VEVENT
BEGIN:VEVENT
UID:20260419T135744Z-7450868851300938427@eventfrog.de
DTSTAMP:20260419T135744Z
DTSTART:20260615T164500Z
DTEND:20260615T180000Z
SUMMARY:Lu Jong - Meditation in Bewegung
DESCRIPTION:Lu Jong - Meditation in Bewegung \nverbindet Bewegung, Haltung und Atem. Tibetische Bewegungslehre jeden Donnerstag 19:30-20:45 im Körpersinn Bülach, auch für Einsteiger geeignet.\n\nhttps://eventfrog.de/de/p/gesundheit-spiritualitaet/gesundheit-wohlbefinden/lu-jong-meditation-in-bewegung-7450868851300938427.html
LOCATION:Körpersinn, www.koerper-sinn.ch, Bülach, CH
GEO:47.520420;8.539527
URL:https://eventfrog.de/de/p/gesundheit-spiritualitaet/gesundheit-wohlbefinden/lu-jong-meditation-in-bewegung-7450868851300938427.html
END:VEVENT
BEGIN:VEVENT
UID:20260419T135744Z-7450868851359658687@eventfrog.de
DTSTAMP:20260419T135744Z
DTSTART:20260622T164500Z
DTEND:20260622T180000Z
SUMMARY:Lu Jong - Meditation in Bewegung
DESCRIPTION:Lu Jong - Meditation in Bewegung \nverbindet Bewegung, Haltung und Atem. Tibetische Bewegungslehre jeden Donnerstag 19:30-20:45 im Körpersinn Bülach, auch für Einsteiger geeignet.\n\nhttps://eventfrog.de/de/p/gesundheit-spiritualitaet/gesundheit-wohlbefinden/lu-jong-meditation-in-bewegung-7450868851359658687.html
LOCATION:Körpersinn, www.koerper-sinn.ch, Bülach, CH
GEO:47.520420;8.539527
URL:https://eventfrog.de/de/p/gesundheit-spiritualitaet/gesundheit-wohlbefinden/lu-jong-meditation-in-bewegung-7450868851359658687.html
END:VEVENT
BEGIN:VEVENT
UID:20260419T135744Z-7450633335859057497@eventfrog.de
DTSTAMP:20260419T135744Z
DTSTART:20260625T173000Z
DTEND:20260625T184500Z
SUMMARY:Lu Jong - Meditation in Bewegung
DESCRIPTION:Lu Jong - Meditation in Bewegung \nverbindet Bewegung, Haltung und Atem. Tibetische Bewegungslehre jeden Donnerstag 19:30-20:45 im Körpersinn Bülach, auch für Einsteiger geeignet.\n\nhttps://eventfrog.de/de/p/gesundheit-spiritualitaet/gesundheit-wohlbefinden/lu-jong-meditation-in-bewegung-7450633335859057497.html
LOCATION:Körpersinn, www.koerper-sinn.ch, Bülach, CH
GEO:47.520420;8.539527
URL:https://eventfrog.de/de/p/gesundheit-spiritualitaet/gesundheit-wohlbefinden/lu-jong-meditation-in-bewegung-7450633335859057497.html
END:VEVENT
BEGIN:VEVENT
UID:20260419T135744Z-7450868851418378945@eventfrog.de
DTSTAMP:20260419T135744Z
DTSTART:20260629T164500Z
DTEND:20260629T180000Z
SUMMARY:Lu Jong - Meditation in Bewegung
DESCRIPTION:Lu Jong - Meditation in Bewegung \nverbindet Bewegung, Haltung und Atem. Tibetische Bewegungslehre jeden Donnerstag 19:30-20:45 im Körpersinn Bülach, auch für Einsteiger geeignet.\n\nhttps://eventfrog.de/de/p/gesundheit-spiritualitaet/gesundheit-wohlbefinden/lu-jong-meditation-in-bewegung-7450868851418378945.html
LOCATION:Körpersinn, www.koerper-sinn.ch, Bülach, CH
GEO:47.520420;8.539527
URL:https://eventfrog.de/de/p/gesundheit-spiritualitaet/gesundheit-wohlbefinden/lu-jong-meditation-in-bewegung-7450868851418378945.html
END:VEVENT
BEGIN:VEVENT
UID:20260419T135744Z-7450633335926166364@eventfrog.de
DTSTAMP:20260419T135744Z
DTSTART:20260702T173000Z
DTEND:20260702T184500Z
SUMMARY:Lu Jong - Meditation in Bewegung
DESCRIPTION:Lu Jong - Meditation in Bewegung \nverbindet Bewegung, Haltung und Atem. Tibetische Bewegungslehre jeden Donnerstag 19:30-20:45 im Körpersinn Bülach, auch für Einsteiger geeignet.\n\nhttps://eventfrog.de/de/p/gesundheit-spiritualitaet/gesundheit-wohlbefinden/lu-jong-meditation-in-bewegung-7450633335926166364.html
LOCATION:Körpersinn, www.koerper-sinn.ch, Bülach, CH
GEO:47.520420;8.539527
URL:https://eventfrog.de/de/p/gesundheit-spiritualitaet/gesundheit-wohlbefinden/lu-jong-meditation-in-bewegung-7450633335926166364.html
END:VEVENT
BEGIN:VEVENT
UID:20260419T135744Z-7450868851489682115@eventfrog.de
DTSTAMP:20260419T135744Z
DTSTART:20260706T164500Z
DTEND:20260706T180000Z
SUMMARY:Lu Jong - Meditation in Bewegung
DESCRIPTION:Lu Jong - Meditation in Bewegung \nverbindet Bewegung, Haltung und Atem. Tibetische Bewegungslehre jeden Donnerstag 19:30-20:45 im Körpersinn Bülach, auch für Einsteiger geeignet.\n\nhttps://eventfrog.de/de/p/gesundheit-spiritualitaet/gesundheit-wohlbefinden/lu-jong-meditation-in-bewegung-7450868851489682115.html
LOCATION:Körpersinn, www.koerper-sinn.ch, Bülach, CH
GEO:47.520420;8.539527
URL:https://eventfrog.de/de/p/gesundheit-spiritualitaet/gesundheit-wohlbefinden/lu-jong-meditation-in-bewegung-7450868851489682115.html
END:VEVENT
BEGIN:VEVENT
UID:20260419T135744Z-7450633335997469534@eventfrog.de
DTSTAMP:20260419T135744Z
DTSTART:20260709T173000Z
DTEND:20260709T184500Z
SUMMARY:Lu Jong - Meditation in Bewegung
DESCRIPTION:Lu Jong - Meditation in Bewegung \nverbindet Bewegung, Haltung und Atem. Tibetische Bewegungslehre jeden Donnerstag 19:30-20:45 im Körpersinn Bülach, auch für Einsteiger geeignet.\n\nhttps://eventfrog.de/de/p/gesundheit-spiritualitaet/gesundheit-wohlbefinden/lu-jong-meditation-in-bewegung-7450633335997469534.html
LOCATION:Körpersinn, www.koerper-sinn.ch, Bülach, CH
GEO:47.520420;8.539527
URL:https://eventfrog.de/de/p/gesundheit-spiritualitaet/gesundheit-wohlbefinden/lu-jong-meditation-in-bewegung-7450633335997469534.html
END:VEVENT
BEGIN:VEVENT
UID:20260419T135744Z-7450868851552596677@eventfrog.de
DTSTAMP:20260419T135744Z
DTSTART:20260713T164500Z
DTEND:20260713T180000Z
SUMMARY:Lu Jong - Meditation in Bewegung
DESCRIPTION:Lu Jong - Meditation in Bewegung \nverbindet Bewegung, Haltung und Atem. Tibetische Bewegungslehre jeden Donnerstag 19:30-20:45 im Körpersinn Bülach, auch für Einsteiger geeignet.\n\nhttps://eventfrog.de/de/p/gesundheit-spiritualitaet/gesundheit-wohlbefinden/lu-jong-meditation-in-bewegung-7450868851552596677.html
LOCATION:Körpersinn, www.koerper-sinn.ch, Bülach, CH
GEO:47.520420;8.539527
URL:https://eventfrog.de/de/p/gesundheit-spiritualitaet/gesundheit-wohlbefinden/lu-jong-meditation-in-bewegung-7450868851552596677.html
END:VEVENT
BEGIN:VEVENT
UID:20260419T135744Z-7450633336072967008@eventfrog.de
DTSTAMP:20260419T135744Z
DTSTART:20260716T173000Z
DTEND:20260716T184500Z
SUMMARY:Lu Jong - Meditation in Bewegung
DESCRIPTION:Lu Jong - Meditation in Bewegung \nverbindet Bewegung, Haltung und Atem. Tibetische Bewegungslehre jeden Donnerstag 19:30-20:45 im Körpersinn Bülach, auch für Einsteiger geeignet.\n\nhttps://eventfrog.de/de/p/gesundheit-spiritualitaet/gesundheit-wohlbefinden/lu-jong-meditation-in-bewegung-7450633336072967008.html
LOCATION:Körpersinn, www.koerper-sinn.ch, Bülach, CH
GEO:47.520420;8.539527
URL:https://eventfrog.de/de/p/gesundheit-spiritualitaet/gesundheit-wohlbefinden/lu-jong-meditation-in-bewegung-7450633336072967008.html
END:VEVENT
END:VCALENDAR