BEGIN:VCALENDAR
VERSION:2.0
PRODID:EVENTFROG//EVENTGROUP//ICAL
BEGIN:VEVENT
UID:20260419T194026Z-7450665195901319116@eventfrog.de
DTSTAMP:20260419T194026Z
DTSTART:20260422T120000Z
DTEND:20260422T140000Z
SUMMARY:Offene Gartennachmittag für Kinder
DESCRIPTION:Gemeinsam Gärtnern & den Naturgarten entdecken, mit z'Vieri.\n\nhttps://eventfrog.de/de/p/diverses/offene-gartennachmittag-fuer-kinder-7450665195901319116.html
LOCATION:Areal Bach
GEO:47.435348;9.392530
URL:https://eventfrog.de/de/p/diverses/offene-gartennachmittag-fuer-kinder-7450665195901319116.html
END:VEVENT
BEGIN:VEVENT
UID:20260419T194026Z-7450665198300461011@eventfrog.de
DTSTAMP:20260419T194026Z
DTSTART:20260429T120000Z
DTEND:20260429T140000Z
SUMMARY:Offene Gartennachmittag für Kinder
DESCRIPTION:Gemeinsam Gärtnern & den Naturgarten entdecken, mit z'Vieri.\n\nhttps://eventfrog.de/de/p/diverses/offene-gartennachmittag-fuer-kinder-7450665198300461011.html
LOCATION:Areal Bach
GEO:47.435348;9.392530
URL:https://eventfrog.de/de/p/diverses/offene-gartennachmittag-fuer-kinder-7450665198300461011.html
END:VEVENT
BEGIN:VEVENT
UID:20260419T194026Z-7450665200703797212@eventfrog.de
DTSTAMP:20260419T194026Z
DTSTART:20260506T120000Z
DTEND:20260506T140000Z
SUMMARY:Offene Gartennachmittag für Kinder
DESCRIPTION:Gemeinsam Gärtnern & den Naturgarten entdecken, mit z'Vieri.\n\nhttps://eventfrog.de/de/p/diverses/offene-gartennachmittag-fuer-kinder-7450665200703797212.html
LOCATION:Areal Bach
GEO:47.435348;9.392530
URL:https://eventfrog.de/de/p/diverses/offene-gartennachmittag-fuer-kinder-7450665200703797212.html
END:VEVENT
BEGIN:VEVENT
UID:20260419T194026Z-7450665203060996071@eventfrog.de
DTSTAMP:20260419T194026Z
DTSTART:20260513T120000Z
DTEND:20260513T140000Z
SUMMARY:Offene Gartennachmittag für Kinder
DESCRIPTION:Gemeinsam Gärtnern & den Naturgarten entdecken, mit z'Vieri.\n\nhttps://eventfrog.de/de/p/diverses/offene-gartennachmittag-fuer-kinder-7450665203060996071.html
LOCATION:Areal Bach
GEO:47.435348;9.392530
URL:https://eventfrog.de/de/p/diverses/offene-gartennachmittag-fuer-kinder-7450665203060996071.html
END:VEVENT
BEGIN:VEVENT
UID:20260419T194026Z-7450665205405612015@eventfrog.de
DTSTAMP:20260419T194026Z
DTSTART:20260520T120000Z
DTEND:20260520T140000Z
SUMMARY:Offene Gartennachmittag für Kinder
DESCRIPTION:Gemeinsam Gärtnern & den Naturgarten entdecken, mit z'Vieri.\n\nhttps://eventfrog.de/de/p/diverses/offene-gartennachmittag-fuer-kinder-7450665205405612015.html
LOCATION:Areal Bach
GEO:47.435348;9.392530
URL:https://eventfrog.de/de/p/diverses/offene-gartennachmittag-fuer-kinder-7450665205405612015.html
END:VEVENT
BEGIN:VEVENT
UID:20260419T194026Z-7450665207787976771@eventfrog.de
DTSTAMP:20260419T194026Z
DTSTART:20260527T120000Z
DTEND:20260527T140000Z
SUMMARY:Offene Gartennachmittag für Kinder
DESCRIPTION:Gemeinsam Gärtnern & den Naturgarten entdecken, mit z'Vieri.\n\nhttps://eventfrog.de/de/p/diverses/offene-gartennachmittag-fuer-kinder-7450665207787976771.html
LOCATION:Areal Bach
GEO:47.435348;9.392530
URL:https://eventfrog.de/de/p/diverses/offene-gartennachmittag-fuer-kinder-7450665207787976771.html
END:VEVENT
BEGIN:VEVENT
UID:20260419T194026Z-7450665210145175650@eventfrog.de
DTSTAMP:20260419T194026Z
DTSTART:20260603T120000Z
DTEND:20260603T140000Z
SUMMARY:Offene Gartennachmittag für Kinder
DESCRIPTION:Gemeinsam Gärtnern & den Naturgarten entdecken, mit z'Vieri.\n\nhttps://eventfrog.de/de/p/diverses/offene-gartennachmittag-fuer-kinder-7450665210145175650.html
LOCATION:Areal Bach
GEO:47.435348;9.392530
URL:https://eventfrog.de/de/p/diverses/offene-gartennachmittag-fuer-kinder-7450665210145175650.html
END:VEVENT
BEGIN:VEVENT
UID:20260419T194026Z-7450665212510763152@eventfrog.de
DTSTAMP:20260419T194026Z
DTSTART:20260610T120000Z
DTEND:20260610T140000Z
SUMMARY:Offene Gartennachmittag für Kinder
DESCRIPTION:Gemeinsam Gärtnern & den Naturgarten entdecken, mit z'Vieri.\n\nhttps://eventfrog.de/de/p/diverses/offene-gartennachmittag-fuer-kinder-7450665212510763152.html
LOCATION:Areal Bach
GEO:47.435348;9.392530
URL:https://eventfrog.de/de/p/diverses/offene-gartennachmittag-fuer-kinder-7450665212510763152.html
END:VEVENT
BEGIN:VEVENT
UID:20260419T194026Z-7450665214872156317@eventfrog.de
DTSTAMP:20260419T194026Z
DTSTART:20260617T120000Z
DTEND:20260617T140000Z
SUMMARY:Offene Gartennachmittag für Kinder
DESCRIPTION:Gemeinsam Gärtnern & den Naturgarten entdecken, mit z'Vieri.\n\nhttps://eventfrog.de/de/p/diverses/offene-gartennachmittag-fuer-kinder-7450665214872156317.html
LOCATION:Areal Bach
GEO:47.435348;9.392530
URL:https://eventfrog.de/de/p/diverses/offene-gartennachmittag-fuer-kinder-7450665214872156317.html
END:VEVENT
BEGIN:VEVENT
UID:20260419T194026Z-7450665217216772263@eventfrog.de
DTSTAMP:20260419T194026Z
DTSTART:20260624T120000Z
DTEND:20260624T140000Z
SUMMARY:Offene Gartennachmittag für Kinder
DESCRIPTION:Gemeinsam Gärtnern & den Naturgarten entdecken, mit z'Vieri.\n\nhttps://eventfrog.de/de/p/diverses/offene-gartennachmittag-fuer-kinder-7450665217216772263.html
LOCATION:Areal Bach
GEO:47.435348;9.392530
URL:https://eventfrog.de/de/p/diverses/offene-gartennachmittag-fuer-kinder-7450665217216772263.html
END:VEVENT
BEGIN:VEVENT
UID:20260419T194026Z-7450665219557193912@eventfrog.de
DTSTAMP:20260419T194026Z
DTSTART:20260701T120000Z
DTEND:20260701T140000Z
SUMMARY:Offene Gartennachmittag für Kinder
DESCRIPTION:Gemeinsam Gärtnern & den Naturgarten entdecken, mit z'Vieri.\n\nhttps://eventfrog.de/de/p/diverses/offene-gartennachmittag-fuer-kinder-7450665219557193912.html
LOCATION:Areal Bach
GEO:47.435348;9.392530
URL:https://eventfrog.de/de/p/diverses/offene-gartennachmittag-fuer-kinder-7450665219557193912.html
END:VEVENT
BEGIN:VEVENT
UID:20260419T194026Z-7450665221910198463@eventfrog.de
DTSTAMP:20260419T194026Z
DTSTART:20260708T120000Z
DTEND:20260708T140000Z
SUMMARY:Offene Gartennachmittag für Kinder
DESCRIPTION:Gemeinsam Gärtnern & den Naturgarten entdecken, mit z'Vieri.\n\nhttps://eventfrog.de/de/p/diverses/offene-gartennachmittag-fuer-kinder-7450665221910198463.html
LOCATION:Areal Bach
GEO:47.435348;9.392530
URL:https://eventfrog.de/de/p/diverses/offene-gartennachmittag-fuer-kinder-7450665221910198463.html
END:VEVENT
BEGIN:VEVENT
UID:20260419T194026Z-7450665224313534662@eventfrog.de
DTSTAMP:20260419T194026Z
DTSTART:20260715T120000Z
DTEND:20260715T140000Z
SUMMARY:Offene Gartennachmittag für Kinder
DESCRIPTION:Gemeinsam Gärtnern & den Naturgarten entdecken, mit z'Vieri.\n\nhttps://eventfrog.de/de/p/diverses/offene-gartennachmittag-fuer-kinder-7450665224313534662.html
LOCATION:Areal Bach
GEO:47.435348;9.392530
URL:https://eventfrog.de/de/p/diverses/offene-gartennachmittag-fuer-kinder-7450665224313534662.html
END:VEVENT
BEGIN:VEVENT
UID:20260419T194026Z-7450665226712676556@eventfrog.de
DTSTAMP:20260419T194026Z
DTSTART:20260722T120000Z
DTEND:20260722T140000Z
SUMMARY:Offene Gartennachmittag für Kinder
DESCRIPTION:Gemeinsam Gärtnern & den Naturgarten entdecken, mit z'Vieri.\n\nhttps://eventfrog.de/de/p/diverses/offene-gartennachmittag-fuer-kinder-7450665226712676556.html
LOCATION:Areal Bach
GEO:47.435348;9.392530
URL:https://eventfrog.de/de/p/diverses/offene-gartennachmittag-fuer-kinder-7450665226712676556.html
END:VEVENT
BEGIN:VEVENT
UID:20260419T194026Z-7450665229069875414@eventfrog.de
DTSTAMP:20260419T194026Z
DTSTART:20260729T120000Z
DTEND:20260729T140000Z
SUMMARY:Offene Gartennachmittag für Kinder
DESCRIPTION:Gemeinsam Gärtnern & den Naturgarten entdecken, mit z'Vieri.\n\nhttps://eventfrog.de/de/p/diverses/offene-gartennachmittag-fuer-kinder-7450665229069875414.html
LOCATION:Areal Bach
GEO:47.435348;9.392530
URL:https://eventfrog.de/de/p/diverses/offene-gartennachmittag-fuer-kinder-7450665229069875414.html
END:VEVENT
BEGIN:VEVENT
UID:20260419T194026Z-7450665231435462879@eventfrog.de
DTSTAMP:20260419T194026Z
DTSTART:20260805T120000Z
DTEND:20260805T140000Z
SUMMARY:Offene Gartennachmittag für Kinder
DESCRIPTION:Gemeinsam Gärtnern & den Naturgarten entdecken, mit z'Vieri.\n\nhttps://eventfrog.de/de/p/diverses/offene-gartennachmittag-fuer-kinder-7450665231435462879.html
LOCATION:Areal Bach
GEO:47.435348;9.392530
URL:https://eventfrog.de/de/p/diverses/offene-gartennachmittag-fuer-kinder-7450665231435462879.html
END:VEVENT
BEGIN:VEVENT
UID:20260419T194026Z-7450665233922685176@eventfrog.de
DTSTAMP:20260419T194026Z
DTSTART:20260812T120000Z
DTEND:20260812T140000Z
SUMMARY:Offene Gartennachmittag für Kinder
DESCRIPTION:Gemeinsam Gärtnern & den Naturgarten entdecken, mit z'Vieri.\n\nhttps://eventfrog.de/de/p/diverses/offene-gartennachmittag-fuer-kinder-7450665233922685176.html
LOCATION:Areal Bach
GEO:47.435348;9.392530
URL:https://eventfrog.de/de/p/diverses/offene-gartennachmittag-fuer-kinder-7450665233922685176.html
END:VEVENT
BEGIN:VEVENT
UID:20260419T194026Z-7450665236418296063@eventfrog.de
DTSTAMP:20260419T194026Z
DTSTART:20260819T120000Z
DTEND:20260819T140000Z
SUMMARY:Offene Gartennachmittag für Kinder
DESCRIPTION:Gemeinsam Gärtnern & den Naturgarten entdecken, mit z'Vieri.\n\nhttps://eventfrog.de/de/p/diverses/offene-gartennachmittag-fuer-kinder-7450665236418296063.html
LOCATION:Areal Bach
GEO:47.435348;9.392530
URL:https://eventfrog.de/de/p/diverses/offene-gartennachmittag-fuer-kinder-7450665236418296063.html
END:VEVENT
BEGIN:VEVENT
UID:20260419T194026Z-7450665238913906950@eventfrog.de
DTSTAMP:20260419T194026Z
DTSTART:20260826T120000Z
DTEND:20260826T140000Z
SUMMARY:Offene Gartennachmittag für Kinder
DESCRIPTION:Gemeinsam Gärtnern & den Naturgarten entdecken, mit z'Vieri.\n\nhttps://eventfrog.de/de/p/diverses/offene-gartennachmittag-fuer-kinder-7450665238913906950.html
LOCATION:Areal Bach
GEO:47.435348;9.392530
URL:https://eventfrog.de/de/p/diverses/offene-gartennachmittag-fuer-kinder-7450665238913906950.html
END:VEVENT
BEGIN:VEVENT
UID:20260419T194026Z-7450665241426295059@eventfrog.de
DTSTAMP:20260419T194026Z
DTSTART:20260902T120000Z
DTEND:20260902T140000Z
SUMMARY:Offene Gartennachmittag für Kinder
DESCRIPTION:Gemeinsam Gärtnern & den Naturgarten entdecken, mit z'Vieri.\n\nhttps://eventfrog.de/de/p/diverses/offene-gartennachmittag-fuer-kinder-7450665241426295059.html
LOCATION:Areal Bach
GEO:47.435348;9.392530
URL:https://eventfrog.de/de/p/diverses/offene-gartennachmittag-fuer-kinder-7450665241426295059.html
END:VEVENT
BEGIN:VEVENT
UID:20260419T194026Z-7450665243779299609@eventfrog.de
DTSTAMP:20260419T194026Z
DTSTART:20260909T120000Z
DTEND:20260909T140000Z
SUMMARY:Offene Gartennachmittag für Kinder
DESCRIPTION:Gemeinsam Gärtnern & den Naturgarten entdecken, mit z'Vieri.\n\nhttps://eventfrog.de/de/p/diverses/offene-gartennachmittag-fuer-kinder-7450665243779299609.html
LOCATION:Areal Bach
GEO:47.435348;9.392530
URL:https://eventfrog.de/de/p/diverses/offene-gartennachmittag-fuer-kinder-7450665243779299609.html
END:VEVENT
BEGIN:VEVENT
UID:20260419T194026Z-7450665246140692769@eventfrog.de
DTSTAMP:20260419T194026Z
DTSTART:20260916T120000Z
DTEND:20260916T140000Z
SUMMARY:Offene Gartennachmittag für Kinder
DESCRIPTION:Gemeinsam Gärtnern & den Naturgarten entdecken, mit z'Vieri.\n\nhttps://eventfrog.de/de/p/diverses/offene-gartennachmittag-fuer-kinder-7450665246140692769.html
LOCATION:Areal Bach
GEO:47.435348;9.392530
URL:https://eventfrog.de/de/p/diverses/offene-gartennachmittag-fuer-kinder-7450665246140692769.html
END:VEVENT
BEGIN:VEVENT
UID:20260419T194026Z-7450665248523057460@eventfrog.de
DTSTAMP:20260419T194026Z
DTSTART:20260923T120000Z
DTEND:20260923T140000Z
SUMMARY:Offene Gartennachmittag für Kinder
DESCRIPTION:Gemeinsam Gärtnern & den Naturgarten entdecken, mit z'Vieri.\n\nhttps://eventfrog.de/de/p/diverses/offene-gartennachmittag-fuer-kinder-7450665248523057460.html
LOCATION:Areal Bach
GEO:47.435348;9.392530
URL:https://eventfrog.de/de/p/diverses/offene-gartennachmittag-fuer-kinder-7450665248523057460.html
END:VEVENT
BEGIN:VEVENT
UID:20260419T194026Z-7450665250888644922@eventfrog.de
DTSTAMP:20260419T194026Z
DTSTART:20260930T120000Z
DTEND:20260930T140000Z
SUMMARY:Offene Gartennachmittag für Kinder
DESCRIPTION:Gemeinsam Gärtnern & den Naturgarten entdecken, mit z'Vieri.\n\nhttps://eventfrog.de/de/p/diverses/offene-gartennachmittag-fuer-kinder-7450665250888644922.html
LOCATION:Areal Bach
GEO:47.435348;9.392530
URL:https://eventfrog.de/de/p/diverses/offene-gartennachmittag-fuer-kinder-7450665250888644922.html
END:VEVENT
BEGIN:VEVENT
UID:20260419T194026Z-7450665253233260861@eventfrog.de
DTSTAMP:20260419T194026Z
DTSTART:20261007T120000Z
DTEND:20261007T140000Z
SUMMARY:Offene Gartennachmittag für Kinder
DESCRIPTION:Gemeinsam Gärtnern & den Naturgarten entdecken, mit z'Vieri.\n\nhttps://eventfrog.de/de/p/diverses/offene-gartennachmittag-fuer-kinder-7450665253233260861.html
LOCATION:Areal Bach
GEO:47.435348;9.392530
URL:https://eventfrog.de/de/p/diverses/offene-gartennachmittag-fuer-kinder-7450665253233260861.html
END:VEVENT
BEGIN:VEVENT
UID:20260419T194026Z-7450665255577876800@eventfrog.de
DTSTAMP:20260419T194026Z
DTSTART:20261014T120000Z
DTEND:20261014T140000Z
SUMMARY:Offene Gartennachmittag für Kinder
DESCRIPTION:Gemeinsam Gärtnern & den Naturgarten entdecken, mit z'Vieri.\n\nhttps://eventfrog.de/de/p/diverses/offene-gartennachmittag-fuer-kinder-7450665255577876800.html
LOCATION:Areal Bach
GEO:47.435348;9.392530
URL:https://eventfrog.de/de/p/diverses/offene-gartennachmittag-fuer-kinder-7450665255577876800.html
END:VEVENT
END:VCALENDAR