BEGIN:VCALENDAR
VERSION:2.0
PRODID:EVENTFROG//EVENTGROUP//ICAL
BEGIN:VEVENT
UID:20260420T173150Z-7450837226693349780@eventfrog.de
DTSTAMP:20260420T173150Z
DTSTART:20260425T090000Z
DTEND:20260425T130000Z
SUMMARY:ANDY WARHOL bis ALEX KATZ
DESCRIPTION:Mit großer Freude kündigt die Galerie Boisserée eine retrospektive Pop Art Ausstellung an. "Andy Warhol bis Alex Katz" ist vom 25. April bis zum 30. Mai 2026 in der Galerie Boisserée zu sehen.\n\nhttps://eventfrog.de/de/p/kunst-ausstellungen/ausstellung/andy-warhol-bis-alex-katz-7450837226693349780.html
LOCATION:Galerie Boisserée
GEO:50.940040;6.953628
URL:https://eventfrog.de/de/p/kunst-ausstellungen/ausstellung/andy-warhol-bis-alex-katz-7450837226693349780.html
END:VEVENT
BEGIN:VEVENT
UID:20260420T173150Z-7450837226756264342@eventfrog.de
DTSTAMP:20260420T173150Z
DTSTART:20260428T080000Z
DTEND:20260428T160000Z
SUMMARY:ANDY WARHOL bis ALEX KATZ
DESCRIPTION:Mit großer Freude kündigt die Galerie Boisserée eine retrospektive Pop Art Ausstellung an. "Andy Warhol bis Alex Katz" ist vom 25. April bis zum 30. Mai 2026 in der Galerie Boisserée zu sehen.\n\nhttps://eventfrog.de/de/p/kunst-ausstellungen/ausstellung/andy-warhol-bis-alex-katz-7450837226756264342.html
LOCATION:Galerie Boisserée
GEO:50.940040;6.953628
URL:https://eventfrog.de/de/p/kunst-ausstellungen/ausstellung/andy-warhol-bis-alex-katz-7450837226756264342.html
END:VEVENT
BEGIN:VEVENT
UID:20260420T173150Z-7450837226823373208@eventfrog.de
DTSTAMP:20260420T173150Z
DTSTART:20260429T080000Z
DTEND:20260429T160000Z
SUMMARY:ANDY WARHOL bis ALEX KATZ
DESCRIPTION:Mit großer Freude kündigt die Galerie Boisserée eine retrospektive Pop Art Ausstellung an. "Andy Warhol bis Alex Katz" ist vom 25. April bis zum 30. Mai 2026 in der Galerie Boisserée zu sehen.\n\nhttps://eventfrog.de/de/p/kunst-ausstellungen/ausstellung/andy-warhol-bis-alex-katz-7450837226823373208.html
LOCATION:Galerie Boisserée
GEO:50.940040;6.953628
URL:https://eventfrog.de/de/p/kunst-ausstellungen/ausstellung/andy-warhol-bis-alex-katz-7450837226823373208.html
END:VEVENT
BEGIN:VEVENT
UID:20260420T173150Z-7450837226890482074@eventfrog.de
DTSTAMP:20260420T173150Z
DTSTART:20260430T080000Z
DTEND:20260430T160000Z
SUMMARY:ANDY WARHOL bis ALEX KATZ
DESCRIPTION:Mit großer Freude kündigt die Galerie Boisserée eine retrospektive Pop Art Ausstellung an. "Andy Warhol bis Alex Katz" ist vom 25. April bis zum 30. Mai 2026 in der Galerie Boisserée zu sehen.\n\nhttps://eventfrog.de/de/p/kunst-ausstellungen/ausstellung/andy-warhol-bis-alex-katz-7450837226890482074.html
LOCATION:Galerie Boisserée
GEO:50.940040;6.953628
URL:https://eventfrog.de/de/p/kunst-ausstellungen/ausstellung/andy-warhol-bis-alex-katz-7450837226890482074.html
END:VEVENT
BEGIN:VEVENT
UID:20260420T173150Z-7450837226957590940@eventfrog.de
DTSTAMP:20260420T173150Z
DTSTART:20260501T080000Z
DTEND:20260501T160000Z
SUMMARY:ANDY WARHOL bis ALEX KATZ
DESCRIPTION:Mit großer Freude kündigt die Galerie Boisserée eine retrospektive Pop Art Ausstellung an. "Andy Warhol bis Alex Katz" ist vom 25. April bis zum 30. Mai 2026 in der Galerie Boisserée zu sehen.\n\nhttps://eventfrog.de/de/p/kunst-ausstellungen/ausstellung/andy-warhol-bis-alex-katz-7450837226957590940.html
LOCATION:Galerie Boisserée
GEO:50.940040;6.953628
URL:https://eventfrog.de/de/p/kunst-ausstellungen/ausstellung/andy-warhol-bis-alex-katz-7450837226957590940.html
END:VEVENT
BEGIN:VEVENT
UID:20260420T173150Z-7450837227041477022@eventfrog.de
DTSTAMP:20260420T173150Z
DTSTART:20260502T090000Z
DTEND:20260502T130000Z
SUMMARY:ANDY WARHOL bis ALEX KATZ
DESCRIPTION:Mit großer Freude kündigt die Galerie Boisserée eine retrospektive Pop Art Ausstellung an. "Andy Warhol bis Alex Katz" ist vom 25. April bis zum 30. Mai 2026 in der Galerie Boisserée zu sehen.\n\nhttps://eventfrog.de/de/p/kunst-ausstellungen/ausstellung/andy-warhol-bis-alex-katz-7450837227041477022.html
LOCATION:Galerie Boisserée
GEO:50.940040;6.953628
URL:https://eventfrog.de/de/p/kunst-ausstellungen/ausstellung/andy-warhol-bis-alex-katz-7450837227041477022.html
END:VEVENT
BEGIN:VEVENT
UID:20260420T173150Z-7450837227108585889@eventfrog.de
DTSTAMP:20260420T173150Z
DTSTART:20260505T080000Z
DTEND:20260505T160000Z
SUMMARY:ANDY WARHOL bis ALEX KATZ
DESCRIPTION:Mit großer Freude kündigt die Galerie Boisserée eine retrospektive Pop Art Ausstellung an. "Andy Warhol bis Alex Katz" ist vom 25. April bis zum 30. Mai 2026 in der Galerie Boisserée zu sehen.\n\nhttps://eventfrog.de/de/p/kunst-ausstellungen/ausstellung/andy-warhol-bis-alex-katz-7450837227108585889.html
LOCATION:Galerie Boisserée
GEO:50.940040;6.953628
URL:https://eventfrog.de/de/p/kunst-ausstellungen/ausstellung/andy-warhol-bis-alex-katz-7450837227108585889.html
END:VEVENT
BEGIN:VEVENT
UID:20260420T173150Z-7450837227179889068@eventfrog.de
DTSTAMP:20260420T173150Z
DTSTART:20260506T080000Z
DTEND:20260506T160000Z
SUMMARY:ANDY WARHOL bis ALEX KATZ
DESCRIPTION:Mit großer Freude kündigt die Galerie Boisserée eine retrospektive Pop Art Ausstellung an. "Andy Warhol bis Alex Katz" ist vom 25. April bis zum 30. Mai 2026 in der Galerie Boisserée zu sehen.\n\nhttps://eventfrog.de/de/p/kunst-ausstellungen/ausstellung/andy-warhol-bis-alex-katz-7450837227179889068.html
LOCATION:Galerie Boisserée
GEO:50.940040;6.953628
URL:https://eventfrog.de/de/p/kunst-ausstellungen/ausstellung/andy-warhol-bis-alex-katz-7450837227179889068.html
END:VEVENT
BEGIN:VEVENT
UID:20260420T173150Z-7450837227246997966@eventfrog.de
DTSTAMP:20260420T173150Z
DTSTART:20260507T080000Z
DTEND:20260507T160000Z
SUMMARY:ANDY WARHOL bis ALEX KATZ
DESCRIPTION:Mit großer Freude kündigt die Galerie Boisserée eine retrospektive Pop Art Ausstellung an. "Andy Warhol bis Alex Katz" ist vom 25. April bis zum 30. Mai 2026 in der Galerie Boisserée zu sehen.\n\nhttps://eventfrog.de/de/p/kunst-ausstellungen/ausstellung/andy-warhol-bis-alex-katz-7450837227246997966.html
LOCATION:Galerie Boisserée
GEO:50.940040;6.953628
URL:https://eventfrog.de/de/p/kunst-ausstellungen/ausstellung/andy-warhol-bis-alex-katz-7450837227246997966.html
END:VEVENT
BEGIN:VEVENT
UID:20260420T173150Z-7450837227322495441@eventfrog.de
DTSTAMP:20260420T173150Z
DTSTART:20260508T080000Z
DTEND:20260508T160000Z
SUMMARY:ANDY WARHOL bis ALEX KATZ
DESCRIPTION:Mit großer Freude kündigt die Galerie Boisserée eine retrospektive Pop Art Ausstellung an. "Andy Warhol bis Alex Katz" ist vom 25. April bis zum 30. Mai 2026 in der Galerie Boisserée zu sehen.\n\nhttps://eventfrog.de/de/p/kunst-ausstellungen/ausstellung/andy-warhol-bis-alex-katz-7450837227322495441.html
LOCATION:Galerie Boisserée
GEO:50.940040;6.953628
URL:https://eventfrog.de/de/p/kunst-ausstellungen/ausstellung/andy-warhol-bis-alex-katz-7450837227322495441.html
END:VEVENT
BEGIN:VEVENT
UID:20260420T173150Z-7450837227397992923@eventfrog.de
DTSTAMP:20260420T173150Z
DTSTART:20260509T090000Z
DTEND:20260509T130000Z
SUMMARY:ANDY WARHOL bis ALEX KATZ
DESCRIPTION:Mit großer Freude kündigt die Galerie Boisserée eine retrospektive Pop Art Ausstellung an. "Andy Warhol bis Alex Katz" ist vom 25. April bis zum 30. Mai 2026 in der Galerie Boisserée zu sehen.\n\nhttps://eventfrog.de/de/p/kunst-ausstellungen/ausstellung/andy-warhol-bis-alex-katz-7450837227397992923.html
LOCATION:Galerie Boisserée
GEO:50.940040;6.953628
URL:https://eventfrog.de/de/p/kunst-ausstellungen/ausstellung/andy-warhol-bis-alex-katz-7450837227397992923.html
END:VEVENT
BEGIN:VEVENT
UID:20260420T173150Z-7450837227486073309@eventfrog.de
DTSTAMP:20260420T173150Z
DTSTART:20260512T080000Z
DTEND:20260512T160000Z
SUMMARY:ANDY WARHOL bis ALEX KATZ
DESCRIPTION:Mit großer Freude kündigt die Galerie Boisserée eine retrospektive Pop Art Ausstellung an. "Andy Warhol bis Alex Katz" ist vom 25. April bis zum 30. Mai 2026 in der Galerie Boisserée zu sehen.\n\nhttps://eventfrog.de/de/p/kunst-ausstellungen/ausstellung/andy-warhol-bis-alex-katz-7450837227486073309.html
LOCATION:Galerie Boisserée
GEO:50.940040;6.953628
URL:https://eventfrog.de/de/p/kunst-ausstellungen/ausstellung/andy-warhol-bis-alex-katz-7450837227486073309.html
END:VEVENT
BEGIN:VEVENT
UID:20260420T173150Z-7450837227561570813@eventfrog.de
DTSTAMP:20260420T173150Z
DTSTART:20260513T080000Z
DTEND:20260513T160000Z
SUMMARY:ANDY WARHOL bis ALEX KATZ
DESCRIPTION:Mit großer Freude kündigt die Galerie Boisserée eine retrospektive Pop Art Ausstellung an. "Andy Warhol bis Alex Katz" ist vom 25. April bis zum 30. Mai 2026 in der Galerie Boisserée zu sehen.\n\nhttps://eventfrog.de/de/p/kunst-ausstellungen/ausstellung/andy-warhol-bis-alex-katz-7450837227561570813.html
LOCATION:Galerie Boisserée
GEO:50.940040;6.953628
URL:https://eventfrog.de/de/p/kunst-ausstellungen/ausstellung/andy-warhol-bis-alex-katz-7450837227561570813.html
END:VEVENT
BEGIN:VEVENT
UID:20260420T173150Z-7450837227632873984@eventfrog.de
DTSTAMP:20260420T173150Z
DTSTART:20260514T080000Z
DTEND:20260514T160000Z
SUMMARY:ANDY WARHOL bis ALEX KATZ
DESCRIPTION:Mit großer Freude kündigt die Galerie Boisserée eine retrospektive Pop Art Ausstellung an. "Andy Warhol bis Alex Katz" ist vom 25. April bis zum 30. Mai 2026 in der Galerie Boisserée zu sehen.\n\nhttps://eventfrog.de/de/p/kunst-ausstellungen/ausstellung/andy-warhol-bis-alex-katz-7450837227632873984.html
LOCATION:Galerie Boisserée
GEO:50.940040;6.953628
URL:https://eventfrog.de/de/p/kunst-ausstellungen/ausstellung/andy-warhol-bis-alex-katz-7450837227632873984.html
END:VEVENT
BEGIN:VEVENT
UID:20260420T173150Z-7450837227708371459@eventfrog.de
DTSTAMP:20260420T173150Z
DTSTART:20260515T080000Z
DTEND:20260515T160000Z
SUMMARY:ANDY WARHOL bis ALEX KATZ
DESCRIPTION:Mit großer Freude kündigt die Galerie Boisserée eine retrospektive Pop Art Ausstellung an. "Andy Warhol bis Alex Katz" ist vom 25. April bis zum 30. Mai 2026 in der Galerie Boisserée zu sehen.\n\nhttps://eventfrog.de/de/p/kunst-ausstellungen/ausstellung/andy-warhol-bis-alex-katz-7450837227708371459.html
LOCATION:Galerie Boisserée
GEO:50.940040;6.953628
URL:https://eventfrog.de/de/p/kunst-ausstellungen/ausstellung/andy-warhol-bis-alex-katz-7450837227708371459.html
END:VEVENT
BEGIN:VEVENT
UID:20260420T173150Z-7450837227788063249@eventfrog.de
DTSTAMP:20260420T173150Z
DTSTART:20260516T090000Z
DTEND:20260516T130000Z
SUMMARY:ANDY WARHOL bis ALEX KATZ
DESCRIPTION:Mit großer Freude kündigt die Galerie Boisserée eine retrospektive Pop Art Ausstellung an. "Andy Warhol bis Alex Katz" ist vom 25. April bis zum 30. Mai 2026 in der Galerie Boisserée zu sehen.\n\nhttps://eventfrog.de/de/p/kunst-ausstellungen/ausstellung/andy-warhol-bis-alex-katz-7450837227788063249.html
LOCATION:Galerie Boisserée
GEO:50.940040;6.953628
URL:https://eventfrog.de/de/p/kunst-ausstellungen/ausstellung/andy-warhol-bis-alex-katz-7450837227788063249.html
END:VEVENT
BEGIN:VEVENT
UID:20260420T173150Z-7450837227876143635@eventfrog.de
DTSTAMP:20260420T173150Z
DTSTART:20260519T080000Z
DTEND:20260519T160000Z
SUMMARY:ANDY WARHOL bis ALEX KATZ
DESCRIPTION:Mit großer Freude kündigt die Galerie Boisserée eine retrospektive Pop Art Ausstellung an. "Andy Warhol bis Alex Katz" ist vom 25. April bis zum 30. Mai 2026 in der Galerie Boisserée zu sehen.\n\nhttps://eventfrog.de/de/p/kunst-ausstellungen/ausstellung/andy-warhol-bis-alex-katz-7450837227876143635.html
LOCATION:Galerie Boisserée
GEO:50.940040;6.953628
URL:https://eventfrog.de/de/p/kunst-ausstellungen/ausstellung/andy-warhol-bis-alex-katz-7450837227876143635.html
END:VEVENT
BEGIN:VEVENT
UID:20260420T173150Z-7450837227960029784@eventfrog.de
DTSTAMP:20260420T173150Z
DTSTART:20260520T080000Z
DTEND:20260520T160000Z
SUMMARY:ANDY WARHOL bis ALEX KATZ
DESCRIPTION:Mit großer Freude kündigt die Galerie Boisserée eine retrospektive Pop Art Ausstellung an. "Andy Warhol bis Alex Katz" ist vom 25. April bis zum 30. Mai 2026 in der Galerie Boisserée zu sehen.\n\nhttps://eventfrog.de/de/p/kunst-ausstellungen/ausstellung/andy-warhol-bis-alex-katz-7450837227960029784.html
LOCATION:Galerie Boisserée
GEO:50.940040;6.953628
URL:https://eventfrog.de/de/p/kunst-ausstellungen/ausstellung/andy-warhol-bis-alex-katz-7450837227960029784.html
END:VEVENT
BEGIN:VEVENT
UID:20260420T173150Z-7450837228035527280@eventfrog.de
DTSTAMP:20260420T173150Z
DTSTART:20260521T080000Z
DTEND:20260521T160000Z
SUMMARY:ANDY WARHOL bis ALEX KATZ
DESCRIPTION:Mit großer Freude kündigt die Galerie Boisserée eine retrospektive Pop Art Ausstellung an. "Andy Warhol bis Alex Katz" ist vom 25. April bis zum 30. Mai 2026 in der Galerie Boisserée zu sehen.\n\nhttps://eventfrog.de/de/p/kunst-ausstellungen/ausstellung/andy-warhol-bis-alex-katz-7450837228035527280.html
LOCATION:Galerie Boisserée
GEO:50.940040;6.953628
URL:https://eventfrog.de/de/p/kunst-ausstellungen/ausstellung/andy-warhol-bis-alex-katz-7450837228035527280.html
END:VEVENT
BEGIN:VEVENT
UID:20260420T173150Z-7450837228119413395@eventfrog.de
DTSTAMP:20260420T173150Z
DTSTART:20260522T080000Z
DTEND:20260522T160000Z
SUMMARY:ANDY WARHOL bis ALEX KATZ
DESCRIPTION:Mit großer Freude kündigt die Galerie Boisserée eine retrospektive Pop Art Ausstellung an. "Andy Warhol bis Alex Katz" ist vom 25. April bis zum 30. Mai 2026 in der Galerie Boisserée zu sehen.\n\nhttps://eventfrog.de/de/p/kunst-ausstellungen/ausstellung/andy-warhol-bis-alex-katz-7450837228119413395.html
LOCATION:Galerie Boisserée
GEO:50.940040;6.953628
URL:https://eventfrog.de/de/p/kunst-ausstellungen/ausstellung/andy-warhol-bis-alex-katz-7450837228119413395.html
END:VEVENT
BEGIN:VEVENT
UID:20260420T173150Z-7450837228203299477@eventfrog.de
DTSTAMP:20260420T173150Z
DTSTART:20260523T090000Z
DTEND:20260523T130000Z
SUMMARY:ANDY WARHOL bis ALEX KATZ
DESCRIPTION:Mit großer Freude kündigt die Galerie Boisserée eine retrospektive Pop Art Ausstellung an. "Andy Warhol bis Alex Katz" ist vom 25. April bis zum 30. Mai 2026 in der Galerie Boisserée zu sehen.\n\nhttps://eventfrog.de/de/p/kunst-ausstellungen/ausstellung/andy-warhol-bis-alex-katz-7450837228203299477.html
LOCATION:Galerie Boisserée
GEO:50.940040;6.953628
URL:https://eventfrog.de/de/p/kunst-ausstellungen/ausstellung/andy-warhol-bis-alex-katz-7450837228203299477.html
END:VEVENT
BEGIN:VEVENT
UID:20260420T173150Z-7450837228274602699@eventfrog.de
DTSTAMP:20260420T173150Z
DTSTART:20260526T080000Z
DTEND:20260526T160000Z
SUMMARY:ANDY WARHOL bis ALEX KATZ
DESCRIPTION:Mit großer Freude kündigt die Galerie Boisserée eine retrospektive Pop Art Ausstellung an. "Andy Warhol bis Alex Katz" ist vom 25. April bis zum 30. Mai 2026 in der Galerie Boisserée zu sehen.\n\nhttps://eventfrog.de/de/p/kunst-ausstellungen/ausstellung/andy-warhol-bis-alex-katz-7450837228274602699.html
LOCATION:Galerie Boisserée
GEO:50.940040;6.953628
URL:https://eventfrog.de/de/p/kunst-ausstellungen/ausstellung/andy-warhol-bis-alex-katz-7450837228274602699.html
END:VEVENT
BEGIN:VEVENT
UID:20260420T173150Z-7450837228345905869@eventfrog.de
DTSTAMP:20260420T173150Z
DTSTART:20260527T080000Z
DTEND:20260527T160000Z
SUMMARY:ANDY WARHOL bis ALEX KATZ
DESCRIPTION:Mit großer Freude kündigt die Galerie Boisserée eine retrospektive Pop Art Ausstellung an. "Andy Warhol bis Alex Katz" ist vom 25. April bis zum 30. Mai 2026 in der Galerie Boisserée zu sehen.\n\nhttps://eventfrog.de/de/p/kunst-ausstellungen/ausstellung/andy-warhol-bis-alex-katz-7450837228345905869.html
LOCATION:Galerie Boisserée
GEO:50.940040;6.953628
URL:https://eventfrog.de/de/p/kunst-ausstellungen/ausstellung/andy-warhol-bis-alex-katz-7450837228345905869.html
END:VEVENT
BEGIN:VEVENT
UID:20260420T173150Z-7450837228417209061@eventfrog.de
DTSTAMP:20260420T173150Z
DTSTART:20260528T080000Z
DTEND:20260528T160000Z
SUMMARY:ANDY WARHOL bis ALEX KATZ
DESCRIPTION:Mit großer Freude kündigt die Galerie Boisserée eine retrospektive Pop Art Ausstellung an. "Andy Warhol bis Alex Katz" ist vom 25. April bis zum 30. Mai 2026 in der Galerie Boisserée zu sehen.\n\nhttps://eventfrog.de/de/p/kunst-ausstellungen/ausstellung/andy-warhol-bis-alex-katz-7450837228417209061.html
LOCATION:Galerie Boisserée
GEO:50.940040;6.953628
URL:https://eventfrog.de/de/p/kunst-ausstellungen/ausstellung/andy-warhol-bis-alex-katz-7450837228417209061.html
END:VEVENT
BEGIN:VEVENT
UID:20260420T173150Z-7450837228484317927@eventfrog.de
DTSTAMP:20260420T173150Z
DTSTART:20260529T080000Z
DTEND:20260529T160000Z
SUMMARY:ANDY WARHOL bis ALEX KATZ
DESCRIPTION:Mit großer Freude kündigt die Galerie Boisserée eine retrospektive Pop Art Ausstellung an. "Andy Warhol bis Alex Katz" ist vom 25. April bis zum 30. Mai 2026 in der Galerie Boisserée zu sehen.\n\nhttps://eventfrog.de/de/p/kunst-ausstellungen/ausstellung/andy-warhol-bis-alex-katz-7450837228484317927.html
LOCATION:Galerie Boisserée
GEO:50.940040;6.953628
URL:https://eventfrog.de/de/p/kunst-ausstellungen/ausstellung/andy-warhol-bis-alex-katz-7450837228484317927.html
END:VEVENT
BEGIN:VEVENT
UID:20260420T173150Z-7450837228551426793@eventfrog.de
DTSTAMP:20260420T173150Z
DTSTART:20260530T090000Z
DTEND:20260530T130000Z
SUMMARY:ANDY WARHOL bis ALEX KATZ
DESCRIPTION:Mit großer Freude kündigt die Galerie Boisserée eine retrospektive Pop Art Ausstellung an. "Andy Warhol bis Alex Katz" ist vom 25. April bis zum 30. Mai 2026 in der Galerie Boisserée zu sehen.\n\nhttps://eventfrog.de/de/p/kunst-ausstellungen/ausstellung/andy-warhol-bis-alex-katz-7450837228551426793.html
LOCATION:Galerie Boisserée
GEO:50.940040;6.953628
URL:https://eventfrog.de/de/p/kunst-ausstellungen/ausstellung/andy-warhol-bis-alex-katz-7450837228551426793.html
END:VEVENT
END:VCALENDAR