BEGIN:VCALENDAR
VERSION:2.0
PRODID:EVENTFROG//EVENTGROUP//ICAL
BEGIN:VEVENT
UID:20260424T083321Z-7450871396257805967@eventfrog.de
DTSTAMP:20260424T083321Z
DTSTART:20260610T173000Z
DTEND:20260610T190000Z
SUMMARY:Konzert Chor der 2. Klassen "Was wäre wenn.......?"
DESCRIPTION:Ein kurzweiliger Chorabend der zweiten Klassen mit Pop, Jazz und Klassik-Songs, gewürzt mit witzigen Überraschungen\n\nhttps://eventfrog.de/de/p/konzerte/chor/konzert-chor-der-2-klassen-was-waere-wenn-7450871396257805967.html
LOCATION:Südpol  Musik Tanz Theater
GEO:47.032800;8.296980
URL:https://eventfrog.de/de/p/konzerte/chor/konzert-chor-der-2-klassen-was-waere-wenn-7450871396257805967.html
END:VEVENT
BEGIN:VEVENT
UID:20260424T083321Z-7450872507303723234@eventfrog.de
DTSTAMP:20260424T083321Z
DTSTART:20260611T173000Z
DTEND:20260611T190000Z
SUMMARY:Konzert Chor der 2. Klassen "Was wäre wenn.......?"
DESCRIPTION:Ein kurzweiliger Chorabend der zweiten Klassen mit Pop, Jazz und Klassik-Songs, gewürzt mit witzigen Überraschungen\n\nhttps://eventfrog.de/de/p/konzerte/chor/konzert-chor-der-2-klassen-was-waere-wenn-7450872507303723234.html
LOCATION:Südpol  Musik Tanz Theater
GEO:47.032800;8.296980
URL:https://eventfrog.de/de/p/konzerte/chor/konzert-chor-der-2-klassen-was-waere-wenn-7450872507303723234.html
END:VEVENT
END:VCALENDAR