BEGIN:VCALENDAR
VERSION:2.0
PRODID:EVENTFROG//EVENTGROUP//ICAL
BEGIN:VEVENT
UID:20260423T053727Z-7451029332808483880@eventfrog.de
DTSTAMP:20260423T053727Z
DTSTART:20260425T113000Z
SUMMARY:Circus Knie 2026
DESCRIPTION:Circus Knie 2026\n\nhttps://eventfrog.de/de/p/theater-buehne/circus-knie-2026-7451029332808483880.html
LOCATION:Spelteriniplatz
GEO:47.428844;9.380342
URL:https://eventfrog.de/de/p/theater-buehne/circus-knie-2026-7451029332808483880.html
END:VEVENT
BEGIN:VEVENT
UID:20260423T053727Z-7451029332984644650@eventfrog.de
DTSTAMP:20260423T053727Z
DTSTART:20260425T150000Z
SUMMARY:Circus Knie 2026
DESCRIPTION:Circus Knie 2026\n\nhttps://eventfrog.de/de/p/theater-buehne/circus-knie-2026-7451029332984644650.html
LOCATION:Spelteriniplatz
GEO:47.428844;9.380342
URL:https://eventfrog.de/de/p/theater-buehne/circus-knie-2026-7451029332984644650.html
END:VEVENT
BEGIN:VEVENT
UID:20260423T053727Z-7451029333156611127@eventfrog.de
DTSTAMP:20260423T053727Z
DTSTART:20260425T180000Z
SUMMARY:Circus Knie 2026
DESCRIPTION:Circus Knie 2026\n\nhttps://eventfrog.de/de/p/theater-buehne/circus-knie-2026-7451029333156611127.html
LOCATION:Spelteriniplatz
GEO:47.428844;9.380342
URL:https://eventfrog.de/de/p/theater-buehne/circus-knie-2026-7451029333156611127.html
END:VEVENT
BEGIN:VEVENT
UID:20260423T053727Z-7451029333328577593@eventfrog.de
DTSTAMP:20260423T053727Z
DTSTART:20260426T083000Z
SUMMARY:Circus Knie 2026
DESCRIPTION:Circus Knie 2026\n\nhttps://eventfrog.de/de/p/theater-buehne/circus-knie-2026-7451029333328577593.html
LOCATION:Spelteriniplatz
GEO:47.428844;9.380342
URL:https://eventfrog.de/de/p/theater-buehne/circus-knie-2026-7451029333328577593.html
END:VEVENT
BEGIN:VEVENT
UID:20260423T053727Z-7451029333500544058@eventfrog.de
DTSTAMP:20260423T053727Z
DTSTART:20260426T123000Z
SUMMARY:Circus Knie 2026
DESCRIPTION:Circus Knie 2026\n\nhttps://eventfrog.de/de/p/theater-buehne/circus-knie-2026-7451029333500544058.html
LOCATION:Spelteriniplatz
GEO:47.428844;9.380342
URL:https://eventfrog.de/de/p/theater-buehne/circus-knie-2026-7451029333500544058.html
END:VEVENT
BEGIN:VEVENT
UID:20260423T053727Z-7451029333676704827@eventfrog.de
DTSTAMP:20260423T053727Z
DTSTART:20260426T160000Z
SUMMARY:Circus Knie 2026
DESCRIPTION:Circus Knie 2026\n\nhttps://eventfrog.de/de/p/theater-buehne/circus-knie-2026-7451029333676704827.html
LOCATION:Spelteriniplatz
GEO:47.428844;9.380342
URL:https://eventfrog.de/de/p/theater-buehne/circus-knie-2026-7451029333676704827.html
END:VEVENT
BEGIN:VEVENT
UID:20260423T053727Z-7451029333848671294@eventfrog.de
DTSTAMP:20260423T053727Z
DTSTART:20260430T173000Z
SUMMARY:Circus Knie 2026
DESCRIPTION:Circus Knie 2026\n\nhttps://eventfrog.de/de/p/theater-buehne/circus-knie-2026-7451029333848671294.html
LOCATION:Spelteriniplatz
GEO:47.428844;9.380342
URL:https://eventfrog.de/de/p/theater-buehne/circus-knie-2026-7451029333848671294.html
END:VEVENT
BEGIN:VEVENT
UID:20260423T053727Z-7451029334020637770@eventfrog.de
DTSTAMP:20260423T053727Z
DTSTART:20260501T173000Z
SUMMARY:Circus Knie 2026
DESCRIPTION:Circus Knie 2026\n\nhttps://eventfrog.de/de/p/theater-buehne/circus-knie-2026-7451029334020637770.html
LOCATION:Spelteriniplatz
GEO:47.428844;9.380342
URL:https://eventfrog.de/de/p/theater-buehne/circus-knie-2026-7451029334020637770.html
END:VEVENT
BEGIN:VEVENT
UID:20260423T053727Z-7451029334188409931@eventfrog.de
DTSTAMP:20260423T053727Z
DTSTART:20260502T113000Z
SUMMARY:Circus Knie 2026
DESCRIPTION:Circus Knie 2026\n\nhttps://eventfrog.de/de/p/theater-buehne/circus-knie-2026-7451029334188409931.html
LOCATION:Spelteriniplatz
GEO:47.428844;9.380342
URL:https://eventfrog.de/de/p/theater-buehne/circus-knie-2026-7451029334188409931.html
END:VEVENT
BEGIN:VEVENT
UID:20260423T053727Z-7451029334360376397@eventfrog.de
DTSTAMP:20260423T053727Z
DTSTART:20260502T150000Z
SUMMARY:Circus Knie 2026
DESCRIPTION:Circus Knie 2026\n\nhttps://eventfrog.de/de/p/theater-buehne/circus-knie-2026-7451029334360376397.html
LOCATION:Spelteriniplatz
GEO:47.428844;9.380342
URL:https://eventfrog.de/de/p/theater-buehne/circus-knie-2026-7451029334360376397.html
END:VEVENT
BEGIN:VEVENT
UID:20260423T053727Z-7451029334536537166@eventfrog.de
DTSTAMP:20260423T053727Z
DTSTART:20260502T180000Z
SUMMARY:Circus Knie 2026
DESCRIPTION:Circus Knie 2026\n\nhttps://eventfrog.de/de/p/theater-buehne/circus-knie-2026-7451029334536537166.html
LOCATION:Spelteriniplatz
GEO:47.428844;9.380342
URL:https://eventfrog.de/de/p/theater-buehne/circus-knie-2026-7451029334536537166.html
END:VEVENT
BEGIN:VEVENT
UID:20260423T053727Z-7451029334708503632@eventfrog.de
DTSTAMP:20260423T053727Z
DTSTART:20260503T123000Z
SUMMARY:Circus Knie 2026
DESCRIPTION:Circus Knie 2026\n\nhttps://eventfrog.de/de/p/theater-buehne/circus-knie-2026-7451029334708503632.html
LOCATION:Spelteriniplatz
GEO:47.428844;9.380342
URL:https://eventfrog.de/de/p/theater-buehne/circus-knie-2026-7451029334708503632.html
END:VEVENT
BEGIN:VEVENT
UID:20260423T053727Z-7451029334880470098@eventfrog.de
DTSTAMP:20260423T053727Z
DTSTART:20260503T160000Z
SUMMARY:Circus Knie 2026
DESCRIPTION:Circus Knie 2026\n\nhttps://eventfrog.de/de/p/theater-buehne/circus-knie-2026-7451029334880470098.html
LOCATION:Spelteriniplatz
GEO:47.428844;9.380342
URL:https://eventfrog.de/de/p/theater-buehne/circus-knie-2026-7451029334880470098.html
END:VEVENT
END:VCALENDAR