BEGIN:VCALENDAR
VERSION:2.0
PRODID:EVENTFROG//EVENTGROUP//ICAL
BEGIN:VEVENT
UID:20260424T105739Z-7451031668024990740@eventfrog.de
DTSTAMP:20260424T105739Z
DTSTART:20260427T071500Z
DTEND:20260427T091500Z
SUMMARY:ElternCafé
DESCRIPTION:Spielen, austauschen, gemütliches Zusammensein\n\nhttps://eventfrog.de/de/p/diverses/elterncafe-7451031668024990740.html
LOCATION:tiRumpel
GEO:47.420944;9.356495
URL:https://eventfrog.de/de/p/diverses/elterncafe-7451031668024990740.html
END:VEVENT
BEGIN:VEVENT
UID:20260424T105739Z-7451031668192762901@eventfrog.de
DTSTAMP:20260424T105739Z
DTSTART:20260504T071500Z
DTEND:20260504T091500Z
SUMMARY:ElternCafé
DESCRIPTION:Spielen, austauschen, gemütliches Zusammensein\n\nhttps://eventfrog.de/de/p/diverses/elterncafe-7451031668192762901.html
LOCATION:tiRumpel
GEO:47.420944;9.356495
URL:https://eventfrog.de/de/p/diverses/elterncafe-7451031668192762901.html
END:VEVENT
BEGIN:VEVENT
UID:20260424T105739Z-7451031668360535062@eventfrog.de
DTSTAMP:20260424T105739Z
DTSTART:20260511T071500Z
DTEND:20260511T091500Z
SUMMARY:ElternCafé
DESCRIPTION:Spielen, austauschen, gemütliches Zusammensein\n\nhttps://eventfrog.de/de/p/diverses/elterncafe-7451031668360535062.html
LOCATION:tiRumpel
GEO:47.420944;9.356495
URL:https://eventfrog.de/de/p/diverses/elterncafe-7451031668360535062.html
END:VEVENT
BEGIN:VEVENT
UID:20260424T105739Z-7451031668532501529@eventfrog.de
DTSTAMP:20260424T105739Z
DTSTART:20260518T071500Z
DTEND:20260518T091500Z
SUMMARY:ElternCafé
DESCRIPTION:Spielen, austauschen, gemütliches Zusammensein\n\nhttps://eventfrog.de/de/p/diverses/elterncafe-7451031668532501529.html
LOCATION:tiRumpel
GEO:47.420944;9.356495
URL:https://eventfrog.de/de/p/diverses/elterncafe-7451031668532501529.html
END:VEVENT
BEGIN:VEVENT
UID:20260424T105739Z-7451031668700273691@eventfrog.de
DTSTAMP:20260424T105739Z
DTSTART:20260601T071500Z
DTEND:20260601T091500Z
SUMMARY:ElternCafé
DESCRIPTION:Spielen, austauschen, gemütliches Zusammensein\n\nhttps://eventfrog.de/de/p/diverses/elterncafe-7451031668700273691.html
LOCATION:tiRumpel
GEO:47.420944;9.356495
URL:https://eventfrog.de/de/p/diverses/elterncafe-7451031668700273691.html
END:VEVENT
BEGIN:VEVENT
UID:20260424T105739Z-7451031668868045852@eventfrog.de
DTSTAMP:20260424T105739Z
DTSTART:20260608T071500Z
DTEND:20260608T091500Z
SUMMARY:ElternCafé
DESCRIPTION:Spielen, austauschen, gemütliches Zusammensein\n\nhttps://eventfrog.de/de/p/diverses/elterncafe-7451031668868045852.html
LOCATION:tiRumpel
GEO:47.420944;9.356495
URL:https://eventfrog.de/de/p/diverses/elterncafe-7451031668868045852.html
END:VEVENT
BEGIN:VEVENT
UID:20260424T105739Z-7451031669035818013@eventfrog.de
DTSTAMP:20260424T105739Z
DTSTART:20260615T071500Z
DTEND:20260615T091500Z
SUMMARY:ElternCafé
DESCRIPTION:Spielen, austauschen, gemütliches Zusammensein\n\nhttps://eventfrog.de/de/p/diverses/elterncafe-7451031669035818013.html
LOCATION:tiRumpel
GEO:47.420944;9.356495
URL:https://eventfrog.de/de/p/diverses/elterncafe-7451031669035818013.html
END:VEVENT
BEGIN:VEVENT
UID:20260424T105739Z-7451031669207784479@eventfrog.de
DTSTAMP:20260424T105739Z
DTSTART:20260622T071500Z
DTEND:20260622T091500Z
SUMMARY:ElternCafé
DESCRIPTION:Spielen, austauschen, gemütliches Zusammensein\n\nhttps://eventfrog.de/de/p/diverses/elterncafe-7451031669207784479.html
LOCATION:tiRumpel
GEO:47.420944;9.356495
URL:https://eventfrog.de/de/p/diverses/elterncafe-7451031669207784479.html
END:VEVENT
BEGIN:VEVENT
UID:20260424T105739Z-7451031669375556640@eventfrog.de
DTSTAMP:20260424T105739Z
DTSTART:20260629T071500Z
DTEND:20260629T091500Z
SUMMARY:ElternCafé
DESCRIPTION:Spielen, austauschen, gemütliches Zusammensein\n\nhttps://eventfrog.de/de/p/diverses/elterncafe-7451031669375556640.html
LOCATION:tiRumpel
GEO:47.420944;9.356495
URL:https://eventfrog.de/de/p/diverses/elterncafe-7451031669375556640.html
END:VEVENT
END:VCALENDAR