BEGIN:VCALENDAR
VERSION:2.0
PRODID:EVENTFROG//EVENTGROUP//ICAL
BEGIN:VEVENT
UID:20260419T152834Z-7451322489626472085@eventfrog.de
DTSTAMP:20260419T152834Z
DTSTART:20260421T173000Z
DTEND:20260421T193000Z
SUMMARY:Musica Palatina beginnt neues Projekt
DESCRIPTION:Musica Palatina beginnt neues Projekt. Am 14. Juni 2026 gestaltet Musica Palatina im Kloster St. Magdalena in Speyer ein Choralamt mit gregorianischen Gesängen.\n\nhttps://eventfrog.de/de/p/kurse-seminare/musik-tanz/musica-palatina-beginnt-neues-projekt-7451322489626472085.html
LOCATION:Rheingönheim / Speyer
URL:https://eventfrog.de/de/p/kurse-seminare/musik-tanz/musica-palatina-beginnt-neues-projekt-7451322489626472085.html
END:VEVENT
BEGIN:VEVENT
UID:20260419T152834Z-7451322639799290404@eventfrog.de
DTSTAMP:20260419T152834Z
DTSTART:20260506T173000Z
DTEND:20260506T193000Z
SUMMARY:Musica Palatina beginnt neues Projekt
DESCRIPTION:Musica Palatina beginnt neues Projekt. Am 14. Juni 2026 gestaltet Musica Palatina im Kloster St. Magdalena in Speyer ein Choralamt mit gregorianischen Gesängen.\n\nhttps://eventfrog.de/de/p/kurse-seminare/musik-tanz/musica-palatina-beginnt-neues-projekt-7451322639799290404.html
LOCATION:Rheingönheim / Speyer
URL:https://eventfrog.de/de/p/kurse-seminare/musik-tanz/musica-palatina-beginnt-neues-projekt-7451322639799290404.html
END:VEVENT
BEGIN:VEVENT
UID:20260419T152834Z-7451322640025783452@eventfrog.de
DTSTAMP:20260419T152834Z
DTSTART:20260513T173000Z
DTEND:20260513T193000Z
SUMMARY:Musica Palatina beginnt neues Projekt
DESCRIPTION:Musica Palatina beginnt neues Projekt. Am 14. Juni 2026 gestaltet Musica Palatina im Kloster St. Magdalena in Speyer ein Choralamt mit gregorianischen Gesängen.\n\nhttps://eventfrog.de/de/p/kurse-seminare/musik-tanz/musica-palatina-beginnt-neues-projekt-7451322640025783452.html
LOCATION:Rheingönheim / Speyer
URL:https://eventfrog.de/de/p/kurse-seminare/musik-tanz/musica-palatina-beginnt-neues-projekt-7451322640025783452.html
END:VEVENT
BEGIN:VEVENT
UID:20260419T152834Z-7451322640155806950@eventfrog.de
DTSTAMP:20260419T152834Z
DTSTART:20260529T173000Z
DTEND:20260529T193000Z
SUMMARY:Musica Palatina beginnt neues Projekt
DESCRIPTION:Musica Palatina beginnt neues Projekt. Am 14. Juni 2026 gestaltet Musica Palatina im Kloster St. Magdalena in Speyer ein Choralamt mit gregorianischen Gesängen.\n\nhttps://eventfrog.de/de/p/kurse-seminare/musik-tanz/musica-palatina-beginnt-neues-projekt-7451322640155806950.html
LOCATION:Rheingönheim / Speyer
URL:https://eventfrog.de/de/p/kurse-seminare/musik-tanz/musica-palatina-beginnt-neues-projekt-7451322640155806950.html
END:VEVENT
BEGIN:VEVENT
UID:20260419T152834Z-7451322640331967752@eventfrog.de
DTSTAMP:20260419T152834Z
DTSTART:20260609T173000Z
DTEND:20260609T193000Z
SUMMARY:Musica Palatina beginnt neues Projekt
DESCRIPTION:Musica Palatina beginnt neues Projekt. Am 14. Juni 2026 gestaltet Musica Palatina im Kloster St. Magdalena in Speyer ein Choralamt mit gregorianischen Gesängen.\n\nhttps://eventfrog.de/de/p/kurse-seminare/musik-tanz/musica-palatina-beginnt-neues-projekt-7451322640331967752.html
LOCATION:Rheingönheim / Speyer
URL:https://eventfrog.de/de/p/kurse-seminare/musik-tanz/musica-palatina-beginnt-neues-projekt-7451322640331967752.html
END:VEVENT
BEGIN:VEVENT
UID:20260419T152834Z-7451322640487157003@eventfrog.de
DTSTAMP:20260419T152834Z
DTSTART:20260614T063000Z
DTEND:20260614T080000Z
SUMMARY:Musica Palatina beginnt neues Projekt
DESCRIPTION:Musica Palatina beginnt neues Projekt. Am 14. Juni 2026 gestaltet Musica Palatina im Kloster St. Magdalena in Speyer ein Choralamt mit gregorianischen Gesängen.\n\nhttps://eventfrog.de/de/p/kurse-seminare/musik-tanz/musica-palatina-beginnt-neues-projekt-7451322640487157003.html
LOCATION:Rheingönheim / Speyer
URL:https://eventfrog.de/de/p/kurse-seminare/musik-tanz/musica-palatina-beginnt-neues-projekt-7451322640487157003.html
END:VEVENT
END:VCALENDAR