BEGIN:VCALENDAR
VERSION:2.0
PRODID:EVENTFROG//EVENTGROUP//ICAL
BEGIN:VEVENT
UID:20260422T181522Z-7424945985049074599@eventfrog.de
DTSTAMP:20260422T181522Z
DTSTART:20260423T173000Z
SUMMARY:Barbara Buser – Pionierin der Nachhaltigkeit
DESCRIPTION:Barbara Buser - Pionierin der Nachhaltigkeit\n\nhttps://eventfrog.de/de/p/freizeit-ausfluege/barbara-buser-pionierin-der-nachhaltigkeit-7424945985049074599.html
LOCATION:Cinema Luna
GEO:47.558329;8.895727
URL:https://eventfrog.de/de/p/freizeit-ausfluege/barbara-buser-pionierin-der-nachhaltigkeit-7424945985049074599.html
END:VEVENT
BEGIN:VEVENT
UID:20260422T181522Z-7451385554501919984@eventfrog.de
DTSTAMP:20260422T181522Z
DTSTART:20260424T153000Z
SUMMARY:Barbara Buser – Pionierin der Nachhaltigkeit
DESCRIPTION:Barbara Buser - Pionierin der Nachhaltigkeit\n\nhttps://eventfrog.de/de/p/freizeit-ausfluege/barbara-buser-pionierin-der-nachhaltigkeit-7451385554501919984.html
LOCATION:Cinema Luna
GEO:47.558329;8.895727
URL:https://eventfrog.de/de/p/freizeit-ausfluege/barbara-buser-pionierin-der-nachhaltigkeit-7451385554501919984.html
END:VEVENT
BEGIN:VEVENT
UID:20260422T181522Z-7451385554678080753@eventfrog.de
DTSTAMP:20260422T181522Z
DTSTART:20260426T153000Z
SUMMARY:Barbara Buser – Pionierin der Nachhaltigkeit
DESCRIPTION:Barbara Buser - Pionierin der Nachhaltigkeit\n\nhttps://eventfrog.de/de/p/freizeit-ausfluege/barbara-buser-pionierin-der-nachhaltigkeit-7451385554678080753.html
LOCATION:Cinema Luna
GEO:47.558329;8.895727
URL:https://eventfrog.de/de/p/freizeit-ausfluege/barbara-buser-pionierin-der-nachhaltigkeit-7451385554678080753.html
END:VEVENT
END:VCALENDAR