BEGIN:VCALENDAR
VERSION:2.0
PRODID:EVENTFROG//EVENTGROUP//ICAL
BEGIN:VEVENT
UID:20260419T180440Z-7451387020931270169@eventfrog.de
DTSTAMP:20260419T180440Z
DTSTART:20260425T063000Z
DTEND:20260425T150000Z
SUMMARY:Hausmesse bei Wohnwagen Wagner GmbH
DESCRIPTION:Hausmesse mit verkaufsoffenem Wochenende \n\nhttps://eventfrog.de/de/p/messen/messe/hausmesse-bei-wohnwagen-wagner-gmbh-7451387020931270169.html
LOCATION:Wohnwagen Wagner GmbH
GEO:49.460721;7.144745
URL:https://eventfrog.de/de/p/messen/messe/hausmesse-bei-wohnwagen-wagner-gmbh-7451387020931270169.html
END:VEVENT
BEGIN:VEVENT
UID:20260419T180440Z-7451387174824484106@eventfrog.de
DTSTAMP:20260419T180440Z
DTSTART:20260426T080000Z
DTEND:20260426T150000Z
SUMMARY:Hausmesse bei Wohnwagen Wagner GmbH
DESCRIPTION:Hausmesse mit verkaufsoffenem Wochenende \n\nhttps://eventfrog.de/de/p/messen/messe/hausmesse-bei-wohnwagen-wagner-gmbh-7451387174824484106.html
LOCATION:Wohnwagen Wagner GmbH
GEO:49.460721;7.144745
URL:https://eventfrog.de/de/p/messen/messe/hausmesse-bei-wohnwagen-wagner-gmbh-7451387174824484106.html
END:VEVENT
END:VCALENDAR