BEGIN:VCALENDAR
VERSION:2.0
PRODID:EVENTFROG//EVENTGROUP//ICAL
BEGIN:VEVENT
UID:20260419T135643Z-7451392141266288490@eventfrog.de
DTSTAMP:20260419T135643Z
DTSTART:20260509T110000Z
SUMMARY:Siri Hustvedt – Dance Around the Self
DESCRIPTION:Bewegendes Porträt der grossen Autorin und Essayistin.\n\nhttps://eventfrog.de/de/p/freizeit-ausfluege/siri-hustvedt-dance-around-the-self-7451392141266288490.html
LOCATION:Kinok – Cinema in der Lokremise
GEO:47.421287;9.366104
URL:https://eventfrog.de/de/p/freizeit-ausfluege/siri-hustvedt-dance-around-the-self-7451392141266288490.html
END:VEVENT
BEGIN:VEVENT
UID:20260419T135643Z-7451392141463420780@eventfrog.de
DTSTAMP:20260419T135643Z
DTSTART:20260511T142000Z
SUMMARY:Siri Hustvedt – Dance Around the Self
DESCRIPTION:Bewegendes Porträt der grossen Autorin und Essayistin.\n\nhttps://eventfrog.de/de/p/freizeit-ausfluege/siri-hustvedt-dance-around-the-self-7451392141463420780.html
LOCATION:Kinok – Cinema in der Lokremise
GEO:47.421287;9.366104
URL:https://eventfrog.de/de/p/freizeit-ausfluege/siri-hustvedt-dance-around-the-self-7451392141463420780.html
END:VEVENT
BEGIN:VEVENT
UID:20260419T135643Z-7451392141635387245@eventfrog.de
DTSTAMP:20260419T135643Z
DTSTART:20260522T144500Z
SUMMARY:Siri Hustvedt – Dance Around the Self
DESCRIPTION:Bewegendes Porträt der grossen Autorin und Essayistin.\n\nhttps://eventfrog.de/de/p/freizeit-ausfluege/siri-hustvedt-dance-around-the-self-7451392141635387245.html
LOCATION:Kinok – Cinema in der Lokremise
GEO:47.421287;9.366104
URL:https://eventfrog.de/de/p/freizeit-ausfluege/siri-hustvedt-dance-around-the-self-7451392141635387245.html
END:VEVENT
BEGIN:VEVENT
UID:20260419T135643Z-7451392141803159455@eventfrog.de
DTSTAMP:20260419T135643Z
DTSTART:20260527T123000Z
SUMMARY:Siri Hustvedt – Dance Around the Self
DESCRIPTION:Bewegendes Porträt der grossen Autorin und Essayistin.\n\nhttps://eventfrog.de/de/p/freizeit-ausfluege/siri-hustvedt-dance-around-the-self-7451392141803159455.html
LOCATION:Kinok – Cinema in der Lokremise
GEO:47.421287;9.366104
URL:https://eventfrog.de/de/p/freizeit-ausfluege/siri-hustvedt-dance-around-the-self-7451392141803159455.html
END:VEVENT
END:VCALENDAR