BEGIN:VCALENDAR
VERSION:2.0
PRODID:EVENTFROG//EVENTGROUP//ICAL
BEGIN:VEVENT
UID:20260426T001814Z-7391605749409939145@eventfrog.de
DTSTAMP:20260426T001814Z
DTSTART:20260508T180000Z
SUMMARY:tiltanic Theatersport
DESCRIPTION:tiltanic Theatersport\n\nhttps://eventfrog.de/de/p/theater-buehne/tiltanic-theatersport-7391605749409939145.html
LOCATION:Bistro FigurenTheater St. Gallen
GEO:47.424889;9.381883
URL:https://eventfrog.de/de/p/theater-buehne/tiltanic-theatersport-7391605749409939145.html
END:VEVENT
END:VCALENDAR