BEGIN:VCALENDAR
VERSION:2.0
PRODID:EVENTFROG//EVENTGROUP//ICAL
BEGIN:VEVENT
UID:20260424T093129Z-7444515585168253754@eventfrog.de
DTSTAMP:20260424T093129Z
DTSTART:20260624T160000Z
DTEND:20260624T180000Z
SUMMARY:Kunst und Glasieren
DESCRIPTION:Aktuelle Kunst erkunden und glasieren im Atelier.\n\nhttps://eventfrog.de/de/p/kunst-ausstellungen/kunst-und-glasieren-7444515585168253754.html
LOCATION:Kunsthalle Appenzell
GEO:47.325775;9.407753
URL:https://eventfrog.de/de/p/kunst-ausstellungen/kunst-und-glasieren-7444515585168253754.html
END:VEVENT
END:VCALENDAR