BEGIN:VCALENDAR
VERSION:2.0
PRODID:EVENTFROG//EVENTGROUP//ICAL
BEGIN:VEVENT
UID:20260424T093025Z-7450301577431110715@eventfrog.de
DTSTAMP:20260424T093025Z
DTSTART:20260502T150000Z
SUMMARY:Der Tod ist ein Arschloch
DESCRIPTION:Mutiges Porträt über das Sterben in unserer Gesellschaft.\n\nhttps://eventfrog.de/de/p/freizeit-ausfluege/der-tod-ist-ein-arschloch-7450301577431110715.html
LOCATION:Kino Rosental
GEO:47.442578;9.533443
URL:https://eventfrog.de/de/p/freizeit-ausfluege/der-tod-ist-ein-arschloch-7450301577431110715.html
END:VEVENT
BEGIN:VEVENT
UID:20260424T093025Z-7450301577603077180@eventfrog.de
DTSTAMP:20260424T093025Z
DTSTART:20260517T173000Z
SUMMARY:Der Tod ist ein Arschloch
DESCRIPTION:Mutiges Porträt über das Sterben in unserer Gesellschaft.\n\nhttps://eventfrog.de/de/p/freizeit-ausfluege/der-tod-ist-ein-arschloch-7450301577603077180.html
LOCATION:Kino Rosental
GEO:47.442578;9.533443
URL:https://eventfrog.de/de/p/freizeit-ausfluege/der-tod-ist-ein-arschloch-7450301577603077180.html
END:VEVENT
BEGIN:VEVENT
UID:20260424T093025Z-7450301577779237976@eventfrog.de
DTSTAMP:20260424T093025Z
DTSTART:20260526T173000Z
SUMMARY:Der Tod ist ein Arschloch
DESCRIPTION:Mutiges Porträt über das Sterben in unserer Gesellschaft.\n\nhttps://eventfrog.de/de/p/freizeit-ausfluege/der-tod-ist-ein-arschloch-7450301577779237976.html
LOCATION:Kino Rosental
GEO:47.442578;9.533443
URL:https://eventfrog.de/de/p/freizeit-ausfluege/der-tod-ist-ein-arschloch-7450301577779237976.html
END:VEVENT
END:VCALENDAR