BEGIN:VCALENDAR
VERSION:2.0
PRODID:EVENTFROG//EVENTGROUP//ICAL
BEGIN:VEVENT
UID:20260424T094054Z-7440170055021641367@eventfrog.de
DTSTAMP:20260424T094054Z
DTSTART:20260529T220000Z
DTEND:20260531T215900Z
SUMMARY:Kulturlandsgemeinde: Haltestellenschwärmerei
DESCRIPTION:Das Zugabenteuer fürs Wochenende.\n\nhttps://eventfrog.de/de/p/kunst-ausstellungen/kulturlandsgemeinde-haltestellenschwaermerei-7440170055021641367.html
LOCATION:Gossau bis Wasserauen
GEO:47.387388;9.277560
URL:https://eventfrog.de/de/p/kunst-ausstellungen/kulturlandsgemeinde-haltestellenschwaermerei-7440170055021641367.html
END:VEVENT
END:VCALENDAR