BEGIN:VCALENDAR
VERSION:2.0
PRODID:EVENTFROG//EVENTGROUP//ICAL
BEGIN:VEVENT
UID:20260424T141133Z-7451985775535646086@eventfrog.de
DTSTAMP:20260424T141133Z
DTSTART:20260425T143000Z
DTEND:20260425T200000Z
SUMMARY:Zwischen Fässern und Partituren – Lortzing in Auerbachs Kell
DESCRIPTION:Führung zu Albert Lortzing mit Wein aus dem Fasskeller und Abendessen im Grossen Keller, 25./26. April & 2./3. Mai 2026, 16:30 Uhr.\n\nhttps://eventfrog.de/de/p/fuehrungen-vortraege/fuehrung/zwischen-faessern-und-partituren-lortzing-in-auerbachs-kell-7451985775535646086.html
LOCATION:Auerbachs Keller Leipzig
GEO:51.344737;12.373854
URL:https://eventfrog.de/de/p/fuehrungen-vortraege/fuehrung/zwischen-faessern-und-partituren-lortzing-in-auerbachs-kell-7451985775535646086.html
END:VEVENT
BEGIN:VEVENT
UID:20260424T141133Z-7451985694417777489@eventfrog.de
DTSTAMP:20260424T141133Z
DTSTART:20260426T143000Z
DTEND:20260426T200000Z
SUMMARY:Zwischen Fässern und Partituren – Lortzing in Auerbachs Kell
DESCRIPTION:Führung zu Albert Lortzing mit Wein aus dem Fasskeller und Abendessen im Grossen Keller, 25./26. April & 2./3. Mai 2026, 16:30 Uhr.\n\nhttps://eventfrog.de/de/p/fuehrungen-vortraege/fuehrung/zwischen-faessern-und-partituren-lortzing-in-auerbachs-kell-7451985694417777489.html
LOCATION:Auerbachs Keller Leipzig
GEO:51.344737;12.373854
URL:https://eventfrog.de/de/p/fuehrungen-vortraege/fuehrung/zwischen-faessern-und-partituren-lortzing-in-auerbachs-kell-7451985694417777489.html
END:VEVENT
BEGIN:VEVENT
UID:20260424T141133Z-7451985775799887787@eventfrog.de
DTSTAMP:20260424T141133Z
DTSTART:20260502T143000Z
DTEND:20260502T200000Z
SUMMARY:Zwischen Fässern und Partituren – Lortzing in Auerbachs Kell
DESCRIPTION:Führung zu Albert Lortzing mit Wein aus dem Fasskeller und Abendessen im Grossen Keller, 25./26. April & 2./3. Mai 2026, 16:30 Uhr.\n\nhttps://eventfrog.de/de/p/fuehrungen-vortraege/fuehrung/zwischen-faessern-und-partituren-lortzing-in-auerbachs-kell-7451985775799887787.html
LOCATION:Auerbachs Keller Leipzig
GEO:51.344737;12.373854
URL:https://eventfrog.de/de/p/fuehrungen-vortraege/fuehrung/zwischen-faessern-und-partituren-lortzing-in-auerbachs-kell-7451985775799887787.html
END:VEVENT
BEGIN:VEVENT
UID:20260424T141133Z-7451985775971854393@eventfrog.de
DTSTAMP:20260424T141133Z
DTSTART:20260503T143000Z
DTEND:20260503T200000Z
SUMMARY:Zwischen Fässern und Partituren – Lortzing in Auerbachs Kell
DESCRIPTION:Führung zu Albert Lortzing mit Wein aus dem Fasskeller und Abendessen im Grossen Keller, 25./26. April & 2./3. Mai 2026, 16:30 Uhr.\n\nhttps://eventfrog.de/de/p/fuehrungen-vortraege/fuehrung/zwischen-faessern-und-partituren-lortzing-in-auerbachs-kell-7451985775971854393.html
LOCATION:Auerbachs Keller Leipzig
GEO:51.344737;12.373854
URL:https://eventfrog.de/de/p/fuehrungen-vortraege/fuehrung/zwischen-faessern-und-partituren-lortzing-in-auerbachs-kell-7451985775971854393.html
END:VEVENT
END:VCALENDAR