BEGIN:VCALENDAR
VERSION:2.0
PRODID:EVENTFROG//EVENTGROUP//ICAL
BEGIN:VEVENT
UID:20260424T083500Z-7452025731985482932@eventfrog.de
DTSTAMP:20260424T083500Z
DTSTART:20260501T170000Z
DTEND:20260501T210000Z
SUMMARY:Night Shift at the Fusion Factory
DESCRIPTION:Am 1. Mai 2026 erlebt man eine faszinierende Fusionismus-Kunst unter Schwarzlicht mit Live-Jams des Fusion Orchestra.\n\nhttps://eventfrog.de/de/p/kunst-ausstellungen/kultur/night-shift-at-the-fusion-factory-7452025731985482932.html
LOCATION:Fusion Factory - David Pflugi
GEO:47.414015;7.506068
URL:https://eventfrog.de/de/p/kunst-ausstellungen/kultur/night-shift-at-the-fusion-factory-7452025731985482932.html
END:VEVENT
END:VCALENDAR