BEGIN:VCALENDAR
VERSION:2.0
PRODID:EVENTFROG//EVENTGROUP//ICAL
BEGIN:VEVENT
UID:20260424T092233Z-7452110734714999272@eventfrog.de
DTSTAMP:20260424T092233Z
DTSTART:20260503T080000Z
SUMMARY:Nomal!
DESCRIPTION:Gschichtä, Versli und meeh.\n\nhttps://eventfrog.de/de/p/theater-buehne/nomal-7452110734714999272.html
LOCATION:Stuhlfabrik Herisau
GEO:47.387798;9.284961
URL:https://eventfrog.de/de/p/theater-buehne/nomal-7452110734714999272.html
END:VEVENT
END:VCALENDAR