BEGIN:VCALENDAR
VERSION:2.0
PRODID:EVENTFROG//EVENTGROUP//ICAL
BEGIN:VEVENT
UID:20260425T230503Z-7452115917335444448@eventfrog.de
DTSTAMP:20260425T230503Z
DTSTART:20260502T150000Z
SUMMARY:Dschungelbuch
DESCRIPTION:Mit Bagheera leise durch den Dschungel schleichen.\n\nhttps://eventfrog.de/de/p/theater-buehne/dschungelbuch-7452115917335444448.html
LOCATION:Storchen
GEO:47.427136;9.376076
URL:https://eventfrog.de/de/p/theater-buehne/dschungelbuch-7452115917335444448.html
END:VEVENT
BEGIN:VEVENT
UID:20260425T230503Z-7452115917507410913@eventfrog.de
DTSTAMP:20260425T230503Z
DTSTART:20260503T130000Z
SUMMARY:Dschungelbuch
DESCRIPTION:Mit Bagheera leise durch den Dschungel schleichen.\n\nhttps://eventfrog.de/de/p/theater-buehne/dschungelbuch-7452115917507410913.html
LOCATION:Storchen
GEO:47.427136;9.376076
URL:https://eventfrog.de/de/p/theater-buehne/dschungelbuch-7452115917507410913.html
END:VEVENT
BEGIN:VEVENT
UID:20260425T230503Z-7452115917683571683@eventfrog.de
DTSTAMP:20260425T230503Z
DTSTART:20260509T130000Z
SUMMARY:Dschungelbuch
DESCRIPTION:Mit Bagheera leise durch den Dschungel schleichen.\n\nhttps://eventfrog.de/de/p/theater-buehne/dschungelbuch-7452115917683571683.html
LOCATION:Storchen
GEO:47.427136;9.376076
URL:https://eventfrog.de/de/p/theater-buehne/dschungelbuch-7452115917683571683.html
END:VEVENT
BEGIN:VEVENT
UID:20260425T230503Z-7452115917859732452@eventfrog.de
DTSTAMP:20260425T230503Z
DTSTART:20260510T130000Z
SUMMARY:Dschungelbuch
DESCRIPTION:Mit Bagheera leise durch den Dschungel schleichen.\n\nhttps://eventfrog.de/de/p/theater-buehne/dschungelbuch-7452115917859732452.html
LOCATION:Storchen
GEO:47.427136;9.376076
URL:https://eventfrog.de/de/p/theater-buehne/dschungelbuch-7452115917859732452.html
END:VEVENT
BEGIN:VEVENT
UID:20260425T230503Z-7452115918031698917@eventfrog.de
DTSTAMP:20260425T230503Z
DTSTART:20260513T123000Z
SUMMARY:Dschungelbuch
DESCRIPTION:Mit Bagheera leise durch den Dschungel schleichen.\n\nhttps://eventfrog.de/de/p/theater-buehne/dschungelbuch-7452115918031698917.html
LOCATION:Storchen
GEO:47.427136;9.376076
URL:https://eventfrog.de/de/p/theater-buehne/dschungelbuch-7452115918031698917.html
END:VEVENT
BEGIN:VEVENT
UID:20260425T230503Z-7452115918203665383@eventfrog.de
DTSTAMP:20260425T230503Z
DTSTART:20260520T123000Z
SUMMARY:Dschungelbuch
DESCRIPTION:Mit Bagheera leise durch den Dschungel schleichen.\n\nhttps://eventfrog.de/de/p/theater-buehne/dschungelbuch-7452115918203665383.html
LOCATION:Storchen
GEO:47.427136;9.376076
URL:https://eventfrog.de/de/p/theater-buehne/dschungelbuch-7452115918203665383.html
END:VEVENT
BEGIN:VEVENT
UID:20260425T230503Z-7452115918375631849@eventfrog.de
DTSTAMP:20260425T230503Z
DTSTART:20260530T130000Z
SUMMARY:Dschungelbuch
DESCRIPTION:Mit Bagheera leise durch den Dschungel schleichen.\n\nhttps://eventfrog.de/de/p/theater-buehne/dschungelbuch-7452115918375631849.html
LOCATION:Storchen
GEO:47.427136;9.376076
URL:https://eventfrog.de/de/p/theater-buehne/dschungelbuch-7452115918375631849.html
END:VEVENT
BEGIN:VEVENT
UID:20260425T230503Z-7452115918547598314@eventfrog.de
DTSTAMP:20260425T230503Z
DTSTART:20260531T130000Z
SUMMARY:Dschungelbuch
DESCRIPTION:Mit Bagheera leise durch den Dschungel schleichen.\n\nhttps://eventfrog.de/de/p/theater-buehne/dschungelbuch-7452115918547598314.html
LOCATION:Storchen
GEO:47.427136;9.376076
URL:https://eventfrog.de/de/p/theater-buehne/dschungelbuch-7452115918547598314.html
END:VEVENT
END:VCALENDAR