BEGIN:VCALENDAR
VERSION:2.0
PRODID:EVENTFROG//EVENTGROUP//ICAL
BEGIN:VEVENT
UID:20260424T105649Z-7452115920309206013@eventfrog.de
DTSTAMP:20260424T105649Z
DTSTART:20260530T180000Z
SUMMARY:Pup Quiz
DESCRIPTION:Quiz, Drinks, Music.\n\nhttps://eventfrog.de/de/p/diverses/pup-quiz-7452115920309206013.html
LOCATION:Eintracht
GEO:47.412162;9.040474
URL:https://eventfrog.de/de/p/diverses/pup-quiz-7452115920309206013.html
END:VEVENT
END:VCALENDAR