BEGIN:VCALENDAR
VERSION:2.0
PRODID:EVENTFROG//EVENTGROUP//ICAL
BEGIN:VEVENT
UID:20260424T092323Z-7452214785062489759@eventfrog.de
DTSTAMP:20260424T092323Z
DTSTART:20260514T083000Z
DTEND:20260514T113000Z
SUMMARY:Brunch an Auffahrt
DESCRIPTION:Feines hausgemachtes Brunch-Buffet\n\nhttps://eventfrog.de/de/p/essen-trinken/brunch-an-auffahrt-7452214785062489759.html
LOCATION:Schützenstübli Neuwilen - Beiz mit Reiz
GEO:47.626307;9.135466
URL:https://eventfrog.de/de/p/essen-trinken/brunch-an-auffahrt-7452214785062489759.html
END:VEVENT
BEGIN:VEVENT
UID:20260424T092323Z-7452215220821334634@eventfrog.de
DTSTAMP:20260424T092323Z
DTSTART:20260801T083000Z
DTEND:20260801T113000Z
SUMMARY:Brunch an Auffahrt
DESCRIPTION:Feines hausgemachtes Brunch-Buffet\n\nhttps://eventfrog.de/de/p/essen-trinken/brunch-an-auffahrt-7452215220821334634.html
LOCATION:Schützenstübli Neuwilen - Beiz mit Reiz
GEO:47.626307;9.135466
URL:https://eventfrog.de/de/p/essen-trinken/brunch-an-auffahrt-7452215220821334634.html
END:VEVENT
END:VCALENDAR