BEGIN:VCALENDAR
VERSION:2.0
PRODID:EVENTFROG//EVENTGROUP//ICAL
BEGIN:VEVENT
UID:20260424T100452Z-7452279447720357221@eventfrog.de
DTSTAMP:20260424T100452Z
DTSTART:20260619T100000Z
DTEND:20260619T160000Z
SUMMARY:Sounds Nice – Audiovisuelle Installationen
DESCRIPTION:In den Tagen während der Art Basel verwandelt «Sounds Nice» den Konzertsaal in eine begehbare Klanglandschaft.\n\nhttps://eventfrog.de/de/p/kunst-ausstellungen/ausstellung/sounds-nice-audiovisuelle-installationen-7452279447720357221.html
LOCATION:Gare du Nord – Bahnhof für Neue Musik
GEO:47.567389;7.607131
URL:https://eventfrog.de/de/p/kunst-ausstellungen/ausstellung/sounds-nice-audiovisuelle-installationen-7452279447720357221.html
END:VEVENT
BEGIN:VEVENT
UID:20260424T100452Z-7452279709600060850@eventfrog.de
DTSTAMP:20260424T100452Z
DTSTART:20260620T100000Z
DTEND:20260620T160000Z
SUMMARY:Sounds Nice – Audiovisuelle Installationen
DESCRIPTION:In den Tagen während der Art Basel verwandelt «Sounds Nice» den Konzertsaal in eine begehbare Klanglandschaft.\n\nhttps://eventfrog.de/de/p/kunst-ausstellungen/ausstellung/sounds-nice-audiovisuelle-installationen-7452279709600060850.html
LOCATION:Gare du Nord – Bahnhof für Neue Musik
GEO:47.567389;7.607131
URL:https://eventfrog.de/de/p/kunst-ausstellungen/ausstellung/sounds-nice-audiovisuelle-installationen-7452279709600060850.html
END:VEVENT
BEGIN:VEVENT
UID:20260424T100452Z-7452279709813970964@eventfrog.de
DTSTAMP:20260424T100452Z
DTSTART:20260621T100000Z
DTEND:20260621T160000Z
SUMMARY:Sounds Nice – Audiovisuelle Installationen
DESCRIPTION:In den Tagen während der Art Basel verwandelt «Sounds Nice» den Konzertsaal in eine begehbare Klanglandschaft.\n\nhttps://eventfrog.de/de/p/kunst-ausstellungen/ausstellung/sounds-nice-audiovisuelle-installationen-7452279709813970964.html
LOCATION:Gare du Nord – Bahnhof für Neue Musik
GEO:47.567389;7.607131
URL:https://eventfrog.de/de/p/kunst-ausstellungen/ausstellung/sounds-nice-audiovisuelle-installationen-7452279709813970964.html
END:VEVENT
END:VCALENDAR