BEGIN:VCALENDAR
VERSION:2.0
PRODID:EVENTFROG//EVENTGROUP//ICAL
BEGIN:VEVENT
UID:20260424T105945Z-7452329399460847460@eventfrog.de
DTSTAMP:20260424T105945Z
DTSTART:20260530T133000Z
SUMMARY:LA VALSE - Ein Klassikkonzert im KulturHaus Locktow
DESCRIPTION:Am 30.Mai 2026 läd das KulturHaus Locktow zu einem besonderen Klassikkonzert mit der Pianistin Kyra Steckeweh ein. Das Publikum erwartet ein eindrucksvolle Konzert in einzigartiger Atmosphäre.\n\nhttps://eventfrog.de/de/p/konzerte/weitere-musikrichtungen/la-valse-ein-klassikkonzert-im-kulturhaus-locktow-7452329399460847460.html
LOCATION:KulturHaus Locktow
GEO:52.128100;12.705327
URL:https://eventfrog.de/de/p/konzerte/weitere-musikrichtungen/la-valse-ein-klassikkonzert-im-kulturhaus-locktow-7452329399460847460.html
END:VEVENT
BEGIN:VEVENT
UID:20260424T105945Z-7452337446874783821@eventfrog.de
DTSTAMP:20260424T105945Z
DTSTART:20260530T150000Z
SUMMARY:LA VALSE - Ein Klassikkonzert im KulturHaus Locktow
DESCRIPTION:Am 30.Mai 2026 läd das KulturHaus Locktow zu einem besonderen Klassikkonzert mit der Pianistin Kyra Steckeweh ein. Das Publikum erwartet ein eindrucksvolle Konzert in einzigartiger Atmosphäre.\n\nhttps://eventfrog.de/de/p/konzerte/weitere-musikrichtungen/la-valse-ein-klassikkonzert-im-kulturhaus-locktow-7452337446874783821.html
LOCATION:KulturHaus Locktow
GEO:52.128100;12.705327
URL:https://eventfrog.de/de/p/konzerte/weitere-musikrichtungen/la-valse-ein-klassikkonzert-im-kulturhaus-locktow-7452337446874783821.html
END:VEVENT
END:VCALENDAR