BEGIN:VCALENDAR
VERSION:2.0
PRODID:EVENTFROG//EVENTGROUP//ICAL
BEGIN:VEVENT
UID:20260422T233504Z-7452384261187852841@eventfrog.de
DTSTAMP:20260422T233504Z
DTSTART:20260423T173000Z
SUMMARY:OCEAN STEFAN  Blood Show
DESCRIPTION:Drei Figuren, 75 Liter Kunstblut, ein endloser Kampf: BLOOD SHOW ist ein Aufruf, das Innere nach außen zu tragen und sich gegen gewaltvolle Blicke zu verteidigen. \n\nhttps://eventfrog.de/de/p/theater-buehne/experimentelles-theater/ocean-stefan-blood-show-7452384261187852841.html
LOCATION:Kampnagel, Internationale Kulturfabrik
GEO:53.583863;10.020338
URL:https://eventfrog.de/de/p/theater-buehne/experimentelles-theater/ocean-stefan-blood-show-7452384261187852841.html
END:VEVENT
BEGIN:VEVENT
UID:20260422T233504Z-7452384317714493475@eventfrog.de
DTSTAMP:20260422T233504Z
DTSTART:20260424T183000Z
SUMMARY:OCEAN STEFAN  Blood Show
DESCRIPTION:Drei Figuren, 75 Liter Kunstblut, ein endloser Kampf: BLOOD SHOW ist ein Aufruf, das Innere nach außen zu tragen und sich gegen gewaltvolle Blicke zu verteidigen. \n\nhttps://eventfrog.de/de/p/theater-buehne/experimentelles-theater/ocean-stefan-blood-show-7452384317714493475.html
LOCATION:Kampnagel, Internationale Kulturfabrik
GEO:53.583863;10.020338
URL:https://eventfrog.de/de/p/theater-buehne/experimentelles-theater/ocean-stefan-blood-show-7452384317714493475.html
END:VEVENT
END:VCALENDAR