BEGIN:VCALENDAR
VERSION:2.0
PRODID:EVENTFROG//EVENTGROUP//ICAL
BEGIN:VEVENT
UID:20260423T020011Z-7452388925300068734@eventfrog.de
DTSTAMP:20260423T020011Z
DTSTART:20260430T170000Z
DTEND:20260430T200000Z
SUMMARY:Sound:Bar ZiMMT Listening Sessions
DESCRIPTION:The Sound:Bar invites you to socialize and linger.\n\nhttps://eventfrog.de/de/p/konzerte/indie-alternative/sound-bar-zimmt-listening-sessions-7452388925300068734.html
LOCATION:ZiMMT
GEO:51.348029;12.420404
URL:https://eventfrog.de/de/p/konzerte/indie-alternative/sound-bar-zimmt-listening-sessions-7452388925300068734.html
END:VEVENT
BEGIN:VEVENT
UID:20260423T020011Z-7452389015641131718@eventfrog.de
DTSTAMP:20260423T020011Z
DTSTART:20260521T170000Z
DTEND:20260521T200000Z
SUMMARY:Sound:Bar ZiMMT Listening Sessions
DESCRIPTION:The Sound:Bar invites you to socialize and linger.\n\nhttps://eventfrog.de/de/p/konzerte/indie-alternative/sound-bar-zimmt-listening-sessions-7452389015641131718.html
LOCATION:ZiMMT
GEO:51.348029;12.420404
URL:https://eventfrog.de/de/p/konzerte/indie-alternative/sound-bar-zimmt-listening-sessions-7452389015641131718.html
END:VEVENT
BEGIN:VEVENT
UID:20260423T020011Z-7452389016006036841@eventfrog.de
DTSTAMP:20260423T020011Z
DTSTART:20260611T170000Z
DTEND:20260611T200000Z
SUMMARY:Sound:Bar ZiMMT Listening Sessions
DESCRIPTION:The Sound:Bar invites you to socialize and linger.\n\nhttps://eventfrog.de/de/p/konzerte/indie-alternative/sound-bar-zimmt-listening-sessions-7452389016006036841.html
LOCATION:ZiMMT
GEO:51.348029;12.420404
URL:https://eventfrog.de/de/p/konzerte/indie-alternative/sound-bar-zimmt-listening-sessions-7452389016006036841.html
END:VEVENT
END:VCALENDAR