BEGIN:VCALENDAR
VERSION:2.0
PRODID:EVENTFROG//EVENTGROUP//ICAL
BEGIN:VEVENT
UID:20260422T024905Z-7452390492266854696@eventfrog.de
DTSTAMP:20260422T024905Z
DTSTART:20260425T160000Z
DTEND:20260516T170000Z
SUMMARY:Kunstausstellung Weltanschauung
DESCRIPTION:Die Ausstellung reflektiert mit Objektkunst, Schaukästen, Installationen und Fotografien gesellschaftliche und globale Themen unserer Zeit.\n\nhttps://eventfrog.de/de/p/kunst-ausstellungen/ausstellung/kunstausstellung-weltanschauung-7452390492266854696.html
LOCATION:Atelier Muggenhofer Str. 45
GEO:49.457837;11.040934
URL:https://eventfrog.de/de/p/kunst-ausstellungen/ausstellung/kunstausstellung-weltanschauung-7452390492266854696.html
END:VEVENT
BEGIN:VEVENT
UID:20260422T024905Z-7452390558582997502@eventfrog.de
DTSTAMP:20260422T024905Z
DTSTART:20260426T120000Z
DTEND:20260426T160000Z
SUMMARY:Kunstausstellung Weltanschauung
DESCRIPTION:Die Ausstellung reflektiert mit Objektkunst, Schaukästen, Installationen und Fotografien gesellschaftliche und globale Themen unserer Zeit.\n\nhttps://eventfrog.de/de/p/kunst-ausstellungen/ausstellung/kunstausstellung-weltanschauung-7452390558582997502.html
LOCATION:Atelier Muggenhofer Str. 45
GEO:49.457837;11.040934
URL:https://eventfrog.de/de/p/kunst-ausstellungen/ausstellung/kunstausstellung-weltanschauung-7452390558582997502.html
END:VEVENT
BEGIN:VEVENT
UID:20260422T024905Z-7452390558780129792@eventfrog.de
DTSTAMP:20260422T024905Z
DTSTART:20260501T120000Z
DTEND:20260501T170000Z
SUMMARY:Kunstausstellung Weltanschauung
DESCRIPTION:Die Ausstellung reflektiert mit Objektkunst, Schaukästen, Installationen und Fotografien gesellschaftliche und globale Themen unserer Zeit.\n\nhttps://eventfrog.de/de/p/kunst-ausstellungen/ausstellung/kunstausstellung-weltanschauung-7452390558780129792.html
LOCATION:Atelier Muggenhofer Str. 45
GEO:49.457837;11.040934
URL:https://eventfrog.de/de/p/kunst-ausstellungen/ausstellung/kunstausstellung-weltanschauung-7452390558780129792.html
END:VEVENT
BEGIN:VEVENT
UID:20260422T024905Z-7452390558918542344@eventfrog.de
DTSTAMP:20260422T024905Z
DTSTART:20260509T120000Z
DTEND:20260509T170000Z
SUMMARY:Kunstausstellung Weltanschauung
DESCRIPTION:Die Ausstellung reflektiert mit Objektkunst, Schaukästen, Installationen und Fotografien gesellschaftliche und globale Themen unserer Zeit.\n\nhttps://eventfrog.de/de/p/kunst-ausstellungen/ausstellung/kunstausstellung-weltanschauung-7452390558918542344.html
LOCATION:Atelier Muggenhofer Str. 45
GEO:49.457837;11.040934
URL:https://eventfrog.de/de/p/kunst-ausstellungen/ausstellung/kunstausstellung-weltanschauung-7452390558918542344.html
END:VEVENT
BEGIN:VEVENT
UID:20260422T024905Z-7452390559086314606@eventfrog.de
DTSTAMP:20260422T024905Z
DTSTART:20260515T120000Z
DTEND:20260515T170000Z
SUMMARY:Kunstausstellung Weltanschauung
DESCRIPTION:Die Ausstellung reflektiert mit Objektkunst, Schaukästen, Installationen und Fotografien gesellschaftliche und globale Themen unserer Zeit.\n\nhttps://eventfrog.de/de/p/kunst-ausstellungen/ausstellung/kunstausstellung-weltanschauung-7452390559086314606.html
LOCATION:Atelier Muggenhofer Str. 45
GEO:49.457837;11.040934
URL:https://eventfrog.de/de/p/kunst-ausstellungen/ausstellung/kunstausstellung-weltanschauung-7452390559086314606.html
END:VEVENT
BEGIN:VEVENT
UID:20260422T024905Z-7452390559207949486@eventfrog.de
DTSTAMP:20260422T024905Z
DTSTART:20260516T120000Z
DTEND:20260516T170000Z
SUMMARY:Kunstausstellung Weltanschauung
DESCRIPTION:Die Ausstellung reflektiert mit Objektkunst, Schaukästen, Installationen und Fotografien gesellschaftliche und globale Themen unserer Zeit.\n\nhttps://eventfrog.de/de/p/kunst-ausstellungen/ausstellung/kunstausstellung-weltanschauung-7452390559207949486.html
LOCATION:Atelier Muggenhofer Str. 45
GEO:49.457837;11.040934
URL:https://eventfrog.de/de/p/kunst-ausstellungen/ausstellung/kunstausstellung-weltanschauung-7452390559207949486.html
END:VEVENT
END:VCALENDAR