BEGIN:VCALENDAR
VERSION:2.0
PRODID:EVENTFROG//EVENTGROUP//ICAL
BEGIN:VEVENT
UID:20260424T091233Z-7439441762265920777@eventfrog.de
DTSTAMP:20260424T091233Z
DTSTART:20260430T180000Z
SUMMARY:Al Capone's Karaokenight
DESCRIPTION:Singen, Tanzen und Craft Beer.\n\nhttps://eventfrog.de/de/p/partys/al-capone-s-karaokenight-7439441762265920777.html
LOCATION:Al Capone Steakhouse
GEO:47.426588;9.376660
URL:https://eventfrog.de/de/p/partys/al-capone-s-karaokenight-7439441762265920777.html
END:VEVENT
BEGIN:VEVENT
UID:20260424T091233Z-7452110735763575427@eventfrog.de
DTSTAMP:20260424T091233Z
DTSTART:20260528T180000Z
SUMMARY:Al Capone's Karaokenight
DESCRIPTION:Singen, Tanzen und Craft Beer.\n\nhttps://eventfrog.de/de/p/partys/al-capone-s-karaokenight-7452110735763575427.html
LOCATION:Al Capone Steakhouse
GEO:47.426588;9.376660
URL:https://eventfrog.de/de/p/partys/al-capone-s-karaokenight-7452110735763575427.html
END:VEVENT
END:VCALENDAR