BEGIN:VCALENDAR
VERSION:2.0
PRODID:EVENTFROG//EVENTGROUP//ICAL
BEGIN:VEVENT
UID:20260425T194318Z-7452622530777456168@eventfrog.de
DTSTAMP:20260425T194318Z
DTSTART:20260711T122000Z
DTEND:20260711T150000Z
SUMMARY:Wein und Reben im Schenkenbergertal
DESCRIPTION:Am 11.07.2026 führt Benno Stupf eine 6 km Rebbergwanderung mit Degustation durch das Schenkenbergertal.\n\nhttps://eventfrog.de/de/p/essen-trinken/wein-und-reben-im-schenkenbergertal-7452622530777456168.html
LOCATION:Schinznach Dorf
GEO:47.446980;8.141440
URL:https://eventfrog.de/de/p/essen-trinken/wein-und-reben-im-schenkenbergertal-7452622530777456168.html
END:VEVENT
BEGIN:VEVENT
UID:20260425T194318Z-7452622632107651618@eventfrog.de
DTSTAMP:20260425T194318Z
DTSTART:20260808T122000Z
DTEND:20260808T150000Z
SUMMARY:Wein und Reben im Schenkenbergertal
DESCRIPTION:Am 11.07.2026 führt Benno Stupf eine 6 km Rebbergwanderung mit Degustation durch das Schenkenbergertal.\n\nhttps://eventfrog.de/de/p/essen-trinken/wein-und-reben-im-schenkenbergertal-7452622632107651618.html
LOCATION:Schinznach Dorf
GEO:47.446980;8.141440
URL:https://eventfrog.de/de/p/essen-trinken/wein-und-reben-im-schenkenbergertal-7452622632107651618.html
END:VEVENT
END:VCALENDAR