BEGIN:VCALENDAR
VERSION:2.0
PRODID:EVENTFROG//EVENTGROUP//ICAL
BEGIN:VEVENT
UID:20260422T193907Z-7448027450901056189@eventfrog.de
DTSTAMP:20260422T193907Z
DTSTART:20260529T173000Z
SUMMARY:Zirkus Chnopf - UFE
DESCRIPTION:UFE ist die neuste Produktion vom Zirkus Chnopf mit 5 Profis und 5 Jugendlichen und jungen Artist:innen zwischen 14 und 23 - unter freiem Himmel.\n\nhttps://eventfrog.de/de/p/musicals-shows/zirkus/zirkus-chnopf-ufe-7448027450901056189.html
LOCATION:Rote Fabrik, Backstein, Theater HORA
GEO:47.343458;8.536479
URL:https://eventfrog.de/de/p/musicals-shows/zirkus/zirkus-chnopf-ufe-7448027450901056189.html
END:VEVENT
BEGIN:VEVENT
UID:20260422T193907Z-7452659012934332951@eventfrog.de
DTSTAMP:20260422T193907Z
DTSTART:20260530T143000Z
SUMMARY:Zirkus Chnopf - UFE
DESCRIPTION:UFE ist die neuste Produktion vom Zirkus Chnopf mit 5 Profis und 5 Jugendlichen und jungen Artist:innen zwischen 14 und 23 - unter freiem Himmel.\n\nhttps://eventfrog.de/de/p/musicals-shows/zirkus/zirkus-chnopf-ufe-7452659012934332951.html
LOCATION:Rote Fabrik, Backstein, Theater HORA
GEO:47.343458;8.536479
URL:https://eventfrog.de/de/p/musicals-shows/zirkus/zirkus-chnopf-ufe-7452659012934332951.html
END:VEVENT
BEGIN:VEVENT
UID:20260422T193907Z-7452659173987226994@eventfrog.de
DTSTAMP:20260422T193907Z
DTSTART:20260530T173000Z
SUMMARY:Zirkus Chnopf - UFE
DESCRIPTION:UFE ist die neuste Produktion vom Zirkus Chnopf mit 5 Profis und 5 Jugendlichen und jungen Artist:innen zwischen 14 und 23 - unter freiem Himmel.\n\nhttps://eventfrog.de/de/p/musicals-shows/zirkus/zirkus-chnopf-ufe-7452659173987226994.html
LOCATION:Rote Fabrik, Backstein, Theater HORA
GEO:47.343458;8.536479
URL:https://eventfrog.de/de/p/musicals-shows/zirkus/zirkus-chnopf-ufe-7452659173987226994.html
END:VEVENT
BEGIN:VEVENT
UID:20260422T193907Z-7452659269445395475@eventfrog.de
DTSTAMP:20260422T193907Z
DTSTART:20260531T143000Z
SUMMARY:Zirkus Chnopf - UFE
DESCRIPTION:UFE ist die neuste Produktion vom Zirkus Chnopf mit 5 Profis und 5 Jugendlichen und jungen Artist:innen zwischen 14 und 23 - unter freiem Himmel.\n\nhttps://eventfrog.de/de/p/musicals-shows/zirkus/zirkus-chnopf-ufe-7452659269445395475.html
LOCATION:Rote Fabrik, Backstein, Theater HORA
GEO:47.343458;8.536479
URL:https://eventfrog.de/de/p/musicals-shows/zirkus/zirkus-chnopf-ufe-7452659269445395475.html
END:VEVENT
END:VCALENDAR