BEGIN:VCALENDAR
VERSION:2.0
PRODID:EVENTFROG//EVENTGROUP//ICAL
BEGIN:VEVENT
UID:20260422T224348Z-7452661371177586406@eventfrog.de
DTSTAMP:20260422T224348Z
DTSTART:20260507T180000Z
DTEND:20260507T194500Z
SUMMARY:Die reichste Frau der Welt ( Komödie )
DESCRIPTION:Ein berauschend komisches Drama, das in seinen Abgründen an Shakespeare erinnert: DIE REICHSTE FRAU DER WELT mit einer brillanten Isabelle Huppert in der Titelrolle ist eine so grandiose wie doppelböd\n\nhttps://eventfrog.de/de/p/freizeit-ausfluege/film-kino/die-reichste-frau-der-welt-komoedie-7452661371177586406.html
LOCATION:Orfeos
GEO:50.115549;8.646561
URL:https://eventfrog.de/de/p/freizeit-ausfluege/film-kino/die-reichste-frau-der-welt-komoedie-7452661371177586406.html
END:VEVENT
BEGIN:VEVENT
UID:20260422T224348Z-7452662692156812030@eventfrog.de
DTSTAMP:20260422T224348Z
DTSTART:20260509T180000Z
DTEND:20260509T194500Z
SUMMARY:Die reichste Frau der Welt ( Komödie )
DESCRIPTION:Ein berauschend komisches Drama, das in seinen Abgründen an Shakespeare erinnert: DIE REICHSTE FRAU DER WELT mit einer brillanten Isabelle Huppert in der Titelrolle ist eine so grandiose wie doppelböd\n\nhttps://eventfrog.de/de/p/freizeit-ausfluege/film-kino/die-reichste-frau-der-welt-komoedie-7452662692156812030.html
LOCATION:Orfeos
GEO:50.115549;8.646561
URL:https://eventfrog.de/de/p/freizeit-ausfluege/film-kino/die-reichste-frau-der-welt-komoedie-7452662692156812030.html
END:VEVENT
BEGIN:VEVENT
UID:20260422T224348Z-7452663184538771650@eventfrog.de
DTSTAMP:20260422T224348Z
DTSTART:20260512T180000Z
DTEND:20260512T194500Z
SUMMARY:Die reichste Frau der Welt ( Komödie )
DESCRIPTION:Ein berauschend komisches Drama, das in seinen Abgründen an Shakespeare erinnert: DIE REICHSTE FRAU DER WELT mit einer brillanten Isabelle Huppert in der Titelrolle ist eine so grandiose wie doppelböd\n\nhttps://eventfrog.de/de/p/freizeit-ausfluege/film-kino/die-reichste-frau-der-welt-komoedie-7452663184538771650.html
LOCATION:Orfeos
GEO:50.115549;8.646561
URL:https://eventfrog.de/de/p/freizeit-ausfluege/film-kino/die-reichste-frau-der-welt-komoedie-7452663184538771650.html
END:VEVENT
BEGIN:VEVENT
UID:20260422T224348Z-7452663440462632624@eventfrog.de
DTSTAMP:20260422T224348Z
DTSTART:20260513T180000Z
DTEND:20260513T194500Z
SUMMARY:Die reichste Frau der Welt ( Komödie )
DESCRIPTION:Ein berauschend komisches Drama, das in seinen Abgründen an Shakespeare erinnert: DIE REICHSTE FRAU DER WELT mit einer brillanten Isabelle Huppert in der Titelrolle ist eine so grandiose wie doppelböd\n\nhttps://eventfrog.de/de/p/freizeit-ausfluege/film-kino/die-reichste-frau-der-welt-komoedie-7452663440462632624.html
LOCATION:Orfeos
GEO:50.115549;8.646561
URL:https://eventfrog.de/de/p/freizeit-ausfluege/film-kino/die-reichste-frau-der-welt-komoedie-7452663440462632624.html
END:VEVENT
BEGIN:VEVENT
UID:20260422T224348Z-7452688914026870781@eventfrog.de
DTSTAMP:20260422T224348Z
DTSTART:20260514T180000Z
DTEND:20260514T194500Z
SUMMARY:Die reichste Frau der Welt ( Komödie )
DESCRIPTION:Ein berauschend komisches Drama, das in seinen Abgründen an Shakespeare erinnert: DIE REICHSTE FRAU DER WELT mit einer brillanten Isabelle Huppert in der Titelrolle ist eine so grandiose wie doppelböd\n\nhttps://eventfrog.de/de/p/freizeit-ausfluege/film-kino/die-reichste-frau-der-welt-komoedie-7452688914026870781.html
LOCATION:Orfeos
GEO:50.115549;8.646561
URL:https://eventfrog.de/de/p/freizeit-ausfluege/film-kino/die-reichste-frau-der-welt-komoedie-7452688914026870781.html
END:VEVENT
BEGIN:VEVENT
UID:20260422T224348Z-7452689190754482986@eventfrog.de
DTSTAMP:20260422T224348Z
DTSTART:20260516T180000Z
DTEND:20260516T194500Z
SUMMARY:Die reichste Frau der Welt ( Komödie )
DESCRIPTION:Ein berauschend komisches Drama, das in seinen Abgründen an Shakespeare erinnert: DIE REICHSTE FRAU DER WELT mit einer brillanten Isabelle Huppert in der Titelrolle ist eine so grandiose wie doppelböd\n\nhttps://eventfrog.de/de/p/freizeit-ausfluege/film-kino/die-reichste-frau-der-welt-komoedie-7452689190754482986.html
LOCATION:Orfeos
GEO:50.115549;8.646561
URL:https://eventfrog.de/de/p/freizeit-ausfluege/film-kino/die-reichste-frau-der-welt-komoedie-7452689190754482986.html
END:VEVENT
BEGIN:VEVENT
UID:20260422T224348Z-7452689485735706667@eventfrog.de
DTSTAMP:20260422T224348Z
DTSTART:20260520T180000Z
DTEND:20260520T194500Z
SUMMARY:Die reichste Frau der Welt ( Komödie )
DESCRIPTION:Ein berauschend komisches Drama, das in seinen Abgründen an Shakespeare erinnert: DIE REICHSTE FRAU DER WELT mit einer brillanten Isabelle Huppert in der Titelrolle ist eine so grandiose wie doppelböd\n\nhttps://eventfrog.de/de/p/freizeit-ausfluege/film-kino/die-reichste-frau-der-welt-komoedie-7452689485735706667.html
LOCATION:Orfeos
GEO:50.115549;8.646561
URL:https://eventfrog.de/de/p/freizeit-ausfluege/film-kino/die-reichste-frau-der-welt-komoedie-7452689485735706667.html
END:VEVENT
BEGIN:VEVENT
UID:20260422T224348Z-7452689677797087270@eventfrog.de
DTSTAMP:20260422T224348Z
DTSTART:20260521T180000Z
DTEND:20260521T194500Z
SUMMARY:Die reichste Frau der Welt ( Komödie )
DESCRIPTION:Ein berauschend komisches Drama, das in seinen Abgründen an Shakespeare erinnert: DIE REICHSTE FRAU DER WELT mit einer brillanten Isabelle Huppert in der Titelrolle ist eine so grandiose wie doppelböd\n\nhttps://eventfrog.de/de/p/freizeit-ausfluege/film-kino/die-reichste-frau-der-welt-komoedie-7452689677797087270.html
LOCATION:Orfeos
GEO:50.115549;8.646561
URL:https://eventfrog.de/de/p/freizeit-ausfluege/film-kino/die-reichste-frau-der-welt-komoedie-7452689677797087270.html
END:VEVENT
BEGIN:VEVENT
UID:20260422T224348Z-7452689935981609021@eventfrog.de
DTSTAMP:20260422T224348Z
DTSTART:20260522T180000Z
DTEND:20260522T194500Z
SUMMARY:Die reichste Frau der Welt ( Komödie )
DESCRIPTION:Ein berauschend komisches Drama, das in seinen Abgründen an Shakespeare erinnert: DIE REICHSTE FRAU DER WELT mit einer brillanten Isabelle Huppert in der Titelrolle ist eine so grandiose wie doppelböd\n\nhttps://eventfrog.de/de/p/freizeit-ausfluege/film-kino/die-reichste-frau-der-welt-komoedie-7452689935981609021.html
LOCATION:Orfeos
GEO:50.115549;8.646561
URL:https://eventfrog.de/de/p/freizeit-ausfluege/film-kino/die-reichste-frau-der-welt-komoedie-7452689935981609021.html
END:VEVENT
BEGIN:VEVENT
UID:20260422T224348Z-7452690081058395675@eventfrog.de
DTSTAMP:20260422T224348Z
DTSTART:20260523T180000Z
DTEND:20260523T194500Z
SUMMARY:Die reichste Frau der Welt ( Komödie )
DESCRIPTION:Ein berauschend komisches Drama, das in seinen Abgründen an Shakespeare erinnert: DIE REICHSTE FRAU DER WELT mit einer brillanten Isabelle Huppert in der Titelrolle ist eine so grandiose wie doppelböd\n\nhttps://eventfrog.de/de/p/freizeit-ausfluege/film-kino/die-reichste-frau-der-welt-komoedie-7452690081058395675.html
LOCATION:Orfeos
GEO:50.115549;8.646561
URL:https://eventfrog.de/de/p/freizeit-ausfluege/film-kino/die-reichste-frau-der-welt-komoedie-7452690081058395675.html
END:VEVENT
END:VCALENDAR