BEGIN:VCALENDAR
VERSION:2.0
PRODID:EVENTFROG//EVENTGROUP//ICAL
BEGIN:VEVENT
UID:20260425T181051Z-7452699310641165845@eventfrog.de
DTSTAMP:20260425T181051Z
DTSTART:20260422T130000Z
DTEND:20260422T180000Z
SUMMARY:HOUSE OF MAGIC
DESCRIPTION:Über 110 Exponate laden in 19 Räumen ein, Magie und Wissenschaft zu entdecken und Illusionen mit viel Action zu erleben.\n\nhttps://eventfrog.de/de/p/freizeit-ausfluege/sonstige-veranstaltungen/house-of-magic-7452699310641165845.html
LOCATION:HOUSE OF MAGIC
GEO:51.491291;6.877462
URL:https://eventfrog.de/de/p/freizeit-ausfluege/sonstige-veranstaltungen/house-of-magic-7452699310641165845.html
END:VEVENT
BEGIN:VEVENT
UID:20260425T181051Z-7452699310708274711@eventfrog.de
DTSTAMP:20260425T181051Z
DTSTART:20260429T130000Z
DTEND:20260429T180000Z
SUMMARY:HOUSE OF MAGIC
DESCRIPTION:Über 110 Exponate laden in 19 Räumen ein, Magie und Wissenschaft zu entdecken und Illusionen mit viel Action zu erleben.\n\nhttps://eventfrog.de/de/p/freizeit-ausfluege/sonstige-veranstaltungen/house-of-magic-7452699310708274711.html
LOCATION:HOUSE OF MAGIC
GEO:51.491291;6.877462
URL:https://eventfrog.de/de/p/freizeit-ausfluege/sonstige-veranstaltungen/house-of-magic-7452699310708274711.html
END:VEVENT
BEGIN:VEVENT
UID:20260425T181051Z-7452699310779577881@eventfrog.de
DTSTAMP:20260425T181051Z
DTSTART:20260506T130000Z
DTEND:20260506T180000Z
SUMMARY:HOUSE OF MAGIC
DESCRIPTION:Über 110 Exponate laden in 19 Räumen ein, Magie und Wissenschaft zu entdecken und Illusionen mit viel Action zu erleben.\n\nhttps://eventfrog.de/de/p/freizeit-ausfluege/sonstige-veranstaltungen/house-of-magic-7452699310779577881.html
LOCATION:HOUSE OF MAGIC
GEO:51.491291;6.877462
URL:https://eventfrog.de/de/p/freizeit-ausfluege/sonstige-veranstaltungen/house-of-magic-7452699310779577881.html
END:VEVENT
BEGIN:VEVENT
UID:20260425T181051Z-7452699310850881051@eventfrog.de
DTSTAMP:20260425T181051Z
DTSTART:20260513T130000Z
DTEND:20260513T180000Z
SUMMARY:HOUSE OF MAGIC
DESCRIPTION:Über 110 Exponate laden in 19 Räumen ein, Magie und Wissenschaft zu entdecken und Illusionen mit viel Action zu erleben.\n\nhttps://eventfrog.de/de/p/freizeit-ausfluege/sonstige-veranstaltungen/house-of-magic-7452699310850881051.html
LOCATION:HOUSE OF MAGIC
GEO:51.491291;6.877462
URL:https://eventfrog.de/de/p/freizeit-ausfluege/sonstige-veranstaltungen/house-of-magic-7452699310850881051.html
END:VEVENT
BEGIN:VEVENT
UID:20260425T181051Z-7452699310913795613@eventfrog.de
DTSTAMP:20260425T181051Z
DTSTART:20260520T130000Z
DTEND:20260520T180000Z
SUMMARY:HOUSE OF MAGIC
DESCRIPTION:Über 110 Exponate laden in 19 Räumen ein, Magie und Wissenschaft zu entdecken und Illusionen mit viel Action zu erleben.\n\nhttps://eventfrog.de/de/p/freizeit-ausfluege/sonstige-veranstaltungen/house-of-magic-7452699310913795613.html
LOCATION:HOUSE OF MAGIC
GEO:51.491291;6.877462
URL:https://eventfrog.de/de/p/freizeit-ausfluege/sonstige-veranstaltungen/house-of-magic-7452699310913795613.html
END:VEVENT
BEGIN:VEVENT
UID:20260425T181051Z-7452699310985098783@eventfrog.de
DTSTAMP:20260425T181051Z
DTSTART:20260527T130000Z
DTEND:20260527T180000Z
SUMMARY:HOUSE OF MAGIC
DESCRIPTION:Über 110 Exponate laden in 19 Räumen ein, Magie und Wissenschaft zu entdecken und Illusionen mit viel Action zu erleben.\n\nhttps://eventfrog.de/de/p/freizeit-ausfluege/sonstige-veranstaltungen/house-of-magic-7452699310985098783.html
LOCATION:HOUSE OF MAGIC
GEO:51.491291;6.877462
URL:https://eventfrog.de/de/p/freizeit-ausfluege/sonstige-veranstaltungen/house-of-magic-7452699310985098783.html
END:VEVENT
BEGIN:VEVENT
UID:20260425T181051Z-7452699311056401953@eventfrog.de
DTSTAMP:20260425T181051Z
DTSTART:20260603T130000Z
DTEND:20260603T180000Z
SUMMARY:HOUSE OF MAGIC
DESCRIPTION:Über 110 Exponate laden in 19 Räumen ein, Magie und Wissenschaft zu entdecken und Illusionen mit viel Action zu erleben.\n\nhttps://eventfrog.de/de/p/freizeit-ausfluege/sonstige-veranstaltungen/house-of-magic-7452699311056401953.html
LOCATION:HOUSE OF MAGIC
GEO:51.491291;6.877462
URL:https://eventfrog.de/de/p/freizeit-ausfluege/sonstige-veranstaltungen/house-of-magic-7452699311056401953.html
END:VEVENT
BEGIN:VEVENT
UID:20260425T181051Z-7452699311119316515@eventfrog.de
DTSTAMP:20260425T181051Z
DTSTART:20260610T130000Z
DTEND:20260610T180000Z
SUMMARY:HOUSE OF MAGIC
DESCRIPTION:Über 110 Exponate laden in 19 Räumen ein, Magie und Wissenschaft zu entdecken und Illusionen mit viel Action zu erleben.\n\nhttps://eventfrog.de/de/p/freizeit-ausfluege/sonstige-veranstaltungen/house-of-magic-7452699311119316515.html
LOCATION:HOUSE OF MAGIC
GEO:51.491291;6.877462
URL:https://eventfrog.de/de/p/freizeit-ausfluege/sonstige-veranstaltungen/house-of-magic-7452699311119316515.html
END:VEVENT
BEGIN:VEVENT
UID:20260425T181051Z-7452699311190619685@eventfrog.de
DTSTAMP:20260425T181051Z
DTSTART:20260617T130000Z
DTEND:20260617T180000Z
SUMMARY:HOUSE OF MAGIC
DESCRIPTION:Über 110 Exponate laden in 19 Räumen ein, Magie und Wissenschaft zu entdecken und Illusionen mit viel Action zu erleben.\n\nhttps://eventfrog.de/de/p/freizeit-ausfluege/sonstige-veranstaltungen/house-of-magic-7452699311190619685.html
LOCATION:HOUSE OF MAGIC
GEO:51.491291;6.877462
URL:https://eventfrog.de/de/p/freizeit-ausfluege/sonstige-veranstaltungen/house-of-magic-7452699311190619685.html
END:VEVENT
BEGIN:VEVENT
UID:20260425T181051Z-7452699311257728551@eventfrog.de
DTSTAMP:20260425T181051Z
DTSTART:20260624T130000Z
DTEND:20260624T180000Z
SUMMARY:HOUSE OF MAGIC
DESCRIPTION:Über 110 Exponate laden in 19 Räumen ein, Magie und Wissenschaft zu entdecken und Illusionen mit viel Action zu erleben.\n\nhttps://eventfrog.de/de/p/freizeit-ausfluege/sonstige-veranstaltungen/house-of-magic-7452699311257728551.html
LOCATION:HOUSE OF MAGIC
GEO:51.491291;6.877462
URL:https://eventfrog.de/de/p/freizeit-ausfluege/sonstige-veranstaltungen/house-of-magic-7452699311257728551.html
END:VEVENT
BEGIN:VEVENT
UID:20260425T181051Z-7452699311316448810@eventfrog.de
DTSTAMP:20260425T181051Z
DTSTART:20260701T130000Z
DTEND:20260701T180000Z
SUMMARY:HOUSE OF MAGIC
DESCRIPTION:Über 110 Exponate laden in 19 Räumen ein, Magie und Wissenschaft zu entdecken und Illusionen mit viel Action zu erleben.\n\nhttps://eventfrog.de/de/p/freizeit-ausfluege/sonstige-veranstaltungen/house-of-magic-7452699311316448810.html
LOCATION:HOUSE OF MAGIC
GEO:51.491291;6.877462
URL:https://eventfrog.de/de/p/freizeit-ausfluege/sonstige-veranstaltungen/house-of-magic-7452699311316448810.html
END:VEVENT
BEGIN:VEVENT
UID:20260425T181051Z-7452699311387751980@eventfrog.de
DTSTAMP:20260425T181051Z
DTSTART:20260708T130000Z
DTEND:20260708T180000Z
SUMMARY:HOUSE OF MAGIC
DESCRIPTION:Über 110 Exponate laden in 19 Räumen ein, Magie und Wissenschaft zu entdecken und Illusionen mit viel Action zu erleben.\n\nhttps://eventfrog.de/de/p/freizeit-ausfluege/sonstige-veranstaltungen/house-of-magic-7452699311387751980.html
LOCATION:HOUSE OF MAGIC
GEO:51.491291;6.877462
URL:https://eventfrog.de/de/p/freizeit-ausfluege/sonstige-veranstaltungen/house-of-magic-7452699311387751980.html
END:VEVENT
BEGIN:VEVENT
UID:20260425T181051Z-7452699311454860846@eventfrog.de
DTSTAMP:20260425T181051Z
DTSTART:20260715T130000Z
DTEND:20260715T180000Z
SUMMARY:HOUSE OF MAGIC
DESCRIPTION:Über 110 Exponate laden in 19 Räumen ein, Magie und Wissenschaft zu entdecken und Illusionen mit viel Action zu erleben.\n\nhttps://eventfrog.de/de/p/freizeit-ausfluege/sonstige-veranstaltungen/house-of-magic-7452699311454860846.html
LOCATION:HOUSE OF MAGIC
GEO:51.491291;6.877462
URL:https://eventfrog.de/de/p/freizeit-ausfluege/sonstige-veranstaltungen/house-of-magic-7452699311454860846.html
END:VEVENT
BEGIN:VEVENT
UID:20260425T181051Z-7452699311534552624@eventfrog.de
DTSTAMP:20260425T181051Z
DTSTART:20260722T130000Z
DTEND:20260722T180000Z
SUMMARY:HOUSE OF MAGIC
DESCRIPTION:Über 110 Exponate laden in 19 Räumen ein, Magie und Wissenschaft zu entdecken und Illusionen mit viel Action zu erleben.\n\nhttps://eventfrog.de/de/p/freizeit-ausfluege/sonstige-veranstaltungen/house-of-magic-7452699311534552624.html
LOCATION:HOUSE OF MAGIC
GEO:51.491291;6.877462
URL:https://eventfrog.de/de/p/freizeit-ausfluege/sonstige-veranstaltungen/house-of-magic-7452699311534552624.html
END:VEVENT
BEGIN:VEVENT
UID:20260425T181051Z-7452699311605855794@eventfrog.de
DTSTAMP:20260425T181051Z
DTSTART:20260729T130000Z
DTEND:20260729T180000Z
SUMMARY:HOUSE OF MAGIC
DESCRIPTION:Über 110 Exponate laden in 19 Räumen ein, Magie und Wissenschaft zu entdecken und Illusionen mit viel Action zu erleben.\n\nhttps://eventfrog.de/de/p/freizeit-ausfluege/sonstige-veranstaltungen/house-of-magic-7452699311605855794.html
LOCATION:HOUSE OF MAGIC
GEO:51.491291;6.877462
URL:https://eventfrog.de/de/p/freizeit-ausfluege/sonstige-veranstaltungen/house-of-magic-7452699311605855794.html
END:VEVENT
BEGIN:VEVENT
UID:20260425T181051Z-7452699311677158964@eventfrog.de
DTSTAMP:20260425T181051Z
DTSTART:20260805T130000Z
DTEND:20260805T180000Z
SUMMARY:HOUSE OF MAGIC
DESCRIPTION:Über 110 Exponate laden in 19 Räumen ein, Magie und Wissenschaft zu entdecken und Illusionen mit viel Action zu erleben.\n\nhttps://eventfrog.de/de/p/freizeit-ausfluege/sonstige-veranstaltungen/house-of-magic-7452699311677158964.html
LOCATION:HOUSE OF MAGIC
GEO:51.491291;6.877462
URL:https://eventfrog.de/de/p/freizeit-ausfluege/sonstige-veranstaltungen/house-of-magic-7452699311677158964.html
END:VEVENT
BEGIN:VEVENT
UID:20260425T181051Z-7452699311748462134@eventfrog.de
DTSTAMP:20260425T181051Z
DTSTART:20260812T130000Z
DTEND:20260812T180000Z
SUMMARY:HOUSE OF MAGIC
DESCRIPTION:Über 110 Exponate laden in 19 Räumen ein, Magie und Wissenschaft zu entdecken und Illusionen mit viel Action zu erleben.\n\nhttps://eventfrog.de/de/p/freizeit-ausfluege/sonstige-veranstaltungen/house-of-magic-7452699311748462134.html
LOCATION:HOUSE OF MAGIC
GEO:51.491291;6.877462
URL:https://eventfrog.de/de/p/freizeit-ausfluege/sonstige-veranstaltungen/house-of-magic-7452699311748462134.html
END:VEVENT
BEGIN:VEVENT
UID:20260425T181051Z-7452699311811376696@eventfrog.de
DTSTAMP:20260425T181051Z
DTSTART:20260819T130000Z
DTEND:20260819T180000Z
SUMMARY:HOUSE OF MAGIC
DESCRIPTION:Über 110 Exponate laden in 19 Räumen ein, Magie und Wissenschaft zu entdecken und Illusionen mit viel Action zu erleben.\n\nhttps://eventfrog.de/de/p/freizeit-ausfluege/sonstige-veranstaltungen/house-of-magic-7452699311811376696.html
LOCATION:HOUSE OF MAGIC
GEO:51.491291;6.877462
URL:https://eventfrog.de/de/p/freizeit-ausfluege/sonstige-veranstaltungen/house-of-magic-7452699311811376696.html
END:VEVENT
BEGIN:VEVENT
UID:20260425T181051Z-7452699311870096954@eventfrog.de
DTSTAMP:20260425T181051Z
DTSTART:20260826T130000Z
DTEND:20260826T180000Z
SUMMARY:HOUSE OF MAGIC
DESCRIPTION:Über 110 Exponate laden in 19 Räumen ein, Magie und Wissenschaft zu entdecken und Illusionen mit viel Action zu erleben.\n\nhttps://eventfrog.de/de/p/freizeit-ausfluege/sonstige-veranstaltungen/house-of-magic-7452699311870096954.html
LOCATION:HOUSE OF MAGIC
GEO:51.491291;6.877462
URL:https://eventfrog.de/de/p/freizeit-ausfluege/sonstige-veranstaltungen/house-of-magic-7452699311870096954.html
END:VEVENT
BEGIN:VEVENT
UID:20260425T181051Z-7452699311937205828@eventfrog.de
DTSTAMP:20260425T181051Z
DTSTART:20260902T130000Z
DTEND:20260902T180000Z
SUMMARY:HOUSE OF MAGIC
DESCRIPTION:Über 110 Exponate laden in 19 Räumen ein, Magie und Wissenschaft zu entdecken und Illusionen mit viel Action zu erleben.\n\nhttps://eventfrog.de/de/p/freizeit-ausfluege/sonstige-veranstaltungen/house-of-magic-7452699311937205828.html
LOCATION:HOUSE OF MAGIC
GEO:51.491291;6.877462
URL:https://eventfrog.de/de/p/freizeit-ausfluege/sonstige-veranstaltungen/house-of-magic-7452699311937205828.html
END:VEVENT
BEGIN:VEVENT
UID:20260425T181051Z-7452699312004314754@eventfrog.de
DTSTAMP:20260425T181051Z
DTSTART:20260909T130000Z
DTEND:20260909T180000Z
SUMMARY:HOUSE OF MAGIC
DESCRIPTION:Über 110 Exponate laden in 19 Räumen ein, Magie und Wissenschaft zu entdecken und Illusionen mit viel Action zu erleben.\n\nhttps://eventfrog.de/de/p/freizeit-ausfluege/sonstige-veranstaltungen/house-of-magic-7452699312004314754.html
LOCATION:HOUSE OF MAGIC
GEO:51.491291;6.877462
URL:https://eventfrog.de/de/p/freizeit-ausfluege/sonstige-veranstaltungen/house-of-magic-7452699312004314754.html
END:VEVENT
BEGIN:VEVENT
UID:20260425T181051Z-7452699312067229316@eventfrog.de
DTSTAMP:20260425T181051Z
DTSTART:20260916T130000Z
DTEND:20260916T180000Z
SUMMARY:HOUSE OF MAGIC
DESCRIPTION:Über 110 Exponate laden in 19 Räumen ein, Magie und Wissenschaft zu entdecken und Illusionen mit viel Action zu erleben.\n\nhttps://eventfrog.de/de/p/freizeit-ausfluege/sonstige-veranstaltungen/house-of-magic-7452699312067229316.html
LOCATION:HOUSE OF MAGIC
GEO:51.491291;6.877462
URL:https://eventfrog.de/de/p/freizeit-ausfluege/sonstige-veranstaltungen/house-of-magic-7452699312067229316.html
END:VEVENT
BEGIN:VEVENT
UID:20260425T181051Z-7452699312159504006@eventfrog.de
DTSTAMP:20260425T181051Z
DTSTART:20260923T130000Z
DTEND:20260923T180000Z
SUMMARY:HOUSE OF MAGIC
DESCRIPTION:Über 110 Exponate laden in 19 Räumen ein, Magie und Wissenschaft zu entdecken und Illusionen mit viel Action zu erleben.\n\nhttps://eventfrog.de/de/p/freizeit-ausfluege/sonstige-veranstaltungen/house-of-magic-7452699312159504006.html
LOCATION:HOUSE OF MAGIC
GEO:51.491291;6.877462
URL:https://eventfrog.de/de/p/freizeit-ausfluege/sonstige-veranstaltungen/house-of-magic-7452699312159504006.html
END:VEVENT
BEGIN:VEVENT
UID:20260425T181051Z-7452699312264361608@eventfrog.de
DTSTAMP:20260425T181051Z
DTSTART:20260930T130000Z
DTEND:20260930T180000Z
SUMMARY:HOUSE OF MAGIC
DESCRIPTION:Über 110 Exponate laden in 19 Räumen ein, Magie und Wissenschaft zu entdecken und Illusionen mit viel Action zu erleben.\n\nhttps://eventfrog.de/de/p/freizeit-ausfluege/sonstige-veranstaltungen/house-of-magic-7452699312264361608.html
LOCATION:HOUSE OF MAGIC
GEO:51.491291;6.877462
URL:https://eventfrog.de/de/p/freizeit-ausfluege/sonstige-veranstaltungen/house-of-magic-7452699312264361608.html
END:VEVENT
BEGIN:VEVENT
UID:20260425T181051Z-7452699312352441994@eventfrog.de
DTSTAMP:20260425T181051Z
DTSTART:20261007T130000Z
DTEND:20261007T180000Z
SUMMARY:HOUSE OF MAGIC
DESCRIPTION:Über 110 Exponate laden in 19 Räumen ein, Magie und Wissenschaft zu entdecken und Illusionen mit viel Action zu erleben.\n\nhttps://eventfrog.de/de/p/freizeit-ausfluege/sonstige-veranstaltungen/house-of-magic-7452699312352441994.html
LOCATION:HOUSE OF MAGIC
GEO:51.491291;6.877462
URL:https://eventfrog.de/de/p/freizeit-ausfluege/sonstige-veranstaltungen/house-of-magic-7452699312352441994.html
END:VEVENT
BEGIN:VEVENT
UID:20260425T181051Z-7452699312423745164@eventfrog.de
DTSTAMP:20260425T181051Z
DTSTART:20261014T130000Z
DTEND:20261014T180000Z
SUMMARY:HOUSE OF MAGIC
DESCRIPTION:Über 110 Exponate laden in 19 Räumen ein, Magie und Wissenschaft zu entdecken und Illusionen mit viel Action zu erleben.\n\nhttps://eventfrog.de/de/p/freizeit-ausfluege/sonstige-veranstaltungen/house-of-magic-7452699312423745164.html
LOCATION:HOUSE OF MAGIC
GEO:51.491291;6.877462
URL:https://eventfrog.de/de/p/freizeit-ausfluege/sonstige-veranstaltungen/house-of-magic-7452699312423745164.html
END:VEVENT
BEGIN:VEVENT
UID:20260425T181051Z-7452699312495048334@eventfrog.de
DTSTAMP:20260425T181051Z
DTSTART:20261021T130000Z
DTEND:20261021T180000Z
SUMMARY:HOUSE OF MAGIC
DESCRIPTION:Über 110 Exponate laden in 19 Räumen ein, Magie und Wissenschaft zu entdecken und Illusionen mit viel Action zu erleben.\n\nhttps://eventfrog.de/de/p/freizeit-ausfluege/sonstige-veranstaltungen/house-of-magic-7452699312495048334.html
LOCATION:HOUSE OF MAGIC
GEO:51.491291;6.877462
URL:https://eventfrog.de/de/p/freizeit-ausfluege/sonstige-veranstaltungen/house-of-magic-7452699312495048334.html
END:VEVENT
BEGIN:VEVENT
UID:20260425T181051Z-7452699312566351504@eventfrog.de
DTSTAMP:20260425T181051Z
DTSTART:20261028T140000Z
DTEND:20261028T190000Z
SUMMARY:HOUSE OF MAGIC
DESCRIPTION:Über 110 Exponate laden in 19 Räumen ein, Magie und Wissenschaft zu entdecken und Illusionen mit viel Action zu erleben.\n\nhttps://eventfrog.de/de/p/freizeit-ausfluege/sonstige-veranstaltungen/house-of-magic-7452699312566351504.html
LOCATION:HOUSE OF MAGIC
GEO:51.491291;6.877462
URL:https://eventfrog.de/de/p/freizeit-ausfluege/sonstige-veranstaltungen/house-of-magic-7452699312566351504.html
END:VEVENT
BEGIN:VEVENT
UID:20260425T181051Z-7452699312637654674@eventfrog.de
DTSTAMP:20260425T181051Z
DTSTART:20261104T140000Z
DTEND:20261104T190000Z
SUMMARY:HOUSE OF MAGIC
DESCRIPTION:Über 110 Exponate laden in 19 Räumen ein, Magie und Wissenschaft zu entdecken und Illusionen mit viel Action zu erleben.\n\nhttps://eventfrog.de/de/p/freizeit-ausfluege/sonstige-veranstaltungen/house-of-magic-7452699312637654674.html
LOCATION:HOUSE OF MAGIC
GEO:51.491291;6.877462
URL:https://eventfrog.de/de/p/freizeit-ausfluege/sonstige-veranstaltungen/house-of-magic-7452699312637654674.html
END:VEVENT
BEGIN:VEVENT
UID:20260425T181051Z-7452699312708957844@eventfrog.de
DTSTAMP:20260425T181051Z
DTSTART:20261111T140000Z
DTEND:20261111T190000Z
SUMMARY:HOUSE OF MAGIC
DESCRIPTION:Über 110 Exponate laden in 19 Räumen ein, Magie und Wissenschaft zu entdecken und Illusionen mit viel Action zu erleben.\n\nhttps://eventfrog.de/de/p/freizeit-ausfluege/sonstige-veranstaltungen/house-of-magic-7452699312708957844.html
LOCATION:HOUSE OF MAGIC
GEO:51.491291;6.877462
URL:https://eventfrog.de/de/p/freizeit-ausfluege/sonstige-veranstaltungen/house-of-magic-7452699312708957844.html
END:VEVENT
BEGIN:VEVENT
UID:20260425T181051Z-7452699312784455318@eventfrog.de
DTSTAMP:20260425T181051Z
DTSTART:20261118T140000Z
DTEND:20261118T190000Z
SUMMARY:HOUSE OF MAGIC
DESCRIPTION:Über 110 Exponate laden in 19 Räumen ein, Magie und Wissenschaft zu entdecken und Illusionen mit viel Action zu erleben.\n\nhttps://eventfrog.de/de/p/freizeit-ausfluege/sonstige-veranstaltungen/house-of-magic-7452699312784455318.html
LOCATION:HOUSE OF MAGIC
GEO:51.491291;6.877462
URL:https://eventfrog.de/de/p/freizeit-ausfluege/sonstige-veranstaltungen/house-of-magic-7452699312784455318.html
END:VEVENT
BEGIN:VEVENT
UID:20260425T181051Z-7452699312864147096@eventfrog.de
DTSTAMP:20260425T181051Z
DTSTART:20261125T140000Z
DTEND:20261125T190000Z
SUMMARY:HOUSE OF MAGIC
DESCRIPTION:Über 110 Exponate laden in 19 Räumen ein, Magie und Wissenschaft zu entdecken und Illusionen mit viel Action zu erleben.\n\nhttps://eventfrog.de/de/p/freizeit-ausfluege/sonstige-veranstaltungen/house-of-magic-7452699312864147096.html
LOCATION:HOUSE OF MAGIC
GEO:51.491291;6.877462
URL:https://eventfrog.de/de/p/freizeit-ausfluege/sonstige-veranstaltungen/house-of-magic-7452699312864147096.html
END:VEVENT
BEGIN:VEVENT
UID:20260425T181051Z-7452699312960616090@eventfrog.de
DTSTAMP:20260425T181051Z
DTSTART:20261202T140000Z
DTEND:20261202T190000Z
SUMMARY:HOUSE OF MAGIC
DESCRIPTION:Über 110 Exponate laden in 19 Räumen ein, Magie und Wissenschaft zu entdecken und Illusionen mit viel Action zu erleben.\n\nhttps://eventfrog.de/de/p/freizeit-ausfluege/sonstige-veranstaltungen/house-of-magic-7452699312960616090.html
LOCATION:HOUSE OF MAGIC
GEO:51.491291;6.877462
URL:https://eventfrog.de/de/p/freizeit-ausfluege/sonstige-veranstaltungen/house-of-magic-7452699312960616090.html
END:VEVENT
BEGIN:VEVENT
UID:20260425T181051Z-7452699313061279388@eventfrog.de
DTSTAMP:20260425T181051Z
DTSTART:20261209T140000Z
DTEND:20261209T190000Z
SUMMARY:HOUSE OF MAGIC
DESCRIPTION:Über 110 Exponate laden in 19 Räumen ein, Magie und Wissenschaft zu entdecken und Illusionen mit viel Action zu erleben.\n\nhttps://eventfrog.de/de/p/freizeit-ausfluege/sonstige-veranstaltungen/house-of-magic-7452699313061279388.html
LOCATION:HOUSE OF MAGIC
GEO:51.491291;6.877462
URL:https://eventfrog.de/de/p/freizeit-ausfluege/sonstige-veranstaltungen/house-of-magic-7452699313061279388.html
END:VEVENT
BEGIN:VEVENT
UID:20260425T181051Z-7452699313149359775@eventfrog.de
DTSTAMP:20260425T181051Z
DTSTART:20261216T140000Z
DTEND:20261216T190000Z
SUMMARY:HOUSE OF MAGIC
DESCRIPTION:Über 110 Exponate laden in 19 Räumen ein, Magie und Wissenschaft zu entdecken und Illusionen mit viel Action zu erleben.\n\nhttps://eventfrog.de/de/p/freizeit-ausfluege/sonstige-veranstaltungen/house-of-magic-7452699313149359775.html
LOCATION:HOUSE OF MAGIC
GEO:51.491291;6.877462
URL:https://eventfrog.de/de/p/freizeit-ausfluege/sonstige-veranstaltungen/house-of-magic-7452699313149359775.html
END:VEVENT
BEGIN:VEVENT
UID:20260425T181051Z-7452699313224857251@eventfrog.de
DTSTAMP:20260425T181051Z
DTSTART:20261223T140000Z
DTEND:20261223T190000Z
SUMMARY:HOUSE OF MAGIC
DESCRIPTION:Über 110 Exponate laden in 19 Räumen ein, Magie und Wissenschaft zu entdecken und Illusionen mit viel Action zu erleben.\n\nhttps://eventfrog.de/de/p/freizeit-ausfluege/sonstige-veranstaltungen/house-of-magic-7452699313224857251.html
LOCATION:HOUSE OF MAGIC
GEO:51.491291;6.877462
URL:https://eventfrog.de/de/p/freizeit-ausfluege/sonstige-veranstaltungen/house-of-magic-7452699313224857251.html
END:VEVENT
BEGIN:VEVENT
UID:20260425T181051Z-7452699313296160421@eventfrog.de
DTSTAMP:20260425T181051Z
DTSTART:20261230T140000Z
DTEND:20261230T190000Z
SUMMARY:HOUSE OF MAGIC
DESCRIPTION:Über 110 Exponate laden in 19 Räumen ein, Magie und Wissenschaft zu entdecken und Illusionen mit viel Action zu erleben.\n\nhttps://eventfrog.de/de/p/freizeit-ausfluege/sonstige-veranstaltungen/house-of-magic-7452699313296160421.html
LOCATION:HOUSE OF MAGIC
GEO:51.491291;6.877462
URL:https://eventfrog.de/de/p/freizeit-ausfluege/sonstige-veranstaltungen/house-of-magic-7452699313296160421.html
END:VEVENT
END:VCALENDAR