BEGIN:VCALENDAR
VERSION:2.0
PRODID:EVENTFROG//EVENTGROUP//ICAL
BEGIN:VEVENT
UID:20260422T210550Z-7452710545654868274@eventfrog.de
DTSTAMP:20260422T210550Z
DTSTART:20260819T143000Z
SUMMARY:Zirkus Chnopf - UFE
DESCRIPTION:UFE ist die neuste Produktion vom Zirkus Chnopf mit 5 Profis und 5 Jugendlichen und jungen Artist:innen zwischen 14 und 23 - unter freiem Himmel.\n\nhttps://eventfrog.de/de/p/musicals-shows/zirkus/zirkus-chnopf-ufe-7452710545654868274.html
LOCATION:Schützi
GEO:47.350100;7.902590
URL:https://eventfrog.de/de/p/musicals-shows/zirkus/zirkus-chnopf-ufe-7452710545654868274.html
END:VEVENT
BEGIN:VEVENT
UID:20260422T210550Z-7452711475494292415@eventfrog.de
DTSTAMP:20260422T210550Z
DTSTART:20260821T173000Z
SUMMARY:Zirkus Chnopf - UFE
DESCRIPTION:UFE ist die neuste Produktion vom Zirkus Chnopf mit 5 Profis und 5 Jugendlichen und jungen Artist:innen zwischen 14 und 23 - unter freiem Himmel.\n\nhttps://eventfrog.de/de/p/musicals-shows/zirkus/zirkus-chnopf-ufe-7452711475494292415.html
LOCATION:Schützi
GEO:47.350100;7.902590
URL:https://eventfrog.de/de/p/musicals-shows/zirkus/zirkus-chnopf-ufe-7452711475494292415.html
END:VEVENT
BEGIN:VEVENT
UID:20260422T210550Z-7452711545216210454@eventfrog.de
DTSTAMP:20260422T210550Z
DTSTART:20260822T173000Z
SUMMARY:Zirkus Chnopf - UFE
DESCRIPTION:UFE ist die neuste Produktion vom Zirkus Chnopf mit 5 Profis und 5 Jugendlichen und jungen Artist:innen zwischen 14 und 23 - unter freiem Himmel.\n\nhttps://eventfrog.de/de/p/musicals-shows/zirkus/zirkus-chnopf-ufe-7452711545216210454.html
LOCATION:Schützi
GEO:47.350100;7.902590
URL:https://eventfrog.de/de/p/musicals-shows/zirkus/zirkus-chnopf-ufe-7452711545216210454.html
END:VEVENT
BEGIN:VEVENT
UID:20260422T210550Z-7452711642859609882@eventfrog.de
DTSTAMP:20260422T210550Z
DTSTART:20260823T143000Z
SUMMARY:Zirkus Chnopf - UFE
DESCRIPTION:UFE ist die neuste Produktion vom Zirkus Chnopf mit 5 Profis und 5 Jugendlichen und jungen Artist:innen zwischen 14 und 23 - unter freiem Himmel.\n\nhttps://eventfrog.de/de/p/musicals-shows/zirkus/zirkus-chnopf-ufe-7452711642859609882.html
LOCATION:Schützi
GEO:47.350100;7.902590
URL:https://eventfrog.de/de/p/musicals-shows/zirkus/zirkus-chnopf-ufe-7452711642859609882.html
END:VEVENT
END:VCALENDAR