BEGIN:VCALENDAR
VERSION:2.0
PRODID:EVENTFROG//EVENTGROUP//ICAL
BEGIN:VEVENT
UID:20260424T065549Z-7439441731370675963@eventfrog.de
DTSTAMP:20260424T065549Z
DTSTART:20260429T170000Z
SUMMARY:Abend in der Sternwarte
DESCRIPTION:Ein gemeinsamer Blick in die Sterne.\n\nhttps://eventfrog.de/de/p/wissenschaft-und-technik/abend-in-der-sternwarte-7439441731370675963.html
LOCATION:Planetarium | Bodensee
GEO:47.641511;9.159443
URL:https://eventfrog.de/de/p/wissenschaft-und-technik/abend-in-der-sternwarte-7439441731370675963.html
END:VEVENT
BEGIN:VEVENT
UID:20260424T065549Z-7452110641102382407@eventfrog.de
DTSTAMP:20260424T065549Z
DTSTART:20260506T170000Z
SUMMARY:Abend in der Sternwarte
DESCRIPTION:Ein gemeinsamer Blick in die Sterne.\n\nhttps://eventfrog.de/de/p/wissenschaft-und-technik/abend-in-der-sternwarte-7452110641102382407.html
LOCATION:Planetarium | Bodensee
GEO:47.641511;9.159443
URL:https://eventfrog.de/de/p/wissenschaft-und-technik/abend-in-der-sternwarte-7452110641102382407.html
END:VEVENT
BEGIN:VEVENT
UID:20260424T065549Z-7452110641278543177@eventfrog.de
DTSTAMP:20260424T065549Z
DTSTART:20260513T170000Z
SUMMARY:Abend in der Sternwarte
DESCRIPTION:Ein gemeinsamer Blick in die Sterne.\n\nhttps://eventfrog.de/de/p/wissenschaft-und-technik/abend-in-der-sternwarte-7452110641278543177.html
LOCATION:Planetarium | Bodensee
GEO:47.641511;9.159443
URL:https://eventfrog.de/de/p/wissenschaft-und-technik/abend-in-der-sternwarte-7452110641278543177.html
END:VEVENT
BEGIN:VEVENT
UID:20260424T065549Z-7452110641450509642@eventfrog.de
DTSTAMP:20260424T065549Z
DTSTART:20260520T170000Z
SUMMARY:Abend in der Sternwarte
DESCRIPTION:Ein gemeinsamer Blick in die Sterne.\n\nhttps://eventfrog.de/de/p/wissenschaft-und-technik/abend-in-der-sternwarte-7452110641450509642.html
LOCATION:Planetarium | Bodensee
GEO:47.641511;9.159443
URL:https://eventfrog.de/de/p/wissenschaft-und-technik/abend-in-der-sternwarte-7452110641450509642.html
END:VEVENT
BEGIN:VEVENT
UID:20260424T065549Z-7452110641626670411@eventfrog.de
DTSTAMP:20260424T065549Z
DTSTART:20260527T170000Z
SUMMARY:Abend in der Sternwarte
DESCRIPTION:Ein gemeinsamer Blick in die Sterne.\n\nhttps://eventfrog.de/de/p/wissenschaft-und-technik/abend-in-der-sternwarte-7452110641626670411.html
LOCATION:Planetarium | Bodensee
GEO:47.641511;9.159443
URL:https://eventfrog.de/de/p/wissenschaft-und-technik/abend-in-der-sternwarte-7452110641626670411.html
END:VEVENT
END:VCALENDAR